{"text_format":"1","workbook":"xlsx","n_sheets":4,"sheets":["TH","Panels","Path","Guides"],"not_rendered":{"charts":3,"images":0,"macros":1,"external_links":0,"defined_names":12,"comments":0,"pivot_tables":0},"unopened":[],"bounds":{"document_bytes":16777216,"sheet_cells":100000,"rows_first":2000,"rows_last":500,"rows_between":2000,"halvings":0,"cell_chars":16384,"cell_head_chars":4096},"cells_cut":0,"cells_raw":0,"read":"whole","date_system":"1900"}

{"sheet":"TH","index":0,"n_rows":104,"n_cols":11,"rows_kept":104,"cut":false,"hidden":false,"merged":[[4,8,4,10],[64,3,64,17],[66,3,66,7],[67,3,67,7],[68,3,68,7],[69,3,69,7],[70,3,70,7],[71,3,71,7],[72,3,72,7],[73,3,73,7],[74,3,74,7],[75,3,75,7],[76,3,76,7],[77,3,77,7],[78,3,78,7],[79,3,79,7],[80,3,80,7],[81,3,81,7],[82,3,82,7],[83,3,83,7],[84,3,84,7],[85,3,85,7],[86,3,86,7],[87,3,87,7],[88,3,88,7],[89,3,89,7],[90,3,90,7],[91,3,91,7],[92,3,92,7],[93,3,93,7],[94,3,94,7],[100,3,100,7],[101,3,101,7],[102,3,102,7],[103,3,103,7],[95,3,95,7],[96,3,96,7],[97,3,97,7],[98,3,98,7],[99,3,99,7]]}
[null,"Version","=",1.4]
[]
[null,"Driver Dimensions"]
[null,"Frame Width","=",{"$f":"21.5*2.54","v":54.61},"cm",{"$f":"D4/2.54","v":21.5},"in",null,"Plot"]
[null,"Mounting Width","=",{"$f":"20*2.54","v":50.8},"cm",{"$f":"D5/2.54","v":20},"in","x","Panel A (bottom)"]
[null,"Mounting Depth","=",{"$f":"10.3*2.54","v":26.162000000000003},"cm",{"$f":"D6/2.54","v":10.3},"in","x","Panel B (top)"]
[null,"Magnet Width","=",21,"cm",{"$f":"D7/2.54","v":8.2677165354330704},"in","x","Panel C (sides)"]
[null,"Magnet Height","=",8,"cm",{"$f":"D8/2.54","v":3.1496062992125982},"in","x","Panel D (front)"]
[null,null,null,null,null,null,null,"x","Panel E (back)"]
[null,"Box Dimensions",null,null,null,null,null,"x","Panel F (baffle)"]
[null,"Height","=",{"$f":"36*2.54","v":91.44},"cm",{"$f":"D11/2.54","v":36},"in","x","Panel G (2nd inside)"]
[null,"Width","=",{"$f":"24*2.54","v":60.96},"cm",{"$f":"D12/2.54","v":24},"in","x","Panel H (3rd inside)"]
[null,"Depth","=",{"$f":"36*2.54","v":91.44},"cm",{"$f":"D13/2.54","v":36},"in","x","Panel I (4th inside)"]
[null,null,null,null,null,null,null,"x","Panel J (5th inside)"]
[null,"driver offset","=",30,"cm",{"$f":"D15/2.54","v":11.811023622047244},"in"]
[null,null,null,null,null,null,null,null,"Plot"]
[null,"HornResp Params",null,null,null,null,null,"x","Advanced Centerline"]
[null,"S1","=",403,"cm^2",null,null,"x","Sample points"]
[null,"S2","=",{"$f":"Path!D4","v":402.99999999999864},"cm^2",null,null,"x","Driver"]
[null,"S3","=",{"$f":"Path!D5","v":1813.6312480698434},"cm^2",null,null,"o","Guides"]
[null,"S4","=",{"$f":"Path!D6","v":1943.8572308784649},"cm^2"]
[null,"S5","=",{"$f":"Path!D7","v":2082.9265366884524},"cm^2"]
[null,"L12","=",{"$f":"Path!G4","v":31.577481161143542},"cm"]
[null,"L23","=",{"$f":"Path!G5","v":294.90217003108199},"cm"]
[null,"L34","=",{"$f":"Path!G6","v":27.281227887772047},"cm"]
[null,"L45","=",{"$f":"Path!G7","v":29.133828305002169},"cm"]
[null,"L (actual)","=",{"$f":"Path!G9","v":382.89470738499978},"cm",null,null,null,null,null,{"$f":"ABS(G45)+ABS(G46)+ABS(G47)+ABS(G48)+ABS(G49)+ABS(G50)+ABS(G51)+ABS(G52)+ABS(G53)+ABS(E62)","v":1.3759286936760873E-3}]
[]
[null,"Expansion Type"]
[null,"L12 Expansion","=","Par"]
[null,"L23 Expansion","=","Exp",null,"Par, Con, Exp, Hyp"]
[null,"L34 Expansion","=","Par"]
[null,"L45 Expansion","=","Par"]
[null,"Ideal box width","=",{"$f":"D22^0.5+2*D45","v":49.439090007234505},"cm"]
[]
[null,"Horn Design"]
[null,"Vol. (net)","=",{"$f":"D38-I56","v":427.09101308607137},"l.",{"$f":"(D37*1000/2.54^3)/1728","v":15.082576786877533},"cu.ft."]
[null,"Vol. (gross)","=",{"$f":"D11*D12*D13/1000","v":509.70323865599994},"l.",{"$f":"(D38*1000/2.54^3)/1728","v":18},"cu.ft."]
[]
[null,"Expansion 1","=",4.7820260215391599,{"$f":"Path!I7","v":4.7820179082218921}]
[null,"Panels",null,"p","x","y",null,"#","v"]
[null,{"$f":"I5","v":"Panel A (bottom)"},null,1.9,{"$f":"D12-2*D45","v":57.160000000000004},{"$f":"Panels!K7","v":91.44},null,1,{"$f":"F42*E42*D42*H42/10^3","v":9.9307497599999994}]
[null,"Panel B (top)",null,1.9,{"$f":"D12-2*D45","v":57.160000000000004},{"$f":"Panels!K13","v":91.44},null,1,{"$f":"F43*E43*D43*H43/10^3","v":9.9307497599999994}]
[null,{"$f":"I9","v":"Panel E (back)"},null,1.9,{"$f":"E47","v":57.160000000000004},{"$f":"Panels!K31","v":87.639999999999986},null,1,{"$f":"F44*E44*D44*H44/10^3","v":9.5180545599999995}]
[null,{"$f":"I7","v":"Panel C (sides)"},null,1.9,{"$f":"D13","v":91.44},{"$f":"D11","v":91.44},null,2,31.772839680000001]
[null,{"$f":"I8","v":"Panel D (front)"},null,1.9,{"$f":"E47","v":57.160000000000004},49.267964632107876,{"$f":"Path!AD105","v":-5.1358445489313453E-5},1,5.3506980309054439]
[null,"Panel F (baffle)",null,1.9,{"$f":"E42","v":57.160000000000004},62.777481161143534,{"$f":"Path!AD117","v":-1.2043416313645139E-4},1,6.8178855640248317]
[null,"Panel G (2nd inside)",null,1.2,{"$f":"E47","v":57.160000000000004},32.931649570643074,{"$f":"Path!AD78","v":-4.5073989463162434E-4},1,2.2588477073495494]
[null,"Panel H (3rd inside)",null,1.2,{"$f":"E47","v":57.160000000000004},52.209346976209943,{"$f":"Path!AD45","v":2.398786148205545E-5},1,3.5811435277921921]
[null,null,null,null,null,8.2503848845346184,{"$f":"Path!D3-TH!D18","v":-1.1937117960769683E-12}]
[null,{"$f":"I13","v":"Panel I (4th inside)"},null,1.2,{"$f":"E42","v":57.160000000000004},50.315736235370657,{"$f":"Path!AD69","v":5.4824566973366018E-5},1,3.4512569798565442]
[null,null,null,null,null,15.86217137546091,{"$f":"Path!AD54","v":6.7187811521307594E-4}]
[null,{"$f":"I14","v":"Panel J (5th inside)"},null,1.2,{"$f":"E44","v":57.160000000000004},48.748664423020479,{"$f":"Path!AD93","v":3.6444134821067564E-8},1,{"$f":"F53*E53*D53*H53/10^3","v":3.3437683901038207}]
[]
[]
[null,null,null,null,null,null,null,"Pnl Vol",{"$f":"SUM(I42:I51)","v":82.612225569928555},"l"]
[]
[null,"Cone Volume","=",7400,"cm^3"]
[null,"Cone Vol. Adj. (S2)","=",0,"cm^3"]
[null,"Cone Area Adj. (S2)","=",{"$f":"D58-D59","v":7400},"cm^2"]
[]
[null,"Hyperbolic T","=",0.49209996710956766,{"$f":"Path!R3","v":2.6692014216678217E-6}]
[]
[]
[null,"Filename","=","I:\\Users\\Brian.Steele\\OneDrive\\Hornresp\\Import\\BOXPLAN.TXT"]
[]
[null,"ID","=","29.00",null,null,null,null,null,{"$f":"CONCATENATE(B67,C67,D67)","v":"ID=29.00"}]
[null,"Ang","=","2.0 x PI",null,null,null,null,null,{"$f":"CONCATENATE(B68,C68,D68)","v":"Ang=2.0 x PI"}]
[null,"Eg","=",2.83,null,null,null,null,null,"Eg=2.83"]
[null,"Rg","=",0,null,null,null,null,null,"Rg=0"]
[null,"Fta","=",0,null,null,null,null,null,"Fta=0"]
[null,"S1","=",{"$f":"ROUND(D18,0)","v":403},null,null,null,null,null,"S1=403"]
[null,"S2","=",{"$f":"ROUND(D19,0)","v":403},null,null,null,null,null,"S2=403"]
[null,{"$f":"D30","v":"Par"},"=",{"$f":"ROUND(D23,1)","v":31.6},null,null,null,null,null,"Par=31.6"]
[null,"F12","=",0,null,null,null,null,null,"F12=0"]
[null,"S2","=",{"$f":"ROUND(D73,0)","v":403},null,null,null,null,null,"S2=403"]
[null,"S3","=",{"$f":"ROUND(D20,0)","v":1814},null,null,null,null,null,"S3=1814"]
[null,{"$f":"D31","v":"Exp"},"=",{"$f":"ROUND(D24,1)","v":294.89999999999998},null,null,null,null,null,"Exp=294.9"]
[null,"F23","=",0,null,null,null,null,null,"F23=0"]
[null,"S3","=",{"$f":"D77","v":1814},null,null,null,null,null,"S3=1814"]
[null,"S4","=",{"$f":"ROUND(D21,0)","v":1944},null,null,null,null,null,"S4=1944"]
[null,{"$f":"D32","v":"Par"},"=",{"$f":"ROUND(D25,1)","v":27.3},null,null,null,null,null,"Par=27.3"]
[null,"F34","=",0,null,null,null,null,null,"F34=0"]
[null,"S4","=",{"$f":"D81","v":1944},null,null,null,null,null,"S4=1944"]
[null,"S5","=",{"$f":"ROUND(D22,0)","v":2083},null,null,null,null,null,"S5=2083"]
[null,{"$f":"D33","v":"Par"},"=",{"$f":"ROUND(D26,1)","v":29.1},null,null,null,null,null,"Par=29.1"]
[null,"F45","=",0,null,null,null,null,null,"F45=0"]
[null,"Sd","=",1680,null,null,null,null,null,"Sd=1680"]
[null,"Bl","=",32.57,null,null,null,null,null,"Bl=32.57"]
[null,"Cms","=",5.3499999999999999E-5,null,null,null,null,null,"Cms=0.0000535"]
[null,"Rms","=",13.2,null,null,null,null,null,"Rms=13.2"]
[null,"Mmd","=",422.82,null,null,null,null,null,"Mmd=422.82"]
[null,"Le","=",1.5,null,null,null,null,null,"Le=1.5"]
[null,"Re","=",3.4,null,null,null,null,null,"Re=3.4"]
[null,"TH","=",1,null,null,null,null,null,"TH=1"]
[null,"Vrc","=",0,null,null,null,null,null,"Vrc=0"]
[null,"Lrc","=",0,null,null,null,null,null,"Lrc=0"]
[null,"Ap1","=",0,null,null,null,null,null,"Ap1=0"]
[null,"Lp","=",0,null,null,null,null,null,"Lp=0"]
[null,"Vtc","=",{"$f":"D60","v":7400},null,null,null,null,null,"Vtc=7400"]
[null,"Atc","=",{"$f":"D88","v":1680},null,null,null,null,null,"Atc=1680"]
[null,"Pmax","=",2000,null,null,null,null,null,"Pmax=2000"]
[null,"Xmax","=",15,null,null,null,null,null,"Xmax=15"]
[null,"Comment","=","BOXPLAN-Export Othorn TH",null,null,null,null,null,"Comment=BOXPLAN-Export Othorn TH"]

{"sheet":"Panels","index":1,"n_rows":64,"n_cols":24,"rows_kept":64,"cut":false,"hidden":false,"merged":[]}
[]
[]
[]
[]
[null,null,"x","y",null,"x","y",null,"dx","dy",null,"A","B"]
[{"$f":"TH!I5","v":"Panel A (bottom)"},null,{"$f":"C19","v":0},{"$f":"D19","v":91.44},null,{"$f":"IF($B10=\"x\",C6,TH!$D$211)","v":0},{"$f":"IF($B10=\"x\",D6,TH!$D$212)","v":91.44},null,null,null,null,null,null,null,"Expansion","Cos","Sin","Cos","Tan","1/2","Cos","Sin","Cos","Tan"]
[null,null,{"$f":"C6","v":0},{"$f":"D20","v":0},null,{"$f":"IF($B10=\"x\",C7,TH!$D$211)","v":0},{"$f":"IF($B10=\"x\",D7,TH!$D$212)","v":0},null,{"$f":"C6-C7","v":0},91.44,{"$f":"(I7^2+J7^2)^0.5","v":91.44},null,null,null,{"$f":"TH!$D$40","v":4.7820260215391599},{"$f":"COS($O7*PI()/180)","v":0.99651906038272886},{"$f":"SIN($O7*PI()/180)","v":8.336523432416626E-2},{"$f":"P7","v":0.99651906038272886},{"$f":"TAN($O7*PI()/180)","v":8.3656437331111888E-2},{"$f":"O7/2","v":2.3910130107695799},{"$f":"COS($T7*PI()/(180*2))","v":0.99978232283617885},{"$f":"SIN($T7*PI()/(180*2))","v":2.086401074325454E-2},{"$f":"U7","v":0.99978232283617885},{"$f":"TAN($T7*PI()/(180*2))","v":2.0868553350760984E-2}]
[null,null,{"$f":"C7+TH!D42","v":1.9},{"$f":"D7","v":0},null,{"$f":"IF($B10=\"x\",C8,TH!$D$211)","v":1.9},{"$f":"IF($B10=\"x\",D8,TH!$D$212)","v":0},null,-1.9,0,{"$f":"(I8^2+J8^2)^0.5","v":1.9}]
[null,null,{"$f":"C8","v":1.9},{"$f":"D6","v":91.44},null,{"$f":"IF($B10=\"x\",C9,TH!$D$211)","v":1.9},{"$f":"IF($B10=\"x\",D9,TH!$D$212)","v":91.44},null,0,-91.44,{"$f":"(I9^2+J9^2)^0.5","v":91.44}]
["Plot?",{"$f":"TH!H5","v":"x"},{"$f":"C6","v":0},{"$f":"D6","v":91.44},null,{"$f":"IF($B10=\"x\",C10,TH!$D$211)","v":0},{"$f":"IF($B10=\"x\",D10,TH!$D$212)","v":91.44},null,1.9,0,{"$f":"(I10^2+J10^2)^0.5","v":1.9}]
[]
[{"$f":"TH!I6","v":"Panel B (top)"},null,{"$f":"C18","v":91.44},{"$f":"D18","v":91.44},null,{"$f":"IF($B16=\"x\",C12,TH!$D$211)","v":91.44},{"$f":"IF($B16=\"x\",D12,TH!$D$212)","v":91.44}]
[null,null,{"$f":"C12","v":91.44},{"$f":"D20","v":0},null,{"$f":"IF($B16=\"x\",C13,TH!$D$211)","v":91.44},{"$f":"IF($B16=\"x\",D13,TH!$D$212)","v":0},null,{"$f":"C12-C13","v":0},91.44,{"$f":"(I13^2+J13^2)^0.5","v":91.44}]
[null,null,{"$f":"C13-TH!D42","v":89.539999999999992},{"$f":"D13","v":0},null,{"$f":"IF($B16=\"x\",C14,TH!$D$211)","v":89.539999999999992},{"$f":"IF($B16=\"x\",D14,TH!$D$212)","v":0},null,1.9000000000000057,0,{"$f":"(I14^2+J14^2)^0.5","v":1.9000000000000057},null,null,null,null,null,null,null,"x","y","dX","dY","l","Delta"]
[null,null,{"$f":"C14","v":89.539999999999992},{"$f":"D12","v":91.44},null,{"$f":"IF($B16=\"x\",C15,TH!$D$211)","v":89.539999999999992},{"$f":"IF($B16=\"x\",D15,TH!$D$212)","v":91.44},null,0,-91.44,{"$f":"(I15^2+J15^2)^0.5","v":91.44},null,null,null,null,null,null,null,{"$f":"C38","v":33.145189725885267},{"$f":"D38","v":62.400562594681304}]
["Plot?",{"$f":"TH!H6","v":"x"},{"$f":"C12","v":91.44},{"$f":"D12","v":91.44},null,{"$f":"IF($B16=\"x\",C16,TH!$D$211)","v":91.44},{"$f":"IF($B16=\"x\",D16,TH!$D$212)","v":91.44},null,-1.9000000000000057,0,{"$f":"(I16^2+J16^2)^0.5","v":1.9000000000000057},null,null,null,null,null,null,null,{"$f":"C39","v":38.378649153164929},{"$f":"D39","v":-0.15839394521591288},{"$f":"S15-S16","v":-5.2334594272796622},{"$f":"T15-T16","v":62.558956539897217},{"$f":"(U16^2+V16^2)^0.5","v":62.777481161143534},{"$f":"V16/U16","v":-11.953652724201053}]
[]
[{"$f":"TH!I7","v":"Panel C (sides)"},null,{"$f":"TH!F45","v":91.44},{"$f":"TH!E45","v":91.44},null,{"$f":"IF($B22=\"x\",C18,TH!$D$211)","v":91.44},{"$f":"IF($B22=\"x\",D18,TH!$D$212)","v":91.44},null,null,null,null,null,null,null,null,null,null,null,{"$f":"IF(TH!$H$20=\"x\",TH!$D$56*SIN(ATAN($X$16)),0)","v":0},{"$f":"IF(TH!$H$20=\"x\",TH!$D$56*COS(ATAN($X$16)),0)","v":0}]
[null,null,{"$f":"TH!D211","v":0},{"$f":"D18","v":91.44},null,{"$f":"IF($B22=\"x\",C19,TH!$D$211)","v":0},{"$f":"IF($B22=\"x\",D19,TH!$D$212)","v":91.44},null,{"$f":"C18-C19","v":91.44},0,{"$f":"(I19^2+J19^2)^0.5","v":91.44},null,null,null,null,null,"Driver"]
[null,null,{"$f":"C19","v":0},{"$f":"TH!D212","v":0},null,{"$f":"IF($B22=\"x\",C20,TH!$D$211)","v":0},{"$f":"IF($B22=\"x\",D20,TH!$D$212)","v":0},null,0,91.44,{"$f":"(I20^2+J20^2)^0.5","v":91.44},null,null,null,null,null,"Face (1)",{"$f":"TH!$H$19","v":"x"},{"$f":"S21+(TH!$D$4*COS(ATAN($X$16)))/2+S18","v":38.153979846661301},{"$f":"T21+(TH!$D$4*SIN(ATAN($X$16)))/2","v":2.5272249225155434},{"$f":"IF(R20=\"x\",S20,0)","v":38.153979846661301},{"$f":"IF(R20=\"x\",T20,0)","v":2.5272249225155434}]
[null,null,{"$f":"C18","v":91.44},{"$f":"D20","v":0},null,{"$f":"IF($B22=\"x\",C21,TH!$D$211)","v":91.44},{"$f":"IF($B22=\"x\",D21,TH!$D$212)","v":0},null,-91.44,0,{"$f":"(I21^2+J21^2)^0.5","v":91.44},null,null,null,null,null,null,{"$f":"TH!$H$19","v":"x"},{"$f":"S16+U16*TH!D15/W16-S18","v":35.877692123439942},{"$f":"T16+(V16*TH!D15/W16)-T18","v":29.737177866265956},35.877692123439942,29.737177866265956]
["Plot?",{"$f":"TH!H7","v":"x"},{"$f":"C18","v":91.44},{"$f":"D18","v":91.44},null,{"$f":"IF($B22=\"x\",C22,TH!$D$211)","v":91.44},{"$f":"IF($B22=\"x\",D22,TH!$D$212)","v":91.44},null,0,-91.44,{"$f":"(I22^2+J22^2)^0.5","v":91.44},null,null,null,null,null,null,{"$f":"TH!$H$19","v":"x"},{"$f":"S21+TH!$D$6*SIN(ATAN($X$16))","v":9.8067604657069865},{"$f":"T21-TH!$D$6*COS(ATAN($X$16))","v":27.55617660587712},9.8067604657069865,27.55617660587712]
[null,null,null,null,null,null,null,null,null,null,null,null,null,null,null,null,null,{"$f":"TH!$H$19","v":"x"},{"$f":"S22+TH!$D$7*COS(ATAN($X$16))/2","v":10.682095426110731},{"$f":"T22+TH!$D$7*SIN(ATAN($X$16))/2","v":17.092726471858466},10.682095426110731,17.092726471858466]
[{"$f":"TH!I8","v":"Panel D (front)"},null,{"$f":"C14-TH!F46","v":40.272035367892116},{"$f":"D20+TH!D46","v":1.9},null,{"$f":"IF($B28=\"x\",C24,TH!$D$211)","v":40.272035367892116},{"$f":"IF($B28=\"x\",D24,TH!$D$212)","v":1.9},null,null,null,null,null,null,null,null,null,null,{"$f":"TH!$H$19","v":"x"},{"$f":"S23-TH!$D$8*SIN(ATAN($X$16))","v":18.654247909172561},{"$f":"T23+TH!$D$8*COS(ATAN($X$16))","v":17.759648346451794},18.654247909172561,17.759648346451794]
[null,null,{"$f":"C14","v":89.539999999999992},{"$f":"D24","v":1.9},null,{"$f":"IF($B28=\"x\",C25,TH!$D$211)","v":89.539999999999992},{"$f":"IF($B28=\"x\",D25,TH!$D$212)","v":1.9},null,{"$f":"C24-C25","v":-49.267964632107876},0,{"$f":"(I25^2+J25^2)^0.5","v":49.267964632107876},null,null,null,null,null,null,{"$f":"TH!$H$19","v":"x"},{"$f":"S21+TH!$D$5*COS(ATAN($X$16))/2","v":37.995169075273765},{"$f":"T21+(TH!$D$5)*SIN(ATAN($X$16))/2","v":4.4255937325446446},37.995169075273765,4.4255937325446446]
[null,null,{"$f":"C25","v":89.539999999999992},{"$f":"D25-TH!D46","v":0},null,{"$f":"IF($B28=\"x\",C26,TH!$D$211)","v":89.539999999999992},{"$f":"IF($B28=\"x\",D26,TH!$D$212)","v":0},null,0,1.9,{"$f":"(I26^2+J26^2)^0.5","v":1.9}]
[null,null,{"$f":"C24","v":40.272035367892116},{"$f":"D26","v":0},null,{"$f":"IF($B28=\"x\",C27,TH!$D$211)","v":40.272035367892116},{"$f":"IF($B28=\"x\",D27,TH!$D$212)","v":0},null,49.267964632107876,0,{"$f":"(I27^2+J27^2)^0.5","v":49.267964632107876},null,null,null,null,null,null,{"$f":"TH!$H$19","v":"x"},{"$f":"S28-(TH!$D$4*COS(ATAN($X$16)))/2","v":33.601404400218584},{"$f":"T28-(TH!$D$4*SIN(ATAN($X$16)))/2","v":56.947130810016368},{"$f":"IF(R27=\"x\",S27,0)","v":33.601404400218584},{"$f":"IF(R27=\"x\",T27,0)","v":56.947130810016368}]
["Plot?",{"$f":"TH!H8","v":"x"},{"$f":"C24","v":40.272035367892116},{"$f":"D24","v":1.9},null,{"$f":"IF($B28=\"x\",C28,TH!$D$211)","v":40.272035367892116},{"$f":"IF($B28=\"x\",D28,TH!$D$212)","v":1.9},null,0,-1.9,{"$f":"(I28^2+J28^2)^0.5","v":1.9},null,null,null,null,null,null,{"$f":"TH!$H$19","v":"x"},{"$f":"S21","v":35.877692123439942},{"$f":"T21","v":29.737177866265956},35.877692123439942,29.737177866265956]
[null,null,null,null,null,null,null,null,null,null,null,null,null,null,null,null,null,{"$f":"TH!$H$19","v":"x"},{"$f":"S22","v":9.8067604657069865},{"$f":"T22","v":27.55617660587712},9.8067604657069865,27.55617660587712]
[{"$f":"TH!I9","v":"Panel E (back)"},null,{"$f":"C19+TH!D42","v":1.9},{"$f":"D18","v":91.44},null,{"$f":"IF($B34=\"x\",C30,TH!$D$211)","v":1.9},{"$f":"IF($B34=\"x\",D30,TH!$D$212)","v":91.44},null,null,null,null,null,null,null,null,null,null,{"$f":"TH!$H$19","v":"x"},{"$f":"S29-TH!$D$7*COS(ATAN($X$16))/2","v":8.9314255053032419},{"$f":"T29-TH!$D$7*SIN(ATAN($X$16))/2","v":38.01962673989577},8.9314255053032419,38.01962673989577]
[null,null,{"$f":"C18-TH!D43","v":89.539999999999992},{"$f":"D30","v":91.44},null,{"$f":"IF($B34=\"x\",C31,TH!$D$211)","v":89.539999999999992},{"$f":"IF($B34=\"x\",D31,TH!$D$212)","v":91.44},null,{"$f":"C30-C31","v":-87.639999999999986},0,{"$f":"(I31^2+J31^2)^0.5","v":87.639999999999986},null,null,null,null,null,null,{"$f":"TH!$H$19","v":"x"},{"$f":"S30-TH!$D$8*SIN(ATAN($X$16))","v":16.903577988365072},{"$f":"T30+TH!$D$8*COS(ATAN($X$16))","v":38.686548614489098},16.903577988365072,38.686548614489098]
[null,null,{"$f":"C31","v":89.539999999999992},{"$f":"D31-TH!D44","v":89.539999999999992},null,{"$f":"IF($B34=\"x\",C32,TH!$D$211)","v":89.539999999999992},{"$f":"IF($B34=\"x\",D32,TH!$D$212)","v":89.539999999999992},null,0,1.9000000000000057,{"$f":"(I32^2+J32^2)^0.5","v":1.9000000000000057},null,null,null,null,null,null,{"$f":"TH!$H$19","v":"x"},{"$f":"S28-TH!$D$5*COS(ATAN($X$16))/2","v":33.76021517160612},{"$f":"T28-(TH!$D$5)*SIN(ATAN($X$16))/2","v":55.048761999987263},33.76021517160612,55.048761999987263]
[null,null,{"$f":"C30","v":1.9},{"$f":"D32","v":89.539999999999992},null,{"$f":"IF($B34=\"x\",C33,TH!$D$211)","v":1.9},{"$f":"IF($B34=\"x\",D33,TH!$D$212)","v":89.539999999999992},null,87.639999999999986,0,{"$f":"(I33^2+J33^2)^0.5","v":87.639999999999986}]
["Plot?",{"$f":"TH!H9","v":"x"},{"$f":"C33","v":1.9},{"$f":"D31","v":91.44},null,{"$f":"IF($B34=\"x\",C34,TH!$D$211)","v":1.9},{"$f":"IF($B34=\"x\",D34,TH!$D$212)","v":91.44},null,0,-1.9000000000000057,{"$f":"(I34^2+J34^2)^0.5","v":1.9000000000000057},null,null,null,null,null,null,{"$f":"TH!$H$19","v":"x"},{"$f":"S31","v":16.903577988365072},{"$f":"T31","v":38.686548614489098},{"$f":"IF(R34=\"x\",S34,0)","v":16.903577988365072},{"$f":"IF(R34=\"x\",T34,0)","v":38.686548614489098}]
[null,null,null,null,null,null,null,null,null,null,null,null,null,null,null,null,null,{"$f":"TH!$H$19","v":"x"},{"$f":"S24","v":18.654247909172561},{"$f":"T24","v":17.759648346451794},{"$f":"IF(R35=\"x\",S35,0)","v":18.654247909172561},{"$f":"IF(R35=\"x\",T35,0)","v":17.759648346451794}]
[{"$f":"TH!I10","v":"Panel F (baffle)"},null,{"$f":"C27","v":40.272035367892116},{"$f":"D27","v":0},null,{"$f":"IF($B40=\"x\",C36,TH!$D$211)","v":40.272035367892116},{"$f":"IF($B40=\"x\",D36,TH!$D$212)","v":0},null,null,null,null,{"$f":"IF(C37=C36,\"\",(D37-D36)/(C37-C36))","v":-11.953652724201053},{"$f":"IF(L36=\"\",\"\",D36-L36*C36)","v":481.39792528452472}]
["Angle",{"$f":"O7","v":4.7820260215391599},{"$f":"C36-TH!F47*B39","v":35.038575940612454},{"$f":"D36+TH!F47*A39","v":62.558956539897217},null,{"$f":"IF($B40=\"x\",C37,TH!$D$211)","v":35.038575940612454},{"$f":"IF($B40=\"x\",D37,TH!$D$212)","v":62.558956539897217},null,{"$f":"C36-C37","v":5.2334594272796622},-62.558956539897217,{"$f":"(I37^2+J37^2)^0.5","v":62.777481161143534},{"$f":"IF(C38=C37,\"\",(D38-D37)/(C38-C37))","v":8.3656437331110209E-2},{"$f":"IF(L37=\"\",\"\",D37-L37*C37)","v":59.627754107550025}]
["Cos","Sin",{"$f":"C37-TH!D47*A39","v":33.145189725885267},{"$f":"D37-TH!D47*B39","v":62.400562594681304},null,{"$f":"IF($B40=\"x\",C38,TH!$D$211)","v":33.145189725885267},{"$f":"IF($B40=\"x\",D38,TH!$D$212)","v":62.400562594681304},null,1.8933862147271867,0.15839394521591288,{"$f":"(I38^2+J38^2)^0.5","v":1.9000000000000015},{"$f":"IF(C39=C38,\"\",(D39-D38)/(C39-C38))","v":-11.953652724201053},{"$f":"IF(L38=\"\",\"\",D38-L38*C38)","v":458.60665005567046},null,null,null,"Graph Axes"]
[{"$f":"COS(B37*PI()/180)","v":0.99651906038272886},{"$f":"SIN(B37*PI()/180)","v":8.336523432416626E-2},{"$f":"C38+TH!F47*B39","v":38.378649153164929},{"$f":"D38-TH!F47*A39","v":-0.15839394521591288},null,{"$f":"IF($B40=\"x\",C39,TH!$D$211)","v":38.378649153164929},{"$f":"IF($B40=\"x\",D39,TH!$D$212)","v":-0.15839394521591288},null,-5.2334594272796622,62.558956539897217,{"$f":"(I39^2+J39^2)^0.5","v":62.777481161143534},{"$f":"IF(C40=C39,\"\",(D40-D39)/(C40-C39))","v":8.3656437331110209E-2},{"$f":"IF(L39=\"\",\"\",D39-L39*C39)","v":-3.3690150029503205},null,null,null,null,null,{"$f":"MIN(C6:D34)-5","v":-5},{"$f":"S39","v":-5}]
["Plot?",{"$f":"TH!H10","v":"x"},{"$f":"C36","v":40.272035367892116},{"$f":"D36","v":0},null,{"$f":"IF($B40=\"x\",C40,TH!$D$211)","v":40.272035367892116},{"$f":"IF($B40=\"x\",D40,TH!$D$212)","v":0},null,-1.8933862147271867,-0.15839394521591288,{"$f":"(I40^2+J40^2)^0.5","v":1.9000000000000015},null,null,null,null,null,null,null,{"$f":"S39","v":-5},{"$f":"MAX(C6:D34)","v":91.44}]
[]
[{"$f":"TH!I11","v":"Panel G (2nd inside)"},null,{"$f":"C37","v":35.038575940612454},{"$f":"D37","v":62.558956539897217},null,{"$f":"IF($B46=\"x\",C42,TH!$D$211)","v":35.038575940612454},{"$f":"IF($B46=\"x\",D42,TH!$D$212)","v":62.558956539897217},null,null,null,null,{"$f":"IF(C43=C42,\"\",(D43-D42)/(C43-C42))","v":-11.953652724200916},{"$f":"IF(L42=\"\",\"\",D42-L42*C42)","v":481.39792528451994},null,null,null,null,null,{"$f":"S39","v":-5},{"$f":"S42","v":-5}]
["Angle",{"$f":"O7","v":4.7820260215391599},{"$f":"C42+TH!D48*B45","v":35.138614221801454},{"$f":"D42-TH!D48*A45","v":61.363133667437943},null,{"$f":"IF($B46=\"x\",C43,TH!$D$211)","v":35.138614221801454},{"$f":"IF($B46=\"x\",D43,TH!$D$212)","v":61.363133667437943},null,{"$f":"C42-C43","v":-0.1000382811890006},1.1958228724592743,{"$f":"(I43^2+J43^2)^0.5","v":1.1999999999999997},{"$f":"IF(C44=C43,\"\",(D44-D43)/(C44-C43))","v":8.3656437331111694E-2},{"$f":"IF(L43=\"\",\"\",D43-L43*C43)","v":58.4235623888897},null,null,null,null,null,{"$f":"T40","v":91.44},{"$f":"T42","v":-5}]
["Cos","Sin",{"$f":"C43+TH!F48*A45","v":67.955630708791986},{"$f":"D43+TH!F48*B45","v":64.108488350575925},null,{"$f":"IF($B46=\"x\",C44,TH!$D$211)","v":67.955630708791986},{"$f":"IF($B46=\"x\",D44,TH!$D$212)","v":64.108488350575925},null,-32.817016486990532,-2.7453546831379825,{"$f":"(I44^2+J44^2)^0.5","v":32.931649570643067},{"$f":"IF(C45=C44,\"\",(D45-D44)/(C45-C44))","v":-11.953652724200916},{"$f":"IF(L44=\"\",\"\",D44-L44*C44)","v":876.42649849751876}]
[{"$f":"COS(B43*PI()/180)","v":0.99651906038272886},{"$f":"SIN(B43*PI()/180)","v":8.336523432416626E-2},{"$f":"C44-TH!D48*B45","v":67.855592427602986},{"$f":"D44+TH!D48*A45","v":65.304311223035199},null,{"$f":"IF($B46=\"x\",C45,TH!$D$211)","v":67.855592427602986},{"$f":"IF($B46=\"x\",D45,TH!$D$212)","v":65.304311223035199},null,0.1000382811890006,-1.1958228724592743,{"$f":"(I45^2+J45^2)^0.5","v":1.1999999999999997},{"$f":"IF(C46=C45,\"\",(D46-D45)/(C46-C45))","v":8.3656437331111694E-2},{"$f":"IF(L45=\"\",\"\",D45-L45*C45)","v":59.627754107549976}]
["Plot?",{"$f":"TH!H11","v":"x"},{"$f":"C42","v":35.038575940612454},{"$f":"D42","v":62.558956539897217},null,{"$f":"IF($B46=\"x\",C46,TH!$D$211)","v":35.038575940612454},{"$f":"IF($B46=\"x\",D46,TH!$D$212)","v":62.558956539897217},null,32.817016486990532,2.7453546831379825,{"$f":"(I46^2+J46^2)^0.5","v":32.931649570643067}]
[]
[{"$f":"TH!I12","v":"Panel H (3rd inside)"},null,{"$f":"C43+TH!$F$50*A45","v":43.36028001473376},{"$f":"D43+TH!$F$50*B45","v":62.050928936601728},null,{"$f":"IF($B52=\"x\",C48,TH!$D$211)","v":43.36028001473376},{"$f":"IF($B52=\"x\",D48,TH!$D$212)","v":62.050928936601728},null,null,null,null,{"$f":"IF(C49=C48,\"\",(D49-D48)/(C49-C48))","v":-11.953652724201056},{"$f":"IF(L48=\"\",\"\",D48-L48*C48)","v":580.36465825684456}]
["Angle",{"$f":"O7","v":4.7820260215391599},{"$f":"C48+TH!F49*B51","v":47.712724459317201},{"$f":"D48-TH!F49*A51","v":10.023319544673129},null,{"$f":"IF($B52=\"x\",C49,TH!$D$211)","v":47.712724459317201},{"$f":"IF($B52=\"x\",D49,TH!$D$212)","v":10.023319544673129},null,{"$f":"C48-C49","v":-4.3524444445834405},52.0276093919286,{"$f":"(I49^2+J49^2)^0.5","v":52.209346976209943},{"$f":"IF(C50=C49,\"\",(D50-D49)/(C50-C49))","v":8.3656437331111333E-2},{"$f":"IF(L49=\"\",\"\",D49-L49*C49)","v":6.0318430010456758}]
["Cos","Sin",{"$f":"C49-TH!D49*A51","v":46.516901586857927},{"$f":"D49-TH!D49*B51","v":9.9232812634841299},null,{"$f":"IF($B52=\"x\",C50,TH!$D$211)","v":46.516901586857927},{"$f":"IF($B52=\"x\",D50,TH!$D$212)","v":9.9232812634841299},null,1.1958228724592743,0.10003828118899882,{"$f":"(I50^2+J50^2)^0.5","v":1.1999999999999995},{"$f":"IF(C51=C50,\"\",(D51-D50)/(C51-C50))","v":-11.953652724201056},{"$f":"IF(L50=\"\",\"\",D50-L50*C50)","v":565.97016863862086}]
[{"$f":"COS(B49*PI()/180)","v":0.99651906038272886},{"$f":"SIN(B49*PI()/180)","v":8.336523432416626E-2},{"$f":"C50-TH!F49*B51","v":42.164457142274486},{"$f":"D50+TH!F49*A51","v":61.950890655412728},null,{"$f":"IF($B52=\"x\",C51,TH!$D$211)","v":42.164457142274486},{"$f":"IF($B52=\"x\",D51,TH!$D$212)","v":61.950890655412728},null,4.3524444445834405,-52.0276093919286,{"$f":"(I51^2+J51^2)^0.5","v":52.209346976209943},{"$f":"IF(C52=C51,\"\",(D52-D51)/(C52-C51))","v":8.3656437331112818E-2},{"$f":"IF(L51=\"\",\"\",D51-L51*C51)","v":58.42356238888965}]
["Plot?",{"$f":"TH!H12","v":"x"},{"$f":"C48","v":43.36028001473376},{"$f":"D48","v":62.050928936601728},null,{"$f":"IF($B52=\"x\",C52,TH!$D$211)","v":43.36028001473376},{"$f":"IF($B52=\"x\",D52,TH!$D$212)","v":62.050928936601728},null,-1.1958228724592743,-0.1000382811890006,{"$f":"(I52^2+J52^2)^0.5","v":1.1999999999999997}]
[]
[{"$f":"TH!I13","v":"Panel I (4th inside)"},null,{"$f":"C24+TH!F52","v":56.134206743353026},{"$f":"D24","v":1.9},null,{"$f":"IF($B58=\"x\",C54,TH!$D$211)","v":56.134206743353026},{"$f":"IF($B58=\"x\",D54,TH!$D$212)","v":1.9},null,null,null,null,{"$f":"IF(C55=C54,\"\",(D55-D54)/(C55-C54))","v":""},{"$f":"IF(L54=\"\",\"\",D54-L54*C54)","v":""}]
["Angle",0,{"$f":"C54-TH!$F$51*B57","v":56.134206743353026},{"$f":"D54+TH!$F$51*A57","v":52.215736235370656},null,{"$f":"IF($B58=\"x\",C55,TH!$D$211)","v":56.134206743353026},{"$f":"IF($B58=\"x\",D55,TH!$D$212)","v":52.215736235370656},null,{"$f":"C54-C55","v":0},-50.315736235370657,{"$f":"(I55^2+J55^2)^0.5","v":50.315736235370657},{"$f":"IF(C56=C55,\"\",(D56-D55)/(C56-C55))","v":0},{"$f":"IF(L55=\"\",\"\",D55-L55*C55)","v":52.215736235370656}]
["Cos","Sin",{"$f":"C55+TH!D51*A57","v":57.334206743353029},{"$f":"D55+TH!D51*B57","v":52.215736235370656},null,{"$f":"IF($B58=\"x\",C56,TH!$D$211)","v":57.334206743353029},{"$f":"IF($B58=\"x\",D56,TH!$D$212)","v":52.215736235370656},null,-1.2000000000000028,0,{"$f":"(I56^2+J56^2)^0.5","v":1.2000000000000028},{"$f":"IF(C57=C56,\"\",(D57-D56)/(C57-C56))","v":""},{"$f":"IF(L56=\"\",\"\",D56-L56*C56)","v":""}]
[{"$f":"COS(B55*PI()/180)","v":1},{"$f":"SIN(B55*PI()/180)","v":0},{"$f":"C56+TH!F51*B57","v":57.334206743353029},{"$f":"D56-TH!F51*A57","v":1.8999999999999986},null,{"$f":"IF($B58=\"x\",C57,TH!$D$211)","v":57.334206743353029},{"$f":"IF($B58=\"x\",D57,TH!$D$212)","v":1.8999999999999986},null,0,50.315736235370657,{"$f":"(I57^2+J57^2)^0.5","v":50.315736235370657},{"$f":"IF(C58=C57,\"\",(D58-D57)/(C58-C57))","v":-1.110223024625154E-15},{"$f":"IF(L57=\"\",\"\",D57-L57*C57)","v":1.9000000000000623}]
["Plot?",{"$f":"TH!H13","v":"x"},{"$f":"C54","v":56.134206743353026},{"$f":"D54","v":1.9},null,{"$f":"IF($B58=\"x\",C58,TH!$D$211)","v":56.134206743353026},{"$f":"IF($B58=\"x\",D58,TH!$D$212)","v":1.9},null,1.2000000000000028,0,{"$f":"(I58^2+J58^2)^0.5","v":1.2000000000000028}]
[]
[{"$f":"TH!I14","v":"Panel J (5th inside)"},null,{"$f":"C45","v":67.855592427602986},{"$f":"D45","v":65.304311223035199},null,{"$f":"IF($B64=\"x\",C60,TH!$D$211)","v":67.855592427602986},{"$f":"IF($B64=\"x\",D60,TH!$D$212)","v":65.304311223035199},null,null,null,null,{"$f":"IF(C61=C60,\"\",(D61-D60)/(C61-C60))","v":-11.953652724201044},{"$f":"IF(L60=\"\",\"\",D60-L60*C60)","v":876.42649849752729}]
["Angle",{"$f":"O7","v":4.7820260215391599},{"$f":"C60+TH!F53*B63","v":71.919536260218237},{"$f":"D60-TH!F53*A63","v":16.725337957293867},null,{"$f":"IF($B64=\"x\",C61,TH!$D$211)","v":71.919536260218237},{"$f":"IF($B64=\"x\",D61,TH!$D$212)","v":16.725337957293867},null,{"$f":"C60-C61","v":-4.0639438326152515},{"$f":"D60-D61","v":48.578973265741332},{"$f":"(I61^2+J61^2)^0.5","v":48.748664423020479},{"$f":"IF(C62=C61,\"\",(D62-D61)/(C62-C61))","v":8.3656437331112818E-2},{"$f":"IF(L61=\"\",\"\",D61-L61*C61)","v":10.708805779258224}]
["Cos","Sin",{"$f":"C61+TH!D53*A63","v":73.115359132677511},{"$f":"D61+TH!D53*B63","v":16.825376238482868},null,{"$f":"IF($B64=\"x\",C62,TH!$D$211)","v":73.115359132677511},{"$f":"IF($B64=\"x\",D62,TH!$D$212)","v":16.825376238482868},null,-1.1958228724592743,-0.1000382811890006,{"$f":"(I62^2+J62^2)^0.5","v":1.1999999999999997},{"$f":"IF(C63=C62,\"\",(D63-D62)/(C63-C62))","v":-11.953652724201044},{"$f":"IF(L62=\"\",\"\",D62-L62*C62)","v":890.82098811575099}]
[{"$f":"COS(B61*PI()/180)","v":0.99651906038272886},{"$f":"SIN(B61*PI()/180)","v":8.336523432416626E-2},{"$f":"C62-TH!F53*B63","v":69.05141530006226},{"$f":"D62+TH!F53*A63","v":65.4043495042242},null,{"$f":"IF($B64=\"x\",C63,TH!$D$211)","v":69.05141530006226},{"$f":"IF($B64=\"x\",D63,TH!$D$212)","v":65.4043495042242},null,4.0639438326152515,-48.578973265741332,{"$f":"(I63^2+J63^2)^0.5","v":48.748664423020479},{"$f":"IF(C64=C63,\"\",(D64-D63)/(C64-C63))","v":8.3656437331112818E-2},{"$f":"IF(L63=\"\",\"\",D63-L63*C63)","v":59.627754107549897}]
["Plot?",{"$f":"TH!H14","v":"x"},{"$f":"C60","v":67.855592427602986},{"$f":"D60","v":65.304311223035199},null,{"$f":"IF($B64=\"x\",C64,TH!$D$211)","v":67.855592427602986},{"$f":"IF($B64=\"x\",D64,TH!$D$212)","v":65.304311223035199},null,1.1958228724592743,0.1000382811890006,{"$f":"(I64^2+J64^2)^0.5","v":1.1999999999999997}]

{"sheet":"Path","index":2,"n_rows":146,"n_cols":42,"rows_kept":146,"cut":false,"hidden":false,"merged":[[23,18,23,19],[23,21,23,22],[23,24,23,25],[23,27,23,28]]}
[]
[null,null,null,"S","L","W","d","y",null,null,"Conical",null,null,null,"Exponential",null,"Hyperbolic","Error"]
[null,null,"S1",{"$f":"O27","v":402.99999999999881},{"$f":"N27","v":0},{"$f":"TH!E42","v":57.160000000000004},null,{"$f":"D3/F3","v":7.0503848845346182},null,null,{"$f":"($D4/PI())^0.5","v":11.3260268466955},{"$f":"ATAN((K5-K3)/($E5-$E4))*180/PI()","v":2.4661152809659854},{"$f":"SIN($L3*PI()/(180*2))","v":2.1519254497093111E-2},null,{"$f":"LN(D5/D3)/(E5-E4)","v":5.1005042343273644E-3},null,{"$f":"TH!D62","v":0.49209996710956766},{"$f":"D5-2*AB129","v":2.6692014216678217E-6}]
[null,null,"S2",{"$f":"O30","v":402.99999999999864},{"$f":"N30","v":31.577481161143542},{"$f":"F3","v":57.160000000000004},{"$f":"E4-E3","v":31.577481161143542},{"$f":"D4/F4","v":7.0503848845346155}]
[null,null,"S3",{"$f":"O129","v":1813.6312480698434},{"$f":"N129","v":326.47965119222556},{"$f":"F3","v":57.160000000000004},{"$f":"E5-E4","v":294.90217003108199},31.729028132782425,null,null,{"$f":"($D5/PI())^0.5","v":24.02700056504095},{"$f":"ATAN((K7-K5)/($E7-$E5))*180/PI()","v":1.7484402174260847},{"$f":"SIN($L5*PI()/(180*2))","v":1.5257427261739754E-2},null,{"$f":"LN(D7/D5)/(E7-E5)","v":2.4540052434052577E-3}]
[null,null,"S4",{"$f":"O132","v":1943.8572308784649},{"$f":"N132","v":353.76087907999761},{"$f":"F4","v":57.160000000000004},{"$f":"E6-E5","v":27.281227887772047},{"$f":"D6/F6","v":34.007299350567962}]
[null,null,"S5",{"$f":"O138","v":2082.9265366884524},{"$f":"N138","v":382.89470738499978},{"$f":"F3","v":57.160000000000004},{"$f":"E7-E6","v":29.133828305002169},36.440282307355709,{"$f":"ATAN((H7-H4)/(E7-E4))*180/PI()","v":4.7820179082218921},null,{"$f":"(D7/PI())^0.5","v":25.749099184680201}]
[]
[null,null,"Expansion",{"$f":"TH!D31","v":"Exp"},null,"Path",{"$f":"SUM(G4:G7)","v":382.89470738499978}]
[]
[]
[]
[]
[]
[]
[null,null,"Expansion",null,null,null,null,null,null,null,null,null,null,null,null,null,null,null,null,null,null,null,null,null,null,null,null,null,null,null,null,null,null,"Intersection points"]
[null,null,"Cos",null,{"$f":"COS(TH!$D$40*PI()/180)","v":0.99651906038272886}]
[null,null,"Sin",null,{"$f":"SIN(TH!$D$40*PI()/180)","v":8.336523432416626E-2}]
[null,null,"tan",null,{"$f":"TAN(TH!$D$40*PI()/180)","v":8.3656437331111888E-2}]
[]
[null,null,"Cos",null,{"$f":"COS(TH!$D$40*PI()/(180*2))","v":0.99912938611141067}]
[null,null,"Sin",null,{"$f":"SIN(TH!$D$40*PI()/(180*2))","v":4.1718938249140032E-2}]
[null,null,"tan",null,{"$f":"TAN(TH!$D$40*PI()/(180*2))","v":4.1755290985394003E-2}]
["Path Calculations",null,"x","y",null,"x","y",null,"d","x","y","dS","d","L","S",null,null,"Error (P)","Parabolic",null,"Error (C)","Conical",null,"Error (E)","Exponential",null,"Error (H)","Hyperbolic",null,"Error (Plot)",null,null,null,null,"x1","y1","x2","y2","a","b","x","y"]
[null,null,{"$f":"Panels!C43","v":35.138614221801454},{"$f":"Panels!D43","v":61.363133667437943},null,{"$f":"IF(TH!$H$18=\"x\",C25,0)","v":35.138614221801454},{"$f":"IF(TH!$H$18=\"x\",D25,0)","v":61.363133667437943},{"$f":"SUM(C25:C26)/2","v":38.651535682037974},{"$f":"SUM(D25:D26)/2","v":61.657012161425335},{"$f":"IF(TH!$H$17=\"x\",H25,0)","v":38.651535682037974},{"$f":"IF(TH!$H$17=\"x\",I25,0)","v":61.657012161425335},null,null,null,null,null,null,null,null,null,null,null,null,null,null,null,null,null,null,null,{"$f":"IF(B26>0,K25,\"\")","v":61.657012161425335}]
[null,1,{"$f":"Panels!C51","v":42.164457142274486},{"$f":"Panels!D51","v":61.950890655412728},null,{"$f":"IF(TH!$H$18=\"x\",C26,0)","v":42.164457142274486},{"$f":"IF(TH!$H$18=\"x\",D26,0)","v":61.950890655412728},null,null,{"$f":"J25","v":38.651535682037974},{"$f":"K25","v":61.657012161425335},null,null,null,null,null,null,null,null,null,null,null,null,null,null,null,null,null,null,null,{"$f":"IF(B26>0,K26,\"\")","v":61.657012161425335}]
["S1",null,null,null,null,null,null,null,null,{"$f":"J26","v":38.651535682037974},{"$f":"K26","v":61.657012161425335},null,0,{"$f":"M27","v":0},{"$f":"((C25-C26)^2+(D25-D26)^2)^0.5*Path!$F$3","v":402.99999999999881},{"$f":"O27/2","v":201.4999999999994},{"$f":"-P27","v":-201.4999999999994},{"$f":"($P27-S27)*2","v":0},{"$f":"$O27/2","v":201.4999999999994},{"$f":"-S27","v":-201.4999999999994},{"$f":"($P27-V27)*2","v":0},{"$f":"$O27/2","v":201.4999999999994},{"$f":"-V27","v":-201.4999999999994},{"$f":"($P27-Y27)*2","v":0},{"$f":"$O27/2","v":201.4999999999994},{"$f":"-Y27","v":-201.4999999999994},{"$f":"($P27-AB27)*2","v":0},{"$f":"$O27/2","v":201.4999999999994},{"$f":"-AB27","v":-201.4999999999994},{"$f":"IF($D$9=\"Par\",Path!R27,IF($D$9=\"Con\",Path!U27,IF($D$9=\"Exp\",Path!X27,IF($D$9=\"Hyp\",Path!AA27))))","v":0},{"$f":"IF(B26>0,K27,\"\")","v":61.657012161425335}]
[null,null,{"$f":"AO29","v":37.771078338167129},{"$f":"AP29","v":29.89557181148183},null,{"$f":"IF(TH!$H$18=\"x\",C28,0)","v":37.771078338167129},{"$f":"IF(TH!$H$18=\"x\",D28,0)","v":29.89557181148183},{"$f":"SUM(C28:C29)/2","v":41.283999798403642},{"$f":"SUM(D28:D29)/2","v":30.189450305469251},{"$f":"IF(TH!$H$17=\"x\",H28,0)","v":41.283999798403642},{"$f":"IF(TH!$H$17=\"x\",I28,0)","v":30.189450305469251},null,{"$f":"M27","v":0},0,402.99999999999881,201.4999999999994,-201.4999999999994,{"$f":"($P28-S28)*2","v":1.7053025658242404E-13},{"$f":"(($D$7-$D$4)*$N28/$E$7+$D$4)/2","v":201.49999999999932},-201.49999999999932,{"$f":"($P28-V28)*2","v":1.7053025658242404E-13},{"$f":"(($D$7-$D$4)*$N28/$E$7+$D$4)/2","v":201.49999999999932},-201.49999999999932,{"$f":"($P28-Y28)*2","v":1.7053025658242404E-13},{"$f":"(($D$7-$D$4)*$N28/$E$7+$D$4)/2","v":201.49999999999932},-201.49999999999932,{"$f":"($P28-AB28)*2","v":1.7053025658242404E-13},{"$f":"(($D$7-$D$4)*$N28/$E$7+$D$4)/2","v":201.49999999999932},-201.49999999999932,{"$f":"IF($D$9=\"Par\",Path!R28,IF($D$9=\"Con\",Path!U28,IF($D$9=\"Exp\",Path!X28,IF($D$9=\"Hyp\",Path!AA28))))","v":1.7053025658242404E-13},{"$f":"IF(B29>0,K28,\"\")","v":30.189450305469251},null,null,"Driver centerline",{"$f":"Panels!S22","v":9.8067604657069865},{"$f":"Panels!T22","v":27.55617660587712},{"$f":"Panels!S28","v":35.877692123439942},{"$f":"Panels!T28","v":29.737177866265956},{"$f":"(AL28-AJ28)/(AK28-AI28)","v":8.3656437331111819E-2},{"$f":"(AL28*AI28-AJ28*AK28)/(AI28-AK28)","v":26.735777963556476}]
["S2",{"$f":"B26+1","v":2},{"$f":"AO30","v":44.796921258640154},{"$f":"AP30","v":30.483328799456672},null,{"$f":"IF(TH!$H$18=\"x\",C29,0)","v":44.796921258640154},{"$f":"IF(TH!$H$18=\"x\",D29,0)","v":30.483328799456672},null,null,{"$f":"J28","v":41.283999798403642},{"$f":"K28","v":30.189450305469251},null,0,0,402.99999999999881,201.4999999999994,-201.4999999999994,1.7053025658242404E-13,{"$f":"(($D$7-$D$4)*$N29/$E$7+$D$4)/2","v":201.49999999999932},-201.49999999999932,1.7053025658242404E-13,{"$f":"(($D$7-$D$4)*$N29/$E$7+$D$4)/2","v":201.49999999999932},-201.49999999999932,1.7053025658242404E-13,{"$f":"(($D$7-$D$4)*$N29/$E$7+$D$4)/2","v":201.49999999999932},-201.49999999999932,1.7053025658242404E-13,{"$f":"(($D$7-$D$4)*$N29/$E$7+$D$4)/2","v":201.49999999999932},-201.49999999999932,{"$f":"IF($D$9=\"Par\",Path!R29,IF($D$9=\"Con\",Path!U29,IF($D$9=\"Exp\",Path!X29,IF($D$9=\"Hyp\",Path!AA29))))","v":1.7053025658242404E-13},{"$f":"IF(B29>0,K29,\"\")","v":30.189450305469251},null,null,{"$f":"Panels!A36","v":"Panel F (baffle)"},{"$f":"Panels!C37","v":35.038575940612454},{"$f":"Panels!D37","v":62.558956539897217},{"$f":"Panels!C36","v":40.272035367892116},{"$f":"Panels!D36","v":0},{"$f":"(AL29-AJ29)/(AK29-AI29)","v":-11.953652724201053},{"$f":"(AL29*AI29-AJ29*AK29)/(AI29-AK29)","v":481.39792528452472},{"$f":"(AN28-AN29)/(AM29-AM28)","v":37.771078338167129},{"$f":"AO29*AM29+AN29","v":29.89557181148183}]
[null,null,null,null,null,null,null,null,null,{"$f":"J29","v":41.283999798403642},{"$f":"K29","v":30.189450305469251},null,{"$f":"((H28-H25)^2+(I28-I25)^2)^0.5","v":31.577481161143542},{"$f":"N27+M30","v":31.577481161143542},{"$f":"((C28-C29)^2+(D28-D29)^2)^0.5*Path!$F$3","v":402.99999999999864},201.49999999999932,-201.49999999999932,0,{"$f":"(($D$5-$D$4)*(N30-$E$4)/($E$5-$E$4)+$D$4)/2","v":201.49999999999932},{"$f":"-S30","v":-201.49999999999932},0,{"$f":"PI()*($M$3*($N30-$E$4)*2+$K$3)^2/2","v":201.49999999999932},{"$f":"-V30","v":-201.49999999999932},0,{"$f":"($D$4*EXP($O$3*(N30-$E$4)))/2","v":201.49999999999932},{"$f":"-Y30","v":-201.49999999999932},0,{"$f":"($D$4*(COSH((N30-$E$4)/($E$5-$E$4))+$Q$3*SINH((N30-$E$4)/($E$5-$E$4)))^2)/2","v":201.49999999999932},{"$f":"-AB30","v":-201.49999999999932},{"$f":"IF($D$9=\"Par\",Path!R30,IF($D$9=\"Con\",Path!U30,IF($D$9=\"Exp\",Path!X30,IF($D$9=\"Hyp\",Path!AA30))))","v":0},{"$f":"IF(B29>0,K30,\"\")","v":30.189450305469251},null,null,{"$f":"Panels!A48","v":"Panel H (3rd inside)"},{"$f":"Panels!C51","v":42.164457142274486},{"$f":"Panels!D51","v":61.950890655412728},{"$f":"Panels!C50","v":46.516901586857927},{"$f":"Panels!D50","v":9.9232812634841299},{"$f":"(AL30-AJ30)/(AK30-AI30)","v":-11.953652724201056},{"$f":"(AL30*AI30-AJ30*AK30)/(AI30-AK30)","v":565.97016863862075},{"$f":"(AN28-AN30)/(AM30-AM28)","v":44.796921258640154},{"$f":"AO30*AM30+AN30","v":30.483328799456672}]
[null,null,{"$f":"Panels!C50","v":46.516901586857927},{"$f":"Panels!D50","v":9.9232812634841299},null,{"$f":"IF(TH!$H$18=\"x\",C31,0)","v":46.516901586857927},{"$f":"IF(TH!$H$18=\"x\",D31,0)","v":9.9232812634841299},{"$f":"SUM(C31:C32)/2","v":42.991709144590615},{"$f":"SUM(D31:D32)/2","v":9.7760858272777451},{"$f":"IF(TH!$H$17=\"x\",H31,0)","v":42.991709144590615},{"$f":"IF(TH!$H$17=\"x\",I31,0)","v":9.7760858272777451},null,{"$f":"M30","v":31.577481161143542},31.577481161143542,402.99999999999864,201.49999999999932,-201.49999999999932,0,{"$f":"(($D$5-$D$4)*(N31-$E$4)/($E$5-$E$4)+$D$4)/2","v":201.49999999999932},{"$f":"-S31","v":-201.49999999999932},0,201.49999999999932,{"$f":"-V31","v":-201.49999999999932},0,{"$f":"($D$4*EXP($O$3*(N31-$E$4)))/2","v":201.49999999999932},{"$f":"-Y31","v":-201.49999999999932},0,{"$f":"($D$4*(COSH((N31-$E$4)/($E$5-$E$4))+$Q$3*SINH((N31-$E$4)/($E$5-$E$4)))^2)/2","v":201.49999999999932},{"$f":"-AB31","v":-201.49999999999932},{"$f":"IF($D$9=\"Par\",Path!R31,IF($D$9=\"Con\",Path!U31,IF($D$9=\"Exp\",Path!X31,IF($D$9=\"Hyp\",Path!AA31))))","v":0},{"$f":"IF(B32>0,K31,\"\")","v":9.7760858272777451},null,null,null,{"$f":"AI29","v":35.038575940612454},62.558956539897217,40.272035367892116,0,-11.953652724201053,481.39792528452472]
[null,{"$f":"B29+1","v":3},{"$f":"AO32","v":39.466516702323304},{"$f":"AP32","v":9.6288903910713604},null,{"$f":"IF(TH!$H$18=\"x\",C32,0)","v":39.466516702323304},{"$f":"IF(TH!$H$18=\"x\",D32,0)","v":9.6288903910713604},null,null,{"$f":"J31","v":42.991709144590615},{"$f":"K31","v":9.7760858272777451},null,31.577481161143542,31.577481161143542,402.99999999999864,201.49999999999932,-201.49999999999932,0,201.49999999999932,{"$f":"-S32","v":-201.49999999999932},0,201.49999999999932,-201.49999999999932,0,201.49999999999932,-201.49999999999932,0,201.49999999999932,-201.49999999999932,{"$f":"IF($D$9=\"Par\",Path!R32,IF($D$9=\"Con\",Path!U32,IF($D$9=\"Exp\",Path!X32,IF($D$9=\"Hyp\",Path!AA32))))","v":0},{"$f":"IF(B32>0,K32,\"\")","v":9.7760858272777451},null,null,"sample point 3",{"$f":"C31","v":46.516901586857927},{"$f":"D31","v":9.9232812634841299},{"$f":"AI32-10*E21","v":36.525607725743818},{"$f":"AJ32-10*E22","v":9.5060918809927291},{"$f":"(AL32-AJ32)/(AK32-AI32)","v":4.1755290985394045E-2},{"$f":"(AL32*AI32-AJ32*AK32)/(AI32-AK32)","v":7.980954501985936},{"$f":"(AN31-AN32)/(AM32-AM31)","v":39.466516702323304},{"$f":"AO32*AM32+AN32","v":9.6288903910713604}]
[null,null,null,null,null,null,null,null,null,{"$f":"J32","v":42.991709144590615},{"$f":"K32","v":9.7760858272777451},null,{"$f":"((H31-H28)^2+(I31-I28)^2)^0.5","v":20.484670378860017},{"$f":"N30+M33","v":52.062151540003555},{"$f":"((C31-C32)^2+(D31-D32)^2)^0.5*Path!$F$3","v":403.35116312459394},201.67558156229697,-201.67558156229697,-97.634945759530808,250.49305444206237,-250.49305444206237,-64.830580850387435,234.09087198749069,-234.09087198749069,-44.033473824424334,223.69231847450914,-223.69231847450914,-29.707941656921605,216.52955239075777,-216.52955239075777,{"$f":"IF($D$9=\"Par\",Path!R33,IF($D$9=\"Con\",Path!U33,IF($D$9=\"Exp\",Path!X33,IF($D$9=\"Hyp\",Path!AA33))))","v":-44.033473824424334},{"$f":"IF(B32>0,K33,\"\")","v":9.7760858272777451}]
[null,null,{"$f":"C31","v":46.516901586857927},{"$f":"D31","v":9.9232812634841299},null,{"$f":"IF(TH!$H$18=\"x\",C34,0)","v":46.516901586857927},{"$f":"IF(TH!$H$18=\"x\",D34,0)","v":9.9232812634841299},{"$f":"SUM(C34:C35)/2","v":43.193088810982815},{"$f":"SUM(D34:D35)/2","v":7.8438632295099051},{"$f":"IF(TH!$H$17=\"x\",H34,0)","v":43.193088810982815},{"$f":"IF(TH!$H$17=\"x\",I34,0)","v":7.8438632295099051},null,{"$f":"M33","v":20.484670378860017},52.062151540003555,403.35116312459394,201.67558156229697,-201.67558156229697,-97.634945759530808,250.49305444206237,-250.49305444206237,-64.830580850387435,234.09087198749069,-234.09087198749069,-44.033473824424334,223.69231847450914,-223.69231847450914,-29.707941656921605,216.52955239075777,-216.52955239075777,{"$f":"IF($D$9=\"Par\",Path!R34,IF($D$9=\"Con\",Path!U34,IF($D$9=\"Exp\",Path!X34,IF($D$9=\"Hyp\",Path!AA34))))","v":-44.033473824424334},{"$f":"IF(B35>0,K34,\"\")","v":7.8438632295099051}]
[null,{"$f":"B32+1","v":4},{"$f":"(C32+Panels!C28)/2","v":39.86927603510771},{"$f":"(D32+Panels!D28)/2","v":5.7644451955356804},null,{"$f":"IF(TH!$H$18=\"x\",C35,0)","v":39.86927603510771},{"$f":"IF(TH!$H$18=\"x\",D35,0)","v":5.7644451955356804},null,null,{"$f":"J34","v":43.193088810982815},{"$f":"K34","v":7.8438632295099051},null,20.484670378860017,52.062151540003555,403.35116312459394,201.67558156229697,-201.67558156229697,-97.634945759530808,250.49305444206237,-250.49305444206237,-64.830580850387435,234.09087198749069,-234.09087198749069,-44.033473824424334,223.69231847450914,-223.69231847450914,-29.707941656921605,216.52955239075777,-216.52955239075777,{"$f":"IF($D$9=\"Par\",Path!R35,IF($D$9=\"Con\",Path!U35,IF($D$9=\"Exp\",Path!X35,IF($D$9=\"Hyp\",Path!AA35))))","v":-44.033473824424334},{"$f":"IF(B35>0,K35,\"\")","v":7.8438632295099051}]
[null,null,null,null,null,null,null,null,null,{"$f":"J35","v":43.193088810982815},{"$f":"K35","v":7.8438632295099051},null,{"$f":"((H34-H31)^2+(I34-I31)^2)^0.5","v":1.9426883273857734},{"$f":"N33+M36","v":54.004839867389329},{"$f":"((C34-C35)^2+(D34-D35)^2)^0.5*Path!$F$3","v":448.21183241096867},224.10591620548433,-224.10591620548433,-62.066906837938006,255.13936962445334,-255.13936962445334,-26.405040032528859,237.30843622174876,-237.30843622174876,-3.6278355445176089,225.91983397774314,-225.91983397774314,12.030599914080369,218.09061624844415,-218.09061624844415,{"$f":"IF($D$9=\"Par\",Path!R36,IF($D$9=\"Con\",Path!U36,IF($D$9=\"Exp\",Path!X36,IF($D$9=\"Hyp\",Path!AA36))))","v":-3.6278355445176089},{"$f":"IF(B35>0,K36,\"\")","v":7.8438632295099051}]
[null,null,{"$f":"C34","v":46.516901586857927},{"$f":"D34","v":9.9232812634841299},null,{"$f":"IF(TH!$H$18=\"x\",C37,0)","v":46.516901586857927},{"$f":"IF(TH!$H$18=\"x\",D37,0)","v":9.9232812634841299},{"$f":"SUM(C37:C38)/2","v":45.039438643070085},{"$f":"SUM(D37:D38)/2","v":5.9116406317420651},{"$f":"IF(TH!$H$17=\"x\",H37,0)","v":45.039438643070085},{"$f":"IF(TH!$H$17=\"x\",I37,0)","v":5.9116406317420651},null,{"$f":"M36","v":1.9426883273857734},54.004839867389329,448.21183241096867,224.10591620548433,-224.10591620548433,-62.066906837938006,255.13936962445334,-255.13936962445334,-26.405040032528859,237.30843622174876,-237.30843622174876,-3.6278355445176089,225.91983397774314,-225.91983397774314,12.030599914080369,218.09061624844415,-218.09061624844415,{"$f":"IF($D$9=\"Par\",Path!R37,IF($D$9=\"Con\",Path!U37,IF($D$9=\"Exp\",Path!X37,IF($D$9=\"Hyp\",Path!AA37))))","v":-3.6278355445176089},{"$f":"IF(B38>0,K37,\"\")","v":5.9116406317420651}]
[null,{"$f":"B35+1","v":5},{"$f":"(C41+Panels!C28)/2","v":43.561975699282243},{"$f":"(D92+Panels!D28)/2","v":1.9},null,{"$f":"IF(TH!$H$18=\"x\",C38,0)","v":43.561975699282243},{"$f":"IF(TH!$H$18=\"x\",D38,0)","v":1.9},null,null,{"$f":"J37","v":45.039438643070085},{"$f":"K37","v":5.9116406317420651},null,{"$f":"M37","v":1.9426883273857734},54.004839867389329,448.21183241096867,224.10591620548433,-224.10591620548433,-62.066906837938006,255.13936962445334,-255.13936962445334,-26.405040032528859,237.30843622174876,-237.30843622174876,-3.6278355445176089,225.91983397774314,-225.91983397774314,12.030599914080369,218.09061624844415,-218.09061624844415,{"$f":"IF($D$9=\"Par\",Path!R38,IF($D$9=\"Con\",Path!U38,IF($D$9=\"Exp\",Path!X38,IF($D$9=\"Hyp\",Path!AA38))))","v":-3.6278355445176089},{"$f":"IF(B38>0,K38,\"\")","v":5.9116406317420651}]
[null,null,null,null,null,null,null,null,null,{"$f":"J38","v":45.039438643070085},{"$f":"K38","v":5.9116406317420651},null,{"$f":"((H37-H34)^2+(I37-I34)^2)^0.5","v":2.672544081913971},{"$f":"N36+M39","v":56.677383949303298},{"$f":"((C37-C38)^2+(D37-D38)^2)^0.5*Path!$F$3","v":488.72511731763359},244.36255865881679,-244.36255865881679,-34.337434927273193,261.53127612245339,-261.53127612245339,5.1837026383070111,241.77070733966329,-241.77070733966329,30.684106947265263,229.02050518518416,-229.02050518518416,48.168269828153882,220.27842374473985,-220.27842374473985,{"$f":"IF($D$9=\"Par\",Path!R39,IF($D$9=\"Con\",Path!U39,IF($D$9=\"Exp\",Path!X39,IF($D$9=\"Hyp\",Path!AA39))))","v":30.684106947265263},{"$f":"IF(B38>0,K39,\"\")","v":5.9116406317420651}]
[null,null,{"$f":"C37","v":46.516901586857927},{"$f":"D37","v":9.9232812634841299},null,{"$f":"IF(TH!$H$18=\"x\",C40,0)","v":46.516901586857927},{"$f":"IF(TH!$H$18=\"x\",D40,0)","v":9.9232812634841299},{"$f":"SUM(C40:C41)/2","v":46.684408808765141},{"$f":"SUM(D40:D41)/2","v":5.9116406317420642},{"$f":"IF(TH!$H$17=\"x\",H40,0)","v":46.684408808765141},{"$f":"IF(TH!$H$17=\"x\",I40,0)","v":5.9116406317420642},null,{"$f":"M39","v":2.672544081913971},56.677383949303298,488.72511731763359,244.36255865881679,-244.36255865881679,-34.337434927273193,261.53127612245339,-261.53127612245339,5.1837026383070111,241.77070733966329,-241.77070733966329,30.684106947265263,229.02050518518416,-229.02050518518416,48.168269828153882,220.27842374473985,-220.27842374473985,{"$f":"IF($D$9=\"Par\",Path!R40,IF($D$9=\"Con\",Path!U40,IF($D$9=\"Exp\",Path!X40,IF($D$9=\"Hyp\",Path!AA40))))","v":30.684106947265263},{"$f":"IF(B41>0,K40,\"\")","v":5.9116406317420642},null,null,{"$f":"TH!I11","v":"Panel G (2nd inside)"},{"$f":"Panels!C43","v":35.138614221801454},{"$f":"Panels!D43","v":61.363133667437943},{"$f":"Panels!C44","v":67.955630708791986},{"$f":"Panels!D44","v":64.108488350575925},{"$f":"(AL40-AJ40)/(AK40-AI40)","v":8.3656437331111694E-2},{"$f":"(AL40*AI40-AJ40*AK40)/(AI40-AK40)","v":58.423562388889707}]
[null,{"$f":"B38+1","v":6},{"$f":"C40+(D40-D41)*E$23","v":46.851916030672363},{"$f":"Panels!$D$57","v":1.8999999999999986},null,{"$f":"IF(TH!$H$18=\"x\",C41,0)","v":46.851916030672363},{"$f":"IF(TH!$H$18=\"x\",D41,0)","v":1.8999999999999986},null,null,{"$f":"J40","v":46.684408808765141},{"$f":"K40","v":5.9116406317420642},null,{"$f":"M40","v":2.672544081913971},56.677383949303298,488.72511731763359,244.36255865881679,-244.36255865881679,-34.337434927273193,261.53127612245339,-261.53127612245339,5.1837026383070111,241.77070733966329,-241.77070733966329,30.684106947265263,229.02050518518416,-229.02050518518416,48.168269828153882,220.27842374473985,-220.27842374473985,{"$f":"IF($D$9=\"Par\",Path!R41,IF($D$9=\"Con\",Path!U41,IF($D$9=\"Exp\",Path!X41,IF($D$9=\"Hyp\",Path!AA41))))","v":30.684106947265263},{"$f":"IF(B41>0,K41,\"\")","v":5.9116406317420642},null,null,"sample point 6",{"$f":"AI32","v":46.516901586857927},{"$f":"AJ32","v":9.9232812634841299},{"$f":"AI41-10*$E$22","v":46.099712204366526},{"$f":"AJ41+10*$E$21","v":19.914575124598237},{"$f":"(AL41-AJ41)/(AK41-AI41)","v":-23.949060739387463},{"$f":"(AL41*AI41-AJ41*AK41)/(AI41-AK41)","v":1123.9593827752537},{"$f":"(AN40-AN41)/(AM41-AM40)","v":44.336885111708881},{"$f":"AO41*AM41+AN41","v":62.132628239693986}]
[null,null,null,null,null,null,null,null,null,{"$f":"J41","v":46.684408808765141},{"$f":"K41","v":5.9116406317420642},null,{"$f":"((H40-H37)^2+(I40-I37)^2)^0.5","v":1.6449701656950566},{"$f":"N39+M42","v":58.322354114998355},{"$f":"((C40-C41)^2+(D40-D41)^2)^0.5*Path!$F$3","v":459.01037783069899},229.50518891534949,-229.50518891534949,-71.920703552625127,265.46554069166206,-265.46554069166206,-30.065486103929857,244.53793196731442,-244.53793196731442,-2.8898449242342963,230.95011137746664,-230.95011137746664,15.713384392030775,221.6484967193341,-221.6484967193341,{"$f":"IF($D$9=\"Par\",Path!R42,IF($D$9=\"Con\",Path!U42,IF($D$9=\"Exp\",Path!X42,IF($D$9=\"Hyp\",Path!AA42))))","v":-2.8898449242342963},{"$f":"IF(B41>0,K42,\"\")","v":5.9116406317420642}]
[null,null,{"$f":"Panels!C49","v":47.712724459317201},{"$f":"Panels!D49","v":10.023319544673129},null,{"$f":"IF(TH!$H$18=\"x\",C43,0)","v":47.712724459317201},{"$f":"IF(TH!$H$18=\"x\",D43,0)","v":10.023319544673129},{"$f":"SUM(C43:C44)/2","v":47.882320244994787},{"$f":"SUM(D43:D44)/2","v":5.9616597723365636},{"$f":"IF(TH!$H$17=\"x\",H43,0)","v":47.882320244994787},{"$f":"IF(TH!$H$17=\"x\",I43,0)","v":5.9616597723365636},null,{"$f":"M42","v":1.6449701656950566},58.322354114998355,459.01037783069899,229.50518891534949,-229.50518891534949,-71.920703552625127,265.46554069166206,-265.46554069166206,-30.065486103929857,244.53793196731442,-244.53793196731442,-2.8898449242342963,230.95011137746664,-230.95011137746664,15.713384392030775,221.6484967193341,-221.6484967193341,{"$f":"IF($D$9=\"Par\",Path!R43,IF($D$9=\"Con\",Path!U43,IF($D$9=\"Exp\",Path!X43,IF($D$9=\"Hyp\",Path!AA43))))","v":-2.8898449242342963},{"$f":"IF(B44>0,K43,\"\")","v":5.9616597723365636}]
[null,{"$f":"B41+1","v":7},{"$f":"C43+(D43-D44)*E$23","v":48.051916030672366},{"$f":"Panels!$D$57","v":1.8999999999999986},null,{"$f":"IF(TH!$H$18=\"x\",C44,0)","v":48.051916030672366},{"$f":"IF(TH!$H$18=\"x\",D44,0)","v":1.8999999999999986},null,null,{"$f":"J43","v":47.882320244994787},{"$f":"K43","v":5.9616597723365636},null,{"$f":"M43","v":1.6449701656950566},58.322354114998355,459.01037783069899,229.50518891534949,-229.50518891534949,-71.920703552625127,265.46554069166206,-265.46554069166206,-30.065486103929857,244.53793196731442,-244.53793196731442,-2.8898449242342963,230.95011137746664,-230.95011137746664,15.713384392030775,221.6484967193341,-221.6484967193341,{"$f":"IF($D$9=\"Par\",Path!R44,IF($D$9=\"Con\",Path!U44,IF($D$9=\"Exp\",Path!X44,IF($D$9=\"Hyp\",Path!AA44))))","v":-2.8898449242342963},{"$f":"IF(B44>0,K44,\"\")","v":5.9616597723365636}]
[null,null,null,null,null,null,null,null,null,{"$f":"J44","v":47.882320244994787},{"$f":"K44","v":5.9616597723365636},null,{"$f":"((H43-H40)^2+(I43-I40)^2)^0.5","v":1.1989552633337011},{"$f":"N42+M45","v":59.521309378332056},{"$f":"((C43-C44)^2+(D43-D44)^2)^0.5*Path!$F$3","v":464.73354865546901},232.3667743277345,-232.3667743277345,-71.932599917486414,268.33307428647771,-268.33307428647771,-28.396003731869996,246.5647761936695,-246.5647761936695,2.398786148205545E-5,232.36676233380376,-232.36676233380376,19.416601330239473,222.65847366261477,-222.65847366261477,{"$f":"IF($D$9=\"Par\",Path!R45,IF($D$9=\"Con\",Path!U45,IF($D$9=\"Exp\",Path!X45,IF($D$9=\"Hyp\",Path!AA45))))","v":2.398786148205545E-5},{"$f":"IF(B44>0,K45,\"\")","v":5.9616597723365636}]
[null,null,{"$f":"C43","v":47.712724459317201},{"$f":"D43","v":10.023319544673129},null,{"$f":"IF(TH!$H$18=\"x\",C46,0)","v":47.712724459317201},{"$f":"IF(TH!$H$18=\"x\",D46,0)","v":10.023319544673129},{"$f":"SUM(C46:C47)/2","v":49.902892923164949},{"$f":"SUM(D46:D47)/2","v":5.9616597723365636},{"$f":"IF(TH!$H$17=\"x\",H46,0)","v":49.902892923164949},{"$f":"IF(TH!$H$17=\"x\",I46,0)","v":5.9616597723365636},null,{"$f":"M45","v":1.1989552633337011},59.521309378332056,464.73354865546901,232.3667743277345,-232.3667743277345,-71.932599917486414,268.33307428647771,-268.33307428647771,-28.396003731869996,246.5647761936695,-246.5647761936695,2.398786148205545E-5,232.36676233380376,-232.36676233380376,19.416601330239473,222.65847366261477,-222.65847366261477,{"$f":"IF($D$9=\"Par\",Path!R46,IF($D$9=\"Con\",Path!U46,IF($D$9=\"Exp\",Path!X46,IF($D$9=\"Hyp\",Path!AA46))))","v":2.398786148205545E-5},{"$f":"IF(B47>0,K46,\"\")","v":5.9616597723365636}]
[null,{"$f":"B44+1","v":8},{"$f":"(C44+Panels!C54)/2","v":52.093061387012696},{"$f":"D44","v":1.8999999999999986},null,{"$f":"IF(TH!$H$18=\"x\",C47,0)","v":52.093061387012696},{"$f":"IF(TH!$H$18=\"x\",D47,0)","v":1.8999999999999986},null,null,{"$f":"J46","v":49.902892923164949},{"$f":"K46","v":5.9616597723365636},null,{"$f":"M46","v":1.1989552633337011},59.521309378332056,464.73354865546901,232.3667743277345,-232.3667743277345,-71.932599917486414,268.33307428647771,-268.33307428647771,-28.396003731869996,246.5647761936695,-246.5647761936695,2.398786148205545E-5,232.36676233380376,-232.36676233380376,19.416601330239473,222.65847366261477,-222.65847366261477,{"$f":"IF($D$9=\"Par\",Path!R47,IF($D$9=\"Con\",Path!U47,IF($D$9=\"Exp\",Path!X47,IF($D$9=\"Hyp\",Path!AA47))))","v":2.398786148205545E-5},{"$f":"IF(B47>0,K47,\"\")","v":5.9616597723365636}]
[null,null,null,null,null,null,null,null,null,{"$f":"J47","v":49.902892923164949},{"$f":"K47","v":5.9616597723365636},null,{"$f":"((H46-H43)^2+(I46-I43)^2)^0.5","v":2.0205726781701614},{"$f":"N45+M48","v":61.541882056502217},{"$f":"((C46-C47)^2+(D46-D47)^2)^0.5*Path!$F$3","v":527.53345217547019},263.76672608773509,-263.76672608773509,-18.797877764318173,273.16566496989418,-273.16566496989418,27.53445299160461,249.99949959193279,-249.99949959193279,57.985646686495045,234.77390274448757,-234.77390274448757,78.768475770577652,224.38248820244627,-224.38248820244627,{"$f":"IF($D$9=\"Par\",Path!R48,IF($D$9=\"Con\",Path!U48,IF($D$9=\"Exp\",Path!X48,IF($D$9=\"Hyp\",Path!AA48))))","v":57.985646686495045},{"$f":"IF(B47>0,K48,\"\")","v":5.9616597723365636}]
[null,null,{"$f":"C46","v":47.712724459317201},{"$f":"D46","v":10.023319544673129},null,{"$f":"IF(TH!$H$18=\"x\",C49,0)","v":47.712724459317201},{"$f":"IF(TH!$H$18=\"x\",D49,0)","v":10.023319544673129},{"$f":"SUM(C49:C50)/2","v":51.92346560133511},{"$f":"SUM(D49:D50)/2","v":8.0804000193294101},{"$f":"IF(TH!$H$17=\"x\",H49,0)","v":51.92346560133511},{"$f":"IF(TH!$H$17=\"x\",I49,0)","v":8.0804000193294101},null,{"$f":"M48","v":2.0205726781701614},61.541882056502217,527.53345217547019,263.76672608773509,-263.76672608773509,-18.797877764318173,273.16566496989418,-273.16566496989418,27.53445299160461,249.99949959193279,-249.99949959193279,57.985646686495045,234.77390274448757,-234.77390274448757,78.768475770577652,224.38248820244627,-224.38248820244627,{"$f":"IF($D$9=\"Par\",Path!R49,IF($D$9=\"Con\",Path!U49,IF($D$9=\"Exp\",Path!X49,IF($D$9=\"Hyp\",Path!AA49))))","v":57.985646686495045},{"$f":"IF(B50>0,K49,\"\")","v":8.0804000193294101}]
[null,{"$f":"B47+1","v":9},{"$f":"(C53+Panels!C54)/2","v":56.134206743353026},{"$f":"(D53+Panels!D54)/2","v":6.1374804939856933},null,{"$f":"IF(TH!$H$18=\"x\",C50,0)","v":56.134206743353026},{"$f":"IF(TH!$H$18=\"x\",D50,0)","v":6.1374804939856933},null,null,{"$f":"J49","v":51.92346560133511},{"$f":"K49","v":8.0804000193294101},null,{"$f":"M49","v":2.0205726781701614},61.541882056502217,527.53345217547019,263.76672608773509,-263.76672608773509,-18.797877764318173,273.16566496989418,-273.16566496989418,27.53445299160461,249.99949959193279,-249.99949959193279,57.985646686495045,234.77390274448757,-234.77390274448757,78.768475770577652,224.38248820244627,-224.38248820244627,{"$f":"IF($D$9=\"Par\",Path!R50,IF($D$9=\"Con\",Path!U50,IF($D$9=\"Exp\",Path!X50,IF($D$9=\"Hyp\",Path!AA50))))","v":57.985646686495045},{"$f":"IF(B50>0,K50,\"\")","v":8.0804000193294101}]
[null,null,null,null,null,null,null,null,null,{"$f":"J50","v":51.92346560133511},{"$f":"K50","v":8.0804000193294101},null,{"$f":"((H49-H46)^2+(I49-I46)^2)^0.5","v":2.9277592424916099},{"$f":"N48+M51","v":64.469641298993821},{"$f":"((C49-C50)^2+(D49-D50)^2)^0.5*Path!$F$3","v":530.14508417123},265.072542085615,-265.072542085615,-30.190851681931804,280.1679679265809,-280.1679679265809,20.108122497068109,255.01848083708094,-255.01848083708094,53.532883368992771,238.30610040111861,-238.30610040111861,76.285184987139473,226.92994959204526,-226.92994959204526,{"$f":"IF($D$9=\"Par\",Path!R51,IF($D$9=\"Con\",Path!U51,IF($D$9=\"Exp\",Path!X51,IF($D$9=\"Hyp\",Path!AA51))))","v":53.532883368992771},{"$f":"IF(B50>0,K51,\"\")","v":8.0804000193294101}]
[null,null,{"$f":"C46","v":47.712724459317201},{"$f":"D46","v":10.023319544673129},null,{"$f":"IF(TH!$H$18=\"x\",C52,0)","v":47.712724459317201},{"$f":"IF(TH!$H$18=\"x\",D52,0)","v":10.023319544673129},{"$f":"SUM(C52:C53)/2","v":51.92346560133511},{"$f":"SUM(D52:D53)/2","v":10.199140266322257},{"$f":"IF(TH!$H$17=\"x\",H52,0)","v":51.92346560133511},{"$f":"IF(TH!$H$17=\"x\",I52,0)","v":10.199140266322257},null,{"$f":"M51","v":2.9277592424916099},64.469641298993821,530.14508417123,{"$f":"O52/2","v":265.072542085615},{"$f":"-P52","v":-265.072542085615},-30.190851681931804,280.1679679265809,{"$f":"-S52","v":-280.1679679265809},20.108122497068109,255.01848083708094,-255.01848083708094,53.532883368992771,238.30610040111861,-238.30610040111861,76.285184987139473,226.92994959204526,-226.92994959204526,{"$f":"IF($D$9=\"Par\",Path!R52,IF($D$9=\"Con\",Path!U52,IF($D$9=\"Exp\",Path!X52,IF($D$9=\"Hyp\",Path!AA52))))","v":53.532883368992771},{"$f":"IF(B53>0,K52,\"\")","v":10.199140266322257},null,null,{"$f":"TH!I12","v":"Panel H (3rd inside)"},{"$f":"Panels!C54","v":56.134206743353026},{"$f":"Panels!D54","v":1.9},{"$f":"Panels!C55","v":56.134206743353026},{"$f":"Panels!D55","v":52.215736235370656},{"$f":"IF(AK52-AI52<>0,(AL52-AJ52)/(AK52-AI52),\"vertical\")","v":"vertical"},{"$f":"IF(AM52<>\"vertical\",(AL52*AI52-AJ52*AK52)/(AI52-AK52),AJ52)","v":1.9}]
[null,{"$f":"B50+1","v":10},{"$f":"AO53","v":56.134206743353026},{"$f":"AP53","v":10.374960987971386},null,{"$f":"IF(TH!$H$18=\"x\",C53,0)","v":56.134206743353026},{"$f":"IF(TH!$H$18=\"x\",D53,0)","v":10.374960987971386},null,null,{"$f":"J52","v":51.92346560133511},{"$f":"K52","v":10.199140266322257},null,{"$f":"M52","v":2.9277592424916099},64.469641298993821,530.14508417123,265.072542085615,-265.072542085615,-30.190851681931804,280.1679679265809,-280.1679679265809,20.108122497068109,255.01848083708094,-255.01848083708094,53.532883368992771,238.30610040111861,-238.30610040111861,76.285184987139473,226.92994959204526,-226.92994959204526,{"$f":"IF($D$9=\"Par\",Path!R53,IF($D$9=\"Con\",Path!U53,IF($D$9=\"Exp\",Path!X53,IF($D$9=\"Hyp\",Path!AA53))))","v":53.532883368992771},{"$f":"IF(B53>0,K53,\"\")","v":10.199140266322257},null,null,"Sample point 10",{"$f":"C52","v":47.712724459317201},{"$f":"D52","v":10.023319544673129},{"$f":"AI53+10*$E$21","v":57.70401832043131},{"$f":"AJ53+10*$E$22","v":10.440508927164529},{"$f":"(AL53-AJ53)/(AK53-AI53)","v":4.1755290985394045E-2},{"$f":"(AL53*AI53-AJ53*AK53)/(AI53-AK53)","v":8.0310608511684123},{"$f":"IF(AM52<>\"vertical\",(AN52-AN53)/(AM53-AM52),AI52)","v":56.134206743353026},{"$f":"AO53*AM53+AN53","v":10.374960987971386}]
[null,null,null,null,null,null,null,null,null,{"$f":"J53","v":51.92346560133511},{"$f":"K53","v":10.199140266322257},null,{"$f":"((H52-H49)^2+(I52-I49)^2)^0.5","v":2.1187402469928465},{"$f":"N51+M54","v":66.588381545986664},{"$f":"((C52-C53)^2+(D52-D53)^2)^0.5*Path!$F$3","v":481.79138162373204},240.89569081186602,-240.89569081186602,-88.679309082662371,285.2353453531972,-285.2353453531972,-35.572002571403118,258.68169209756758,-258.68169209756758,6.7187811521307594E-4,240.89535487280841,-240.89535487280841,24.170487942253487,228.81044684073927,-228.81044684073927,{"$f":"IF($D$9=\"Par\",Path!R54,IF($D$9=\"Con\",Path!U54,IF($D$9=\"Exp\",Path!X54,IF($D$9=\"Hyp\",Path!AA54))))","v":6.7187811521307594E-4},{"$f":"IF(B53>0,K54,\"\")","v":10.199140266322257}]
[null,null,{"$f":"Panels!C55","v":56.134206743353026},{"$f":"Panels!D55","v":52.215736235370656},null,{"$f":"IF(TH!$H$18=\"x\",C55,0)","v":56.134206743353026},{"$f":"IF(TH!$H$18=\"x\",D55,0)","v":52.215736235370656},{"$f":"SUM(C55:C56)/2","v":50.179432584933011},{"$f":"SUM(D55:D56)/2","v":51.967092907633528},{"$f":"IF(TH!$H$17=\"x\",H55,0)","v":50.179432584933011},{"$f":"IF(TH!$H$17=\"x\",I55,0)","v":51.967092907633528},null,{"$f":"M54","v":2.1187402469928465},66.588381545986664,481.79138162373204,240.89569081186602,-240.89569081186602,-88.679309082662371,285.2353453531972,-285.2353453531972,-35.572002571403118,258.68169209756758,-258.68169209756758,6.7187811521307594E-4,240.89535487280841,-240.89535487280841,24.170487942253487,228.81044684073927,-228.81044684073927,{"$f":"IF($D$9=\"Par\",Path!R55,IF($D$9=\"Con\",Path!U55,IF($D$9=\"Exp\",Path!X55,IF($D$9=\"Hyp\",Path!AA55))))","v":6.7187811521307594E-4},{"$f":"IF(B56>0,K55,\"\")","v":51.967092907633528},null,null,{"$f":"Panels!A54","v":"Panel I (4th inside)"},{"$f":"C55","v":56.134206743353026},{"$f":"D55","v":52.215736235370656},{"$f":"AI55+10*$E$21","v":66.125500604467135},{"$f":"AJ55+10*$E$22","v":52.632925617862057},{"$f":"IF(AK55-AI55<>0,(AL55-AJ55)/(AK55-AI55),\"vertical\")","v":4.1755290985394045E-2},{"$f":"IF(AM55<>\"vertical\",(AL55*AI55-AJ55*AK55)/(AI55-AK55),AJ55)","v":49.871836098567684}]
[null,{"$f":"B53+1","v":11},{"$f":"AO56","v":44.224658426512995},{"$f":"AP56","v":51.718449579896401},null,{"$f":"IF(TH!$H$18=\"x\",C56,0)","v":44.224658426512995},{"$f":"IF(TH!$H$18=\"x\",D56,0)","v":51.718449579896401},null,null,{"$f":"J55","v":50.179432584933011},{"$f":"K55","v":51.967092907633528},null,{"$f":"M55","v":2.1187402469928465},66.588381545986664,481.79138162373204,240.89569081186602,-240.89569081186602,-88.679309082662371,285.2353453531972,-285.2353453531972,-35.572002571403118,258.68169209756758,-258.68169209756758,6.7187811521307594E-4,240.89535487280841,-240.89535487280841,24.170487942253487,228.81044684073927,-228.81044684073927,{"$f":"IF($D$9=\"Par\",Path!R56,IF($D$9=\"Con\",Path!U56,IF($D$9=\"Exp\",Path!X56,IF($D$9=\"Hyp\",Path!AA56))))","v":6.7187811521307594E-4},{"$f":"IF(B56>0,K56,\"\")","v":51.967092907633528},null,null,{"$f":"Panels!A48","v":"Panel H (3rd inside)"},{"$f":"Panels!C48","v":43.36028001473376},{"$f":"Panels!D48","v":62.050928936601728},{"$f":"Panels!C49","v":47.712724459317201},{"$f":"Panels!D49","v":10.023319544673129},{"$f":"(AL56-AJ56)/(AK56-AI56)","v":-11.953652724201056},{"$f":"(AL56*AI56-AJ56*AK56)/(AI56-AK56)","v":580.36465825684468},{"$f":"IF(AM55<>\"vertical\",(AN55-AN56)/(AM56-AM55),AI55)","v":44.224658426512995},{"$f":"AO56*AM56+AN56","v":51.718449579896401}]
[null,null,null,null,null,null,null,null,null,{"$f":"J56","v":50.179432584933011},{"$f":"K56","v":51.967092907633528},null,{"$f":"((H55-H52)^2+(I55-I52)^2)^0.5","v":41.804348087359543},{"$f":"N54+M57","v":108.39272963334621},{"$f":"((C55-C56)^2+(D55-D56)^2)^0.5*Path!$F$3","v":681.34296844179414},340.67148422089707,-340.67148422089707,-89.094103356346181,385.21853589907016,-385.21853589907016,8.7386238235134215,336.30217230914036,-336.30217230914036,85.049428774070293,298.14676983386192,-298.14676983386192,135.55295747417745,272.89500548380835,-272.89500548380835,{"$f":"IF($D$9=\"Par\",Path!R57,IF($D$9=\"Con\",Path!U57,IF($D$9=\"Exp\",Path!X57,IF($D$9=\"Hyp\",Path!AA57))))","v":85.049428774070293},{"$f":"IF(B56>0,K57,\"\")","v":51.967092907633528}]
[null,null,{"$f":"C55","v":56.134206743353026},{"$f":"D55","v":52.215736235370656},null,{"$f":"IF(TH!$H$18=\"x\",C58,0)","v":56.134206743353026},{"$f":"IF(TH!$H$18=\"x\",D58,0)","v":52.215736235370656},{"$f":"SUM(C58:C59)/2","v":49.963337981988204},{"$f":"SUM(D58:D59)/2","v":54.550212746809862},{"$f":"IF(TH!$H$17=\"x\",H58,0)","v":49.963337981988204},{"$f":"IF(TH!$H$17=\"x\",I58,0)","v":54.550212746809862},null,{"$f":"M57","v":41.804348087359543},108.39272963334621,681.34296844179414,340.67148422089707,-340.67148422089707,-89.094103356346181,385.21853589907016,-385.21853589907016,8.7386238235134215,336.30217230914036,-336.30217230914036,85.049428774070293,298.14676983386192,-298.14676983386192,135.55295747417745,272.89500548380835,-272.89500548380835,{"$f":"IF($D$9=\"Par\",Path!R58,IF($D$9=\"Con\",Path!U58,IF($D$9=\"Exp\",Path!X58,IF($D$9=\"Hyp\",Path!AA58))))","v":85.049428774070293},{"$f":"IF(B59>0,K58,\"\")","v":54.550212746809862}]
[null,{"$f":"B56+1","v":12},{"$f":"(C56+Panels!C48)/2","v":43.792469220623374},{"$f":"(D56+Panels!D48)/2","v":56.884689258249068},null,{"$f":"IF(TH!$H$18=\"x\",C59,0)","v":43.792469220623374},{"$f":"IF(TH!$H$18=\"x\",D59,0)","v":56.884689258249068},null,null,{"$f":"J58","v":49.963337981988204},{"$f":"K58","v":54.550212746809862},null,{"$f":"M58","v":41.804348087359543},108.39272963334621,681.34296844179414,340.67148422089707,-340.67148422089707,-89.094103356346181,385.21853589907016,-385.21853589907016,8.7386238235134215,336.30217230914036,-336.30217230914036,85.049428774070293,298.14676983386192,-298.14676983386192,135.55295747417745,272.89500548380835,-272.89500548380835,{"$f":"IF($D$9=\"Par\",Path!R59,IF($D$9=\"Con\",Path!U59,IF($D$9=\"Exp\",Path!X59,IF($D$9=\"Hyp\",Path!AA59))))","v":85.049428774070293},{"$f":"IF(B59>0,K59,\"\")","v":54.550212746809862}]
[null,null,null,null,null,null,null,null,null,{"$f":"J59","v":49.963337981988204},{"$f":"K59","v":54.550212746809862},null,{"$f":"((H58-H55)^2+(I58-I55)^2)^0.5","v":2.5921429322026674},{"$f":"N57+M60","v":110.98487256554887},{"$f":"((C58-C59)^2+(D58-D59)^2)^0.5*Path!$F$3","v":754.24695494535467},377.12347747267734,-377.12347747267734,-28.589340023110594,391.41814748423263,-391.41814748423263,71.346968642819547,341.44999315126756,-341.44999315126756,150.01733084346404,302.11481205094532,-302.11481205094532,202.02829632448515,276.10932931043476,-276.10932931043476,{"$f":"IF($D$9=\"Par\",Path!R60,IF($D$9=\"Con\",Path!U60,IF($D$9=\"Exp\",Path!X60,IF($D$9=\"Hyp\",Path!AA60))))","v":150.01733084346404},{"$f":"IF(B59>0,K60,\"\")","v":54.550212746809862}]
[null,null,{"$f":"C58","v":56.134206743353026},{"$f":"D58","v":52.215736235370656},null,{"$f":"IF(TH!$H$18=\"x\",C61,0)","v":56.134206743353026},{"$f":"IF(TH!$H$18=\"x\",D61,0)","v":52.215736235370656},{"$f":"SUM(C61:C62)/2","v":53.054947030414297},{"$f":"SUM(D61:D62)/2","v":57.410043289206996},{"$f":"IF(TH!$H$17=\"x\",H61,0)","v":53.054947030414297},{"$f":"IF(TH!$H$17=\"x\",I61,0)","v":57.410043289206996},null,{"$f":"M60","v":2.5921429322026674},110.98487256554887,754.24695494535467,377.12347747267734,-377.12347747267734,-28.589340023110594,391.41814748423263,-391.41814748423263,71.346968642819547,341.44999315126756,-341.44999315126756,150.01733084346404,302.11481205094532,-302.11481205094532,202.02829632448515,276.10932931043476,-276.10932931043476,{"$f":"IF($D$9=\"Par\",Path!R61,IF($D$9=\"Con\",Path!U61,IF($D$9=\"Exp\",Path!X61,IF($D$9=\"Hyp\",Path!AA61))))","v":150.01733084346404},{"$f":"IF(B62>0,K61,\"\")","v":57.410043289206996}]
[null,{"$f":"B59+1","v":13},{"$f":"(C65+Panels!C48)/2","v":49.975687317475561},{"$f":"(D65+Panels!D48)/2","v":62.604350343043329},null,{"$f":"IF(TH!$H$18=\"x\",C62,0)","v":49.975687317475561},{"$f":"IF(TH!$H$18=\"x\",D62,0)","v":62.604350343043329},null,null,{"$f":"J61","v":53.054947030414297},{"$f":"K61","v":57.410043289206996},null,{"$f":"M61","v":2.5921429322026674},110.98487256554887,754.24695494535467,377.12347747267734,-377.12347747267734,-28.589340023110594,391.41814748423263,-391.41814748423263,71.346968642819547,{"$f":"PI()*($M$3*($N62-$E$4)*2+$K$3)^2/2","v":341.44999315126756},-341.44999315126756,150.01733084346404,302.11481205094532,-302.11481205094532,202.02829632448515,276.10932931043476,-276.10932931043476,{"$f":"IF($D$9=\"Par\",Path!R62,IF($D$9=\"Con\",Path!U62,IF($D$9=\"Exp\",Path!X62,IF($D$9=\"Hyp\",Path!AA62))))","v":150.01733084346404},{"$f":"IF(B62>0,K62,\"\")","v":57.410043289206996}]
[null,null,null,null,null,null,null,null,null,{"$f":"J62","v":53.054947030414297},{"$f":"K62","v":57.410043289206996},null,{"$f":"((H61-H58)^2+(I61-I58)^2)^0.5","v":4.2114934690128134},{"$f":"N60+M63","v":115.19636603456168},{"$f":"((C61-C62)^2+(D61-D62)^2)^0.5*Path!$F$3","v":690.31359480678464},345.15679740339232,-345.15679740339232,-112.66790386704974,401.49074933691719,-401.49074933691719,-9.4806155027234809,349.89710515475406,-349.89710515475406,72.964265063606945,308.67466487158885,-308.67466487158885,127.3860524492685,281.46377117875807,-281.46377117875807,{"$f":"IF($D$9=\"Par\",Path!R63,IF($D$9=\"Con\",Path!U63,IF($D$9=\"Exp\",Path!X63,IF($D$9=\"Hyp\",Path!AA63))))","v":72.964265063606945},{"$f":"IF(B62>0,K63,\"\")","v":57.410043289206996}]
[null,null,{"$f":"C61","v":56.134206743353026},{"$f":"D61","v":52.215736235370656},null,{"$f":"IF(TH!$H$18=\"x\",C64,0)","v":56.134206743353026},{"$f":"IF(TH!$H$18=\"x\",D64,0)","v":52.215736235370656},{"$f":"SUM(C64:C65)/2","v":56.362650681785198},{"$f":"SUM(D64:D65)/2","v":57.686753992427796},{"$f":"IF(TH!$H$17=\"x\",H64,0)","v":56.362650681785198},{"$f":"IF(TH!$H$17=\"x\",I64,0)","v":57.686753992427796},null,{"$f":"M63","v":4.2114934690128134},115.19636603456168,690.31359480678464,345.15679740339232,-345.15679740339232,-112.66790386704974,401.49074933691719,-401.49074933691719,-9.4806155027234809,349.89710515475406,-349.89710515475406,72.964265063606945,308.67466487158885,-308.67466487158885,127.3860524492685,281.46377117875807,-281.46377117875807,{"$f":"IF($D$9=\"Par\",Path!R64,IF($D$9=\"Con\",Path!U64,IF($D$9=\"Exp\",Path!X64,IF($D$9=\"Hyp\",Path!AA64))))","v":72.964265063606945},{"$f":"IF(B65>0,K64,\"\")","v":57.686753992427796},null,null,{"$f":"Panels!A54","v":"Panel I (4th inside)"},{"$f":"C64","v":56.134206743353026},{"$f":"D64","v":52.215736235370656},{"$f":"AI64+10*$E$22","v":56.551396125844427},{"$f":"AJ64+10*$E$21","v":62.207030096484765},{"$f":"IF(AK64-AI64<>0,(AL64-AJ64)/(AK64-AI64),\"vertical\")","v":23.94906073938747},{"$f":"IF(AM64<>\"vertical\",(AL64*AI64-AJ64*AK64)/(AI64-AK64),AJ64)","v":-1292.1457906185242}]
[null,{"$f":"B62+1","v":14},{"$f":"AO65","v":56.591094620217362},{"$f":"AP65","v":63.15777174948493},null,{"$f":"IF(TH!$H$18=\"x\",C65,0)","v":56.591094620217362},{"$f":"IF(TH!$H$18=\"x\",D65,0)","v":63.15777174948493},null,null,{"$f":"J64","v":56.362650681785198},{"$f":"K64","v":57.686753992427796},null,{"$f":"M64","v":4.2114934690128134},115.19636603456168,690.31359480678464,345.15679740339232,-345.15679740339232,-112.66790386704974,401.49074933691719,-401.49074933691719,-9.4806155027234809,349.89710515475406,-349.89710515475406,72.964265063606945,308.67466487158885,-308.67466487158885,127.3860524492685,281.46377117875807,-281.46377117875807,{"$f":"IF($D$9=\"Par\",Path!R65,IF($D$9=\"Con\",Path!U65,IF($D$9=\"Exp\",Path!X65,IF($D$9=\"Hyp\",Path!AA65))))","v":72.964265063606945},{"$f":"IF(B65>0,K65,\"\")","v":57.686753992427796},null,null,{"$f":"Panels!A42","v":"Panel G (2nd inside)"},{"$f":"Panels!C43","v":35.138614221801454},{"$f":"Panels!D43","v":61.363133667437943},{"$f":"Panels!C44","v":67.955630708791986},{"$f":"Panels!D44","v":64.108488350575925},{"$f":"(AL65-AJ65)/(AK65-AI65)","v":8.3656437331111694E-2},{"$f":"(AL65*AI65-AJ65*AK65)/(AI65-AK65)","v":58.423562388889707},{"$f":"IF(AM64<>\"vertical\",(AN64-AN65)/(AM65-AM64),AI64)","v":56.591094620217362},{"$f":"AO65*AM65+AN65","v":63.15777174948493}]
[null,null,null,null,null,null,null,null,null,{"$f":"J65","v":56.362650681785198},{"$f":"K65","v":57.686753992427796},null,{"$f":"((H64-H61)^2+(I64-I61)^2)^0.5","v":3.3192577873026581},{"$f":"N63+M66","v":118.51562382186434},{"$f":"((C64-C65)^2+(D64-D65)^2)^0.5*Path!$F$3","v":625.99174709593592},312.99587354796796,-312.99587354796796,-192.86704659636098,409.42939684614845,-409.42939684614845,-87.262982354079554,356.62736472500774,-356.62736472500774,-1.8982119793776064,313.94497953765676,-313.94497953765676,54.388688256667933,285.80152941963399,-285.80152941963399,{"$f":"IF($D$9=\"Par\",Path!R66,IF($D$9=\"Con\",Path!U66,IF($D$9=\"Exp\",Path!X66,IF($D$9=\"Hyp\",Path!AA66))))","v":-1.8982119793776064},{"$f":"IF(B65>0,K66,\"\")","v":57.686753992427796}]
[null,null,{"$f":"Panels!C56","v":57.334206743353029},{"$f":"Panels!D56","v":52.215736235370656},null,{"$f":"IF(TH!$H$18=\"x\",C67,0)","v":57.334206743353029},{"$f":"IF(TH!$H$18=\"x\",D67,0)","v":52.215736235370656},{"$f":"SUM(C67:C68)/2","v":57.564753887822},{"$f":"SUM(D67:D68)/2","v":57.737123801550474},{"$f":"IF(TH!$H$17=\"x\",H67,0)","v":57.564753887822},{"$f":"IF(TH!$H$17=\"x\",I67,0)","v":57.737123801550474},null,{"$f":"M66","v":3.3192577873026581},118.51562382186434,625.99174709593592,312.99587354796796,-312.99587354796796,-192.86704659636098,409.42939684614845,-409.42939684614845,-87.262982354079554,356.62736472500774,-356.62736472500774,-1.8982119793776064,313.94497953765676,-313.94497953765676,54.388688256667933,285.80152941963399,-285.80152941963399,{"$f":"IF($D$9=\"Par\",Path!R67,IF($D$9=\"Con\",Path!U67,IF($D$9=\"Exp\",Path!X67,IF($D$9=\"Hyp\",Path!AA67))))","v":-1.8982119793776064},{"$f":"IF(B68>0,K67,\"\")","v":57.737123801550474},null,null,{"$f":"AH76","v":"Panel I (4th inside)"},{"$f":"C67","v":57.334206743353029},{"$f":"D67","v":52.215736235370656},{"$f":"AI67+10*$E$22","v":57.75139612584443},{"$f":"AJ67+10*$E$21","v":62.207030096484765},{"$f":"IF(AK67-AI67<>0,(AL67-AJ67)/(AK67-AI67),\"vertical\")","v":23.94906073938747},{"$f":"IF(AM67<>\"vertical\",(AL67*AI67-AJ67*AK67)/(AI67-AK67),AJ67)","v":-1320.8846635057896}]
[null,{"$f":"B65+1","v":15},{"$f":"AO68","v":57.795301032290972},{"$f":"AP68","v":63.258511367730293},null,{"$f":"IF(TH!$H$18=\"x\",C68,0)","v":57.795301032290972},{"$f":"IF(TH!$H$18=\"x\",D68,0)","v":63.258511367730293},null,null,{"$f":"J67","v":57.564753887822},{"$f":"K67","v":57.737123801550474},null,{"$f":"M67","v":3.3192577873026581},118.51562382186434,625.99174709593592,312.99587354796796,-312.99587354796796,-192.86704659636098,409.42939684614845,-409.42939684614845,-87.262982354079554,356.62736472500774,-356.62736472500774,-1.8982119793776064,313.94497953765676,-313.94497953765676,54.388688256667933,285.80152941963399,-285.80152941963399,{"$f":"IF($D$9=\"Par\",Path!R68,IF($D$9=\"Con\",Path!U68,IF($D$9=\"Exp\",Path!X68,IF($D$9=\"Hyp\",Path!AA68))))","v":-1.8982119793776064},{"$f":"IF(B68>0,K68,\"\")","v":57.737123801550474},null,null,{"$f":"Panels!A42","v":"Panel G (2nd inside)"},{"$f":"Panels!C43","v":35.138614221801454},{"$f":"Panels!D43","v":61.363133667437943},{"$f":"Panels!C44","v":67.955630708791986},{"$f":"Panels!D44","v":64.108488350575925},{"$f":"(AL68-AJ68)/(AK68-AI68)","v":8.3656437331111694E-2},{"$f":"(AL68*AI68-AJ68*AK68)/(AI68-AK68)","v":58.423562388889707},{"$f":"IF(AM67<>\"vertical\",(AN67-AN68)/(AM68-AM67),AI67)","v":57.795301032290972},{"$f":"AO68*AM68+AN68","v":63.258511367730293}]
[null,null,null,null,null,null,null,null,null,{"$f":"J68","v":57.564753887822},{"$f":"K68","v":57.737123801550474},null,{"$f":"((H67-H64)^2+(I67-I64)^2)^0.5","v":1.2031580260443826},{"$f":"N66+M69","v":119.71878184790872},{"$f":"((C67-C68)^2+(D67-D68)^2)^0.5*Path!$F$3","v":631.75504127880049},315.87752063940025,-315.87752063940025,-192.85892304423601,412.30698216151825,-412.30698216151825,-86.410494035569627,359.08276765718506,-359.08276765718506,5.4824566973366018E-5,315.87749322711676,-315.87749322711676,56.95511261015497,287.39996433432276,-287.39996433432276,{"$f":"IF($D$9=\"Par\",Path!R69,IF($D$9=\"Con\",Path!U69,IF($D$9=\"Exp\",Path!X69,IF($D$9=\"Hyp\",Path!AA69))))","v":5.4824566973366018E-5},{"$f":"IF(B68>0,K69,\"\")","v":57.737123801550474}]
[null,null,{"$f":"C67","v":57.334206743353029},{"$f":"D67","v":52.215736235370656},null,{"$f":"IF(TH!$H$18=\"x\",C70,0)","v":57.334206743353029},{"$f":"IF(TH!$H$18=\"x\",D70,0)","v":52.215736235370656},{"$f":"SUM(C70:C71)/2","v":60.104836306947249},{"$f":"SUM(D70:D71)/2","v":57.949618047261879},{"$f":"IF(TH!$H$17=\"x\",H70,0)","v":60.104836306947249},{"$f":"IF(TH!$H$17=\"x\",I70,0)","v":57.949618047261879},null,{"$f":"M69","v":1.2031580260443826},119.71878184790872,631.75504127880049,315.87752063940025,-315.87752063940025,-192.85892304423601,412.30698216151825,-412.30698216151825,-86.410494035569627,359.08276765718506,-359.08276765718506,5.4824566973366018E-5,315.87749322711676,-315.87749322711676,56.95511261015497,287.39996433432276,-287.39996433432276,{"$f":"IF($D$9=\"Par\",Path!R70,IF($D$9=\"Con\",Path!U70,IF($D$9=\"Exp\",Path!X70,IF($D$9=\"Hyp\",Path!AA70))))","v":5.4824566973366018E-5},{"$f":"IF(B71>0,K70,\"\")","v":57.949618047261879}]
[null,{"$f":"B68+1","v":16},{"$f":"(C68+Panels!C44)/2","v":62.875465870541476},{"$f":"(D68+Panels!D44)/2","v":63.683499859153109},null,{"$f":"IF(TH!$H$18=\"x\",C71,0)","v":62.875465870541476},{"$f":"IF(TH!$H$18=\"x\",D71,0)","v":63.683499859153109},null,null,{"$f":"J70","v":60.104836306947249},{"$f":"K70","v":57.949618047261879},null,{"$f":"M70","v":1.2031580260443826},119.71878184790872,631.75504127880049,315.87752063940025,-315.87752063940025,-192.85892304423601,412.30698216151825,-412.30698216151825,-86.410494035569627,359.08276765718506,-359.08276765718506,5.4824566973366018E-5,315.87749322711676,-315.87749322711676,56.95511261015497,287.39996433432276,-287.39996433432276,{"$f":"IF($D$9=\"Par\",Path!R71,IF($D$9=\"Con\",Path!U71,IF($D$9=\"Exp\",Path!X71,IF($D$9=\"Hyp\",Path!AA71))))","v":5.4824566973366018E-5},{"$f":"IF(B71>0,K71,\"\")","v":57.949618047261879}]
[null,null,null,null,null,null,null,null,null,{"$f":"J71","v":60.104836306947249},{"$f":"K71","v":57.949618047261879},null,{"$f":"((H70-H67)^2+(I70-I67)^2)^0.5","v":2.5489551781876498},{"$f":"N69+M72","v":122.26773702609637},{"$f":"((C70-C71)^2+(D70-D71)^2)^0.5*Path!$F$3","v":728.01098654663156},364.00549327331578,-364.00549327331578,-108.79561719951244,418.403301873072,-418.403301873072,-0.6140106630604123,364.31249860484598,-364.31249860484598,87.988957595112311,320.01101447575962,-320.01101447575962,146.34521422655087,290.83288616004035,-290.83288616004035,{"$f":"IF($D$9=\"Par\",Path!R72,IF($D$9=\"Con\",Path!U72,IF($D$9=\"Exp\",Path!X72,IF($D$9=\"Hyp\",Path!AA72))))","v":87.988957595112311},{"$f":"IF(B71>0,K72,\"\")","v":57.949618047261879}]
[null,null,{"$f":"C70","v":57.334206743353029},{"$f":"D70","v":52.215736235370656},null,{"$f":"IF(TH!$H$18=\"x\",C73,0)","v":57.334206743353029},{"$f":"IF(TH!$H$18=\"x\",D73,0)","v":52.215736235370656},{"$f":"SUM(C73:C74)/2","v":62.883536108915052},{"$f":"SUM(D73:D74)/2","v":55.309762964515762},{"$f":"IF(TH!$H$17=\"x\",H73,0)","v":62.883536108915052},{"$f":"IF(TH!$H$17=\"x\",I73,0)","v":55.309762964515762},null,{"$f":"M72","v":2.5489551781876498},122.26773702609637,728.01098654663156,364.00549327331578,-364.00549327331578,-108.79561719951244,418.403301873072,-418.403301873072,-0.6140106630604123,364.31249860484598,-364.31249860484598,87.988957595112311,320.01101447575962,-320.01101447575962,146.34521422655087,290.83288616004035,-290.83288616004035,{"$f":"IF($D$9=\"Par\",Path!R73,IF($D$9=\"Con\",Path!U73,IF($D$9=\"Exp\",Path!X73,IF($D$9=\"Hyp\",Path!AA73))))","v":87.988957595112311},{"$f":"IF(B74>0,K73,\"\")","v":55.309762964515762}]
[null,{"$f":"B71+1","v":17},{"$f":"(C77+Panels!C44)/2","v":68.432865474477069},{"$f":"(D77+Panels!D44)/2","v":58.403789693660869},null,{"$f":"IF(TH!$H$18=\"x\",C74,0)","v":68.432865474477069},{"$f":"IF(TH!$H$18=\"x\",D74,0)","v":58.403789693660869},null,null,{"$f":"J73","v":62.883536108915052},{"$f":"K73","v":55.309762964515762},null,{"$f":"M73","v":2.5489551781876498},122.26773702609637,728.01098654663156,364.00549327331578,-364.00549327331578,-108.79561719951244,418.403301873072,-418.403301873072,-0.6140106630604123,364.31249860484598,-364.31249860484598,87.988957595112311,320.01101447575962,-320.01101447575962,146.34521422655087,290.83288616004035,-290.83288616004035,{"$f":"IF($D$9=\"Par\",Path!R74,IF($D$9=\"Con\",Path!U74,IF($D$9=\"Exp\",Path!X74,IF($D$9=\"Hyp\",Path!AA74))))","v":87.988957595112311},{"$f":"IF(B74>0,K74,\"\")","v":55.309762964515762}]
[null,null,null,null,null,null,null,null,null,{"$f":"J74","v":62.883536108915052},{"$f":"K74","v":55.309762964515762},null,{"$f":"((H73-H70)^2+(I73-I70)^2)^0.5","v":3.8327545508884882},{"$f":"N72+M75","v":126.10049157698487},{"$f":"((C73-C74)^2+(D73-D74)^2)^0.5*Path!$F$3","v":726.3419762491792},363.1709881245896,-363.1709881245896,-128.79817633146604,427.57007629032262,-427.57007629032262,-18.152800315160221,372.24738828216971,-372.24738828216971,73.685071841851595,326.3284522036638,-326.3284522036638,134.11037377481898,296.11580123718011,-296.11580123718011,{"$f":"IF($D$9=\"Par\",Path!R75,IF($D$9=\"Con\",Path!U75,IF($D$9=\"Exp\",Path!X75,IF($D$9=\"Hyp\",Path!AA75))))","v":73.685071841851595},{"$f":"IF(B74>0,K75,\"\")","v":55.309762964515762}]
[null,null,{"$f":"C73","v":57.334206743353029},{"$f":"D73","v":52.215736235370656},null,{"$f":"IF(TH!$H$18=\"x\",C76,0)","v":57.334206743353029},{"$f":"IF(TH!$H$18=\"x\",D76,0)","v":52.215736235370656},{"$f":"SUM(C76:C77)/2","v":63.122153491757587},{"$f":"SUM(D76:D77)/2","v":52.457413636058234},{"$f":"IF(TH!$H$17=\"x\",H76,0)","v":63.122153491757587},{"$f":"IF(TH!$H$17=\"x\",I76,0)","v":52.457413636058234},null,{"$f":"M75","v":3.8327545508884882},126.10049157698487,726.3419762491792,{"$f":"O76/2","v":363.1709881245896},{"$f":"-P76","v":-363.1709881245896},-128.79817633146604,427.57007629032262,{"$f":"-S76","v":-427.57007629032262},-18.152800315160221,372.24738828216971,-372.24738828216971,73.685071841851595,326.3284522036638,-326.3284522036638,134.11037377481898,296.11580123718011,-296.11580123718011,{"$f":"IF($D$9=\"Par\",Path!R76,IF($D$9=\"Con\",Path!U76,IF($D$9=\"Exp\",Path!X76,IF($D$9=\"Hyp\",Path!AA76))))","v":73.685071841851595},{"$f":"IF(B77>0,K76,\"\")","v":52.457413636058234},null,null,{"$f":"Panels!A54","v":"Panel I (4th inside)"},{"$f":"Panels!C56","v":57.334206743353029},{"$f":"Panels!D56","v":52.215736235370656},{"$f":"AI76+10*$E$21","v":67.325500604467138},{"$f":"AJ76+10*$E$22","v":52.632925617862057},{"$f":"IF(AK76-AI76<>0,(AL76-AJ76)/(AK76-AI76),\"vertical\")","v":4.1755290985394045E-2},{"$f":"IF(AM76<>\"vertical\",(AL76*AI76-AJ76*AK76)/(AI76-AK76),AJ76)","v":49.821729749385192}]
[null,{"$f":"B74+1","v":18},{"$f":"AO77","v":68.910100240162151},{"$f":"AP77","v":52.699091036745813},null,{"$f":"IF(TH!$H$18=\"x\",C77,0)","v":68.910100240162151},{"$f":"IF(TH!$H$18=\"x\",D77,0)","v":52.699091036745813},null,null,{"$f":"J76","v":63.122153491757587},{"$f":"K76","v":52.457413636058234},null,{"$f":"M76","v":3.8327545508884882},126.10049157698487,726.3419762491792,363.1709881245896,-363.1709881245896,-128.79817633146604,427.57007629032262,-427.57007629032262,-18.152800315160221,372.24738828216971,-372.24738828216971,73.685071841851595,326.3284522036638,-326.3284522036638,134.11037377481898,296.11580123718011,-296.11580123718011,{"$f":"IF($D$9=\"Par\",Path!R77,IF($D$9=\"Con\",Path!U77,IF($D$9=\"Exp\",Path!X77,IF($D$9=\"Hyp\",Path!AA77))))","v":73.685071841851595},{"$f":"IF(B77>0,K77,\"\")","v":52.457413636058234},null,null,{"$f":"Panels!A60","v":"Panel J (5th inside)"},{"$f":"Panels!C60","v":67.855592427602986},{"$f":"Panels!D60","v":65.304311223035199},{"$f":"Panels!C61","v":71.919536260218237},{"$f":"Panels!D61","v":16.725337957293867},{"$f":"(AL77-AJ77)/(AK77-AI77)","v":-11.953652724201044},{"$f":"(AL77*AI77-AJ77*AK77)/(AI77-AK77)","v":876.42649849752718},{"$f":"IF(AM76<>\"vertical\",(AN76-AN77)/(AM77-AM76),AI76)","v":68.910100240162151},{"$f":"AO77*AM77+AN77","v":52.699091036745813}]
[null,null,null,null,null,null,null,null,null,{"$f":"J77","v":63.122153491757587},{"$f":"K77","v":52.457413636058234},null,{"$f":"((H76-H73)^2+(I76-I73)^2)^0.5","v":2.8623128667122906},{"$f":"N75+M78","v":128.96280444369717},{"$f":"((C76-C77)^2+(D76-D77)^2)^0.5*Path!$F$3","v":662.25464036529411},331.12732018264705,-331.12732018264705,-206.57706277637669,434.4158515708354,-434.4158515708354,-94.203251937645746,378.22894615146993,-378.22894615146993,-4.5073989463162434E-4,331.12754555259437,-331.12754555259437,61.939132082254446,300.15775414151983,-300.15775414151983,{"$f":"IF($D$9=\"Par\",Path!R78,IF($D$9=\"Con\",Path!U78,IF($D$9=\"Exp\",Path!X78,IF($D$9=\"Hyp\",Path!AA78))))","v":-4.5073989463162434E-4},{"$f":"IF(B77>0,K78,\"\")","v":52.457413636058234}]
[null,null,{"$f":"C82","v":71.919536260218237},{"$f":"D82","v":16.725337957293867},null,{"$f":"IF(TH!$H$18=\"x\",C79,0)","v":71.919536260218237},{"$f":"IF(TH!$H$18=\"x\",D79,0)","v":16.725337957293867},{"$f":"SUM(C79:C80)/2","v":64.626871501785629},{"$f":"SUM(D79:D80)/2","v":16.420830618246576},{"$f":"IF(TH!$H$17=\"x\",H79,0)","v":64.626871501785629},{"$f":"IF(TH!$H$17=\"x\",I79,0)","v":16.420830618246576},null,{"$f":"M78","v":2.8623128667122906},128.96280444369717,662.25464036529411,{"$f":"O79/2","v":331.12732018264705},{"$f":"-P79","v":-331.12732018264705},-206.57706277637669,434.4158515708354,{"$f":"-S79","v":-434.4158515708354},-94.203251937645746,378.22894615146993,-378.22894615146993,-4.5073989463162434E-4,331.12754555259437,-331.12754555259437,61.939132082254446,300.15775414151983,-300.15775414151983,{"$f":"IF($D$9=\"Par\",Path!R79,IF($D$9=\"Con\",Path!U79,IF($D$9=\"Exp\",Path!X79,IF($D$9=\"Hyp\",Path!AA79))))","v":-4.5073989463162434E-4},{"$f":"IF(B80>0,K79,\"\")","v":16.420830618246576},null,null,{"$f":"AH52","v":"Panel H (3rd inside)"},{"$f":"Panels!C56","v":57.334206743353029},{"$f":"Panels!D56","v":52.215736235370656},{"$f":"Panels!C57","v":57.334206743353029},{"$f":"Panels!D57","v":1.8999999999999986},{"$f":"IF(AK79-AI79<>0,(AL79-AJ79)/(AK79-AI79),\"vertical\")","v":"vertical"},{"$f":"IF(AM79<>\"vertical\",(AL79*AI79-AJ79*AK79)/(AI79-AK79),AJ79)","v":52.215736235370656}]
[null,{"$f":"B77+1","v":19},{"$f":"AO80","v":57.334206743353029},{"$f":"AP80","v":16.116323279199289},null,{"$f":"IF(TH!$H$18=\"x\",C80,0)","v":57.334206743353029},{"$f":"IF(TH!$H$18=\"x\",D80,0)","v":16.116323279199289},null,null,{"$f":"J79","v":64.626871501785629},{"$f":"K79","v":16.420830618246576},null,{"$f":"M79","v":2.8623128667122906},128.96280444369717,662.25464036529411,331.12732018264705,-331.12732018264705,-206.57706277637669,434.4158515708354,-434.4158515708354,-94.203251937645746,378.22894615146993,-378.22894615146993,-4.5073989463162434E-4,331.12754555259437,-331.12754555259437,61.939132082254446,300.15775414151983,-300.15775414151983,{"$f":"IF($D$9=\"Par\",Path!R80,IF($D$9=\"Con\",Path!U80,IF($D$9=\"Exp\",Path!X80,IF($D$9=\"Hyp\",Path!AA80))))","v":-4.5073989463162434E-4},{"$f":"IF(B80>0,K80,\"\")","v":16.420830618246576},null,null,"Sample point 10",{"$f":"C79","v":71.919536260218237},{"$f":"D79","v":16.725337957293867},{"$f":"AI80+10*$E$21","v":81.910830121332339},{"$f":"AJ80+10*$E$22","v":17.142527339785268},{"$f":"(AL80-AJ80)/(AK80-AI80)","v":4.1755290985394072E-2},{"$f":"(AL80*AI80-AJ80*AK80)/(AI80-AK80)","v":13.722316793213841},{"$f":"IF(AM79<>\"vertical\",(AN79-AN80)/(AM80-AM79),AI79)","v":57.334206743353029},{"$f":"AO80*AM80+AN80","v":16.116323279199289}]
[null,null,null,null,null,null,null,null,null,{"$f":"J80","v":64.626871501785629},{"$f":"K80","v":16.420830618246576},null,{"$f":"((H79-H76)^2+(I79-I76)^2)^0.5","v":36.06798430588178},{"$f":"N78+M81","v":165.03078874957896},{"$f":"((C79-C80)^2+(D79-D80)^2)^0.5*Path!$F$3","v":834.42389621703273},417.21194810851637,-417.21194810851637,-206.93493926621136,520.67941774162205,-520.67941774162205,-80.952108699345558,457.68800245818915,-457.68800245818915,38.410733020681732,398.0065815981755,-398.0065815981755,116.69934643788633,358.8622748895732,-358.8622748895732,{"$f":"IF($D$9=\"Par\",Path!R81,IF($D$9=\"Con\",Path!U81,IF($D$9=\"Exp\",Path!X81,IF($D$9=\"Hyp\",Path!AA81))))","v":38.410733020681732},{"$f":"IF(B80>0,K81,\"\")","v":16.420830618246576}]
[null,null,{"$f":"C88","v":71.919536260218237},{"$f":"D88","v":16.725337957293867},null,{"$f":"IF(TH!$H$18=\"x\",C82,0)","v":71.919536260218237},{"$f":"IF(TH!$H$18=\"x\",D82,0)","v":16.725337957293867},{"$f":"SUM(C82:C83)/2","v":64.626871501785629},{"$f":"SUM(D82:D83)/2","v":12.866749798446754},{"$f":"IF(TH!$H$17=\"x\",H82,0)","v":64.626871501785629},{"$f":"IF(TH!$H$17=\"x\",I82,0)","v":12.866749798446754},null,{"$f":"M81","v":36.06798430588178},165.03078874957896,834.42389621703273,417.21194810851637,-417.21194810851637,-206.93493926621136,520.67941774162205,-520.67941774162205,-80.952108699345558,457.68800245818915,-457.68800245818915,38.410733020681732,398.0065815981755,-398.0065815981755,116.69934643788633,358.8622748895732,-358.8622748895732,{"$f":"IF($D$9=\"Par\",Path!R82,IF($D$9=\"Con\",Path!U82,IF($D$9=\"Exp\",Path!X82,IF($D$9=\"Hyp\",Path!AA82))))","v":38.410733020681732},{"$f":"IF(B83>0,K82,\"\")","v":12.866749798446754}]
[null,{"$f":"B80+1","v":20},{"$f":"(C80+Panels!C57)/2","v":57.334206743353029},{"$f":"(D80+Panels!D57)/2","v":9.0081616395996438},null,{"$f":"IF(TH!$H$18=\"x\",C83,0)","v":57.334206743353029},{"$f":"IF(TH!$H$18=\"x\",D83,0)","v":9.0081616395996438},null,null,{"$f":"J82","v":64.626871501785629},{"$f":"K82","v":12.866749798446754},null,{"$f":"M82","v":36.06798430588178},165.03078874957896,834.42389621703273,417.21194810851637,-417.21194810851637,-206.93493926621136,520.67941774162205,-520.67941774162205,-80.952108699345558,457.68800245818915,-457.68800245818915,38.410733020681732,398.0065815981755,-398.0065815981755,116.69934643788633,358.8622748895732,-358.8622748895732,{"$f":"IF($D$9=\"Par\",Path!R83,IF($D$9=\"Con\",Path!U83,IF($D$9=\"Exp\",Path!X83,IF($D$9=\"Hyp\",Path!AA83))))","v":38.410733020681732},{"$f":"IF(B83>0,K83,\"\")","v":12.866749798446754}]
[null,null,null,null,null,null,null,null,null,{"$f":"J83","v":64.626871501785629},{"$f":"K83","v":12.866749798446754},null,{"$f":"((H82-H79)^2+(I82-I79)^2)^0.5","v":3.5540808197998217},{"$f":"N81+M84","v":168.58486956937878},{"$f":"((C82-C83)^2+(D82-D83)^2)^0.5*Path!$F$3","v":943.20347566162809},471.60173783081405,-471.60173783081405,-115.15590431420787,529.17968998791798,-529.17968998791798,11.348475236743866,465.92750021244211,-465.92750021244211,132.62891799998681,405.28727883082064,-405.28727883082064,212.2013843981656,365.50104563173124,-365.50104563173124,{"$f":"IF($D$9=\"Par\",Path!R84,IF($D$9=\"Con\",Path!U84,IF($D$9=\"Exp\",Path!X84,IF($D$9=\"Hyp\",Path!AA84))))","v":132.62891799998681},{"$f":"IF(B83>0,K84,\"\")","v":12.866749798446754}]
[null,null,{"$f":"C88","v":71.919536260218237},{"$f":"D88","v":16.725337957293867},null,{"$f":"IF(TH!$H$18=\"x\",C85,0)","v":71.919536260218237},{"$f":"IF(TH!$H$18=\"x\",D85,0)","v":16.725337957293867},{"$f":"SUM(C85:C86)/2","v":68.427962956092841},{"$f":"SUM(D85:D86)/2","v":9.3126689786469328},{"$f":"IF(TH!$H$17=\"x\",H85,0)","v":68.427962956092841},{"$f":"IF(TH!$H$17=\"x\",I85,0)","v":9.3126689786469328},null,{"$f":"M84","v":3.5540808197998217},168.58486956937878,943.20347566162809,471.60173783081405,-471.60173783081405,-115.15590431420787,529.17968998791798,-529.17968998791798,11.348475236743866,465.92750021244211,-465.92750021244211,132.62891799998681,405.28727883082064,-405.28727883082064,212.2013843981656,365.50104563173124,-365.50104563173124,{"$f":"IF($D$9=\"Par\",Path!R85,IF($D$9=\"Con\",Path!U85,IF($D$9=\"Exp\",Path!X85,IF($D$9=\"Hyp\",Path!AA85))))","v":132.62891799998681},{"$f":"IF(B86>0,K85,\"\")","v":9.3126689786469328}]
[null,{"$f":"B83+1","v":21},{"$f":"(C89+Panels!C57)/2","v":64.936389651967446},{"$f":"(D89+Panels!D57)/2","v":1.8999999999999986},null,{"$f":"IF(TH!$H$18=\"x\",C86,0)","v":64.936389651967446},{"$f":"IF(TH!$H$18=\"x\",D86,0)","v":1.8999999999999986},null,null,{"$f":"J85","v":68.427962956092841},{"$f":"K85","v":9.3126689786469328},null,{"$f":"M85","v":3.5540808197998217},168.58486956937878,943.20347566162809,471.60173783081405,-471.60173783081405,-115.15590431420787,529.17968998791798,-529.17968998791798,11.348475236743866,465.92750021244211,-465.92750021244211,132.62891799998681,405.28727883082064,-405.28727883082064,212.2013843981656,365.50104563173124,-365.50104563173124,{"$f":"IF($D$9=\"Par\",Path!R86,IF($D$9=\"Con\",Path!U86,IF($D$9=\"Exp\",Path!X86,IF($D$9=\"Hyp\",Path!AA86))))","v":132.62891799998681},{"$f":"IF(B86>0,K86,\"\")","v":9.3126689786469328}]
[null,null,null,null,null,null,null,null,null,{"$f":"J86","v":68.427962956092841},{"$f":"K86","v":9.3126689786469328},null,{"$f":"((H85-H82)^2+(I85-I82)^2)^0.5","v":5.2038242396987515},{"$f":"N84+M87","v":173.78869380907753},{"$f":"((C85-C86)^2+(D85-D86)^2)^0.5*Path!$F$3","v":936.71791630401503},468.35895815200752,-468.35895815200752,-146.53336962561116,541.6256429648131,-541.6256429648131,-19.530555318143911,478.12423581107947,-478.12423581107947,104.34092376609283,416.1884962689611,-416.1884962689611,185.66674076080733,375.52558777160385,-375.52558777160385,{"$f":"IF($D$9=\"Par\",Path!R87,IF($D$9=\"Con\",Path!U87,IF($D$9=\"Exp\",Path!X87,IF($D$9=\"Hyp\",Path!AA87))))","v":104.34092376609283},{"$f":"IF(B86>0,K87,\"\")","v":9.3126689786469328}]
[null,null,{"$f":"Panels!C61","v":71.919536260218237},{"$f":"Panels!D61","v":16.725337957293867},null,{"$f":"IF(TH!$H$18=\"x\",C88,0)","v":71.919536260218237},{"$f":"IF(TH!$H$18=\"x\",D88,0)","v":16.725337957293867},{"$f":"SUM(C88:C89)/2","v":72.229054410400039},{"$f":"SUM(D88:D89)/2","v":9.3126689786469328},{"$f":"IF(TH!$H$17=\"x\",H88,0)","v":72.229054410400039},{"$f":"IF(TH!$H$17=\"x\",I88,0)","v":9.3126689786469328},null,{"$f":"M87","v":5.2038242396987515},173.78869380907753,936.71791630401503,468.35895815200752,-468.35895815200752,-146.53336962561116,541.6256429648131,-541.6256429648131,-19.530555318143911,478.12423581107947,-478.12423581107947,104.34092376609283,416.1884962689611,-416.1884962689611,185.66674076080733,375.52558777160385,-375.52558777160385,{"$f":"IF($D$9=\"Par\",Path!R88,IF($D$9=\"Con\",Path!U88,IF($D$9=\"Exp\",Path!X88,IF($D$9=\"Hyp\",Path!AA88))))","v":104.34092376609283},{"$f":"IF(B89>0,K88,\"\")","v":9.3126689786469328}]
[null,{"$f":"B86+1","v":22},{"$f":"C88+(D88-D89)*E$23","v":72.538572560581855},{"$f":"Panels!$D$57","v":1.8999999999999986},null,{"$f":"IF(TH!$H$18=\"x\",C89,0)","v":72.538572560581855},{"$f":"IF(TH!$H$18=\"x\",D89,0)","v":1.8999999999999986},null,null,{"$f":"J88","v":72.229054410400039},{"$f":"K88","v":9.3126689786469328},null,{"$f":"M88","v":5.2038242396987515},173.78869380907753,936.71791630401503,468.35895815200752,-468.35895815200752,-146.53336962561116,541.6256429648131,-541.6256429648131,-19.530555318143911,478.12423581107947,-478.12423581107947,104.34092376609283,416.1884962689611,-416.1884962689611,185.66674076080733,375.52558777160385,-375.52558777160385,{"$f":"IF($D$9=\"Par\",Path!R89,IF($D$9=\"Con\",Path!U89,IF($D$9=\"Exp\",Path!X89,IF($D$9=\"Hyp\",Path!AA89))))","v":104.34092376609283},{"$f":"IF(B89>0,K89,\"\")","v":9.3126689786469328}]
[null,null,null,null,null,null,null,null,null,{"$f":"J89","v":72.229054410400039},{"$f":"K89","v":9.3126689786469328},null,{"$f":"((H88-H85)^2+(I88-I85)^2)^0.5","v":3.8010914543071976},{"$f":"N87+M90","v":177.58978526338473},{"$f":"((C88-C89)^2+(D88-D89)^2)^0.5*Path!$F$3","v":848.15473292907836},424.07736646453918,-424.07736646453918,-253.2786449860082,550.71668895754328,-550.71668895754328,-126.11093603367578,487.13283448137707,-487.13283448137707,-0.51740496903596522,424.33606894905716,-424.33606894905716,81.989276742922812,383.08272809307778,-383.08272809307778,{"$f":"IF($D$9=\"Par\",Path!R90,IF($D$9=\"Con\",Path!U90,IF($D$9=\"Exp\",Path!X90,IF($D$9=\"Hyp\",Path!AA90))))","v":-0.51740496903596522},{"$f":"IF(B89>0,K90,\"\")","v":9.3126689786469328}]
[null,null,{"$f":"Panels!C62","v":73.115359132677511},{"$f":"Panels!D62","v":16.825376238482868},null,{"$f":"IF(TH!$H$18=\"x\",C91,0)","v":73.115359132677511},{"$f":"IF(TH!$H$18=\"x\",D91,0)","v":16.825376238482868},{"$f":"SUM(C91:C92)/2","v":73.426965846629685},{"$f":"SUM(D91:D92)/2","v":9.3626881192414331},{"$f":"IF(TH!$H$17=\"x\",H91,0)","v":73.426965846629685},{"$f":"IF(TH!$H$17=\"x\",I91,0)","v":9.3626881192414331},null,{"$f":"M90","v":3.8010914543071976},177.58978526338473,848.15473292907836,424.07736646453918,-424.07736646453918,-253.2786449860082,550.71668895754328,-550.71668895754328,-126.11093603367578,487.13283448137707,-487.13283448137707,-0.51740496903596522,424.33606894905716,-424.33606894905716,81.989276742922812,383.08272809307778,-383.08272809307778,{"$f":"IF($D$9=\"Par\",Path!R91,IF($D$9=\"Con\",Path!U91,IF($D$9=\"Exp\",Path!X91,IF($D$9=\"Hyp\",Path!AA91))))","v":-0.51740496903596522},{"$f":"IF(B92>0,K91,\"\")","v":9.3626881192414331}]
[null,{"$f":"B89+1","v":23},{"$f":"C91+(D91-D92)*E23","v":73.738572560581844},{"$f":"Panels!D28","v":1.9},null,{"$f":"IF(TH!$H$18=\"x\",C92,0)","v":73.738572560581844},{"$f":"IF(TH!$H$18=\"x\",D92,0)","v":1.9},null,null,{"$f":"J91","v":73.426965846629685},{"$f":"K91","v":9.3626881192414331},null,{"$f":"M91","v":3.8010914543071976},177.58978526338473,848.15473292907836,424.07736646453918,-424.07736646453918,{"$f":"($P92-S92)*2","v":-253.2786449860082},550.71668895754328,-550.71668895754328,{"$f":"($P92-V92)*2","v":-126.11093603367578},487.13283448137707,-487.13283448137707,{"$f":"($P92-Y92)*2","v":-0.51740496903596522},424.33606894905716,-424.33606894905716,{"$f":"($P92-AB92)*2","v":81.989276742922812},383.08272809307778,-383.08272809307778,{"$f":"IF($D$9=\"Par\",Path!R92,IF($D$9=\"Con\",Path!U92,IF($D$9=\"Exp\",Path!X92,IF($D$9=\"Hyp\",Path!AA92))))","v":-0.51740496903596522},{"$f":"IF(B92>0,K92,\"\")","v":9.3626881192414331}]
[null,null,null,null,null,null,null,null,null,{"$f":"J92","v":73.426965846629685},{"$f":"K92","v":9.3626881192414331},null,{"$f":"((H91-H88)^2+(I91-I88)^2)^0.5","v":1.1989552633337013},{"$f":"N90+M93","v":178.78874052671841},{"$f":"((C91-C92)^2+(D91-D92)^2)^0.5*Path!$F$3","v":853.87790375384839},426.93895187692419,-426.93895187692419,-253.29054135086926,553.58422255235882,-553.58422255235882,-126.10570588960866,489.99180482172852,-489.99180482172852,3.6444134821067564E-8,426.93895185870213,-426.93895185870213,82.86094547242908,385.50847914070965,-385.50847914070965,{"$f":"IF($D$9=\"Par\",Path!R93,IF($D$9=\"Con\",Path!U93,IF($D$9=\"Exp\",Path!X93,IF($D$9=\"Hyp\",Path!AA93))))","v":3.6444134821067564E-8},{"$f":"IF(B92>0,K93,\"\")","v":9.3626881192414331}]
[null,null,{"$f":"C91","v":73.115359132677511},{"$f":"D91","v":16.825376238482868},null,{"$f":"IF(TH!$H$18=\"x\",C94,0)","v":73.115359132677511},{"$f":"IF(TH!$H$18=\"x\",D94,0)","v":16.825376238482868},{"$f":"SUM(C94:C95)/2","v":77.377322706484222},{"$f":"SUM(D94:D95)/2","v":9.3626881192414331},{"$f":"IF(TH!$H$17=\"x\",H94,0)","v":77.377322706484222},{"$f":"IF(TH!$H$17=\"x\",I94,0)","v":9.3626881192414331},null,{"$f":"M93","v":1.1989552633337013},178.78874052671841,853.87790375384839,{"$f":"O94/2","v":426.93895187692419},{"$f":"-P94","v":-426.93895187692419},-253.29054135086926,553.58422255235882,{"$f":"-S94","v":-553.58422255235882},-126.10570588960866,{"$f":"PI()*($M$3*($N94-$E$4)*2+$K$3)^2/2","v":489.99180482172852},-489.99180482172852,3.6444134821067564E-8,426.93895185870213,-426.93895185870213,82.86094547242908,385.50847914070965,-385.50847914070965,{"$f":"IF($D$9=\"Par\",Path!R94,IF($D$9=\"Con\",Path!U94,IF($D$9=\"Exp\",Path!X94,IF($D$9=\"Hyp\",Path!AA94))))","v":3.6444134821067564E-8},{"$f":"IF(B95>0,K94,\"\")","v":9.3626881192414331}]
[null,{"$f":"B92+1","v":24},{"$f":"(C92+Panels!C14)/2","v":81.639286280290918},{"$f":"D92","v":1.9},null,{"$f":"IF(TH!$H$18=\"x\",C95,0)","v":81.639286280290918},{"$f":"IF(TH!$H$18=\"x\",D95,0)","v":1.9},null,null,{"$f":"J94","v":77.377322706484222},{"$f":"K94","v":9.3626881192414331},null,{"$f":"M94","v":1.1989552633337013},178.78874052671841,853.87790375384839,426.93895187692419,-426.93895187692419,-253.29054135086926,{"$f":"(($D$5-$D$4)*(N95-$E$4)/($E$5-$E$4)+$D$4)/2","v":553.58422255235882},-553.58422255235882,-126.10570588960866,489.99180482172852,{"$f":"-V95","v":-489.99180482172852},3.6444134821067564E-8,{"$f":"($D$4*EXP($O$3*(N95-$E$4)))/2","v":426.93895185870213},{"$f":"-Y95","v":-426.93895185870213},82.86094547242908,{"$f":"($D$4*(COSH((N95-$E$4)/($E$5-$E$4))+$Q$3*SINH((N95-$E$4)/($E$5-$E$4)))^2)/2","v":385.50847914070965},{"$f":"-AB95","v":-385.50847914070965},{"$f":"IF($D$9=\"Par\",Path!R95,IF($D$9=\"Con\",Path!U95,IF($D$9=\"Exp\",Path!X95,IF($D$9=\"Hyp\",Path!AA95))))","v":3.6444134821067564E-8},{"$f":"IF(B95>0,K95,\"\")","v":9.3626881192414331}]
[null,null,null,null,null,null,null,null,null,{"$f":"J95","v":77.377322706484222},{"$f":"K95","v":9.3626881192414331},null,{"$f":"((H94-H91)^2+(I94-I91)^2)^0.5","v":3.9503568598545371},{"$f":"N93+M96","v":182.73909738657295},{"$f":"((C94-C95)^2+(D94-D95)^2)^0.5*Path!$F$3","v":982.46083534996501},491.2304176749825,-491.2304176749825,-143.60369596174996,563.03226565585749,-563.03226565585749,-16.480803757836952,499.47081955390098,-499.47081955390098,111.20380999942915,435.62851267526793,-435.62851267526793,195.16798658422522,393.6464243828699,-393.6464243828699,{"$f":"IF($D$9=\"Par\",Path!R96,IF($D$9=\"Con\",Path!U96,IF($D$9=\"Exp\",Path!X96,IF($D$9=\"Hyp\",Path!AA96))))","v":111.20380999942915},{"$f":"IF(B95>0,K96,\"\")","v":9.3626881192414331}]
[null,null,{"$f":"C94","v":73.115359132677511},{"$f":"D94","v":16.825376238482868},null,{"$f":"IF(TH!$H$18=\"x\",C97,0)","v":73.115359132677511},{"$f":"IF(TH!$H$18=\"x\",D97,0)","v":16.825376238482868},{"$f":"SUM(C97:C98)/2","v":81.327679566338759},{"$f":"SUM(D97:D98)/2","v":13.26548609354856},{"$f":"IF(TH!$H$17=\"x\",H97,0)","v":81.327679566338759},{"$f":"IF(TH!$H$17=\"x\",I97,0)","v":13.26548609354856},null,{"$f":"M96","v":3.9503568598545371},182.73909738657295,982.46083534996501,491.2304176749825,-491.2304176749825,-143.60369596174996,563.03226565585749,-563.03226565585749,-16.480803757836952,499.47081955390098,-499.47081955390098,111.20380999942915,435.62851267526793,-435.62851267526793,195.16798658422522,393.6464243828699,-393.6464243828699,{"$f":"IF($D$9=\"Par\",Path!R97,IF($D$9=\"Con\",Path!U97,IF($D$9=\"Exp\",Path!X97,IF($D$9=\"Hyp\",Path!AA97))))","v":111.20380999942915},{"$f":"IF(B98>0,K97,\"\")","v":13.26548609354856}]
[null,{"$f":"B95+1","v":25},{"$f":"C101","v":89.539999999999992},{"$f":"(D95+D101)/2","v":9.7055959486142545},null,{"$f":"IF(TH!$H$18=\"x\",C98,0)","v":89.539999999999992},{"$f":"IF(TH!$H$18=\"x\",D98,0)","v":9.7055959486142545},null,null,{"$f":"J97","v":81.327679566338759},{"$f":"K97","v":13.26548609354856},null,{"$f":"M97","v":3.9503568598545371},182.73909738657295,982.46083534996501,491.2304176749825,-491.2304176749825,-143.60369596174996,563.03226565585749,-563.03226565585749,-16.480803757836952,499.47081955390098,-499.47081955390098,111.20380999942915,435.62851267526793,-435.62851267526793,195.16798658422522,393.6464243828699,-393.6464243828699,{"$f":"IF($D$9=\"Par\",Path!R98,IF($D$9=\"Con\",Path!U98,IF($D$9=\"Exp\",Path!X98,IF($D$9=\"Hyp\",Path!AA98))))","v":111.20380999942915},{"$f":"IF(B98>0,K98,\"\")","v":13.26548609354856}]
[null,null,null,null,null,null,null,null,null,{"$f":"J98","v":81.327679566338759},{"$f":"K98","v":13.26548609354856},null,{"$f":"((H97-H94)^2+(I97-I94)^2)^0.5","v":5.553120865644436},{"$f":"N96+M99","v":188.2922182522174},{"$f":"((C97-C98)^2+(D97-D98)^2)^0.5*Path!$F$3","v":1023.2439873382733},511.62199366913666,-511.62199366913666,-129.38327091628196,576.31362912727764,-576.31362912727764,-2.6545569382143412,512.94927213824383,-512.94927213824383,126.95692650246144,448.14353041790594,-448.14353041790594,212.2987398049313,405.47262376667101,-405.47262376667101,{"$f":"IF($D$9=\"Par\",Path!R99,IF($D$9=\"Con\",Path!U99,IF($D$9=\"Exp\",Path!X99,IF($D$9=\"Hyp\",Path!AA99))))","v":126.95692650246144},{"$f":"IF(B98>0,K99,\"\")","v":13.26548609354856}]
[null,null,{"$f":"C94","v":73.115359132677511},{"$f":"D94","v":16.825376238482868},null,{"$f":"IF(TH!$H$18=\"x\",C100,0)","v":73.115359132677511},{"$f":"IF(TH!$H$18=\"x\",D100,0)","v":16.825376238482868},{"$f":"SUM(C100:C101)/2","v":81.327679566338759},{"$f":"SUM(D100:D101)/2","v":17.168284067855687},{"$f":"IF(TH!$H$17=\"x\",H100,0)","v":81.327679566338759},{"$f":"IF(TH!$H$17=\"x\",I100,0)","v":17.168284067855687},null,{"$f":"M99","v":5.553120865644436},188.2922182522174,1023.2439873382733,511.62199366913666,-511.62199366913666,-129.38327091628196,576.31362912727764,-576.31362912727764,-2.6545569382143412,512.94927213824383,-512.94927213824383,126.95692650246144,448.14353041790594,-448.14353041790594,212.2987398049313,405.47262376667101,-405.47262376667101,{"$f":"IF($D$9=\"Par\",Path!R100,IF($D$9=\"Con\",Path!U100,IF($D$9=\"Exp\",Path!X100,IF($D$9=\"Hyp\",Path!AA100))))","v":126.95692650246144},{"$f":"IF(B101>0,K100,\"\")","v":17.168284067855687}]
[null,{"$f":"B98+1","v":26},{"$f":"Panels!C14","v":89.539999999999992},{"$f":"D100+(C101-C100)*E23","v":17.51119189722851},null,{"$f":"IF(TH!$H$18=\"x\",C101,0)","v":89.539999999999992},{"$f":"IF(TH!$H$18=\"x\",D101,0)","v":17.51119189722851},null,null,{"$f":"J100","v":81.327679566338759},{"$f":"K100","v":17.168284067855687},null,{"$f":"M100","v":5.553120865644436},188.2922182522174,1023.2439873382733,511.62199366913666,-511.62199366913666,-129.38327091628196,576.31362912727764,-576.31362912727764,-2.6545569382143412,512.94927213824383,-512.94927213824383,126.95692650246144,448.14353041790594,-448.14353041790594,212.2987398049313,405.47262376667101,-405.47262376667101,{"$f":"IF($D$9=\"Par\",Path!R101,IF($D$9=\"Con\",Path!U101,IF($D$9=\"Exp\",Path!X101,IF($D$9=\"Hyp\",Path!AA101))))","v":126.95692650246144},{"$f":"IF(B101>0,K101,\"\")","v":17.168284067855687}]
[null,null,null,null,null,null,null,null,null,{"$f":"J101","v":81.327679566338759},{"$f":"K101","v":17.168284067855687},null,{"$f":"((H100-H97)^2+(I100-I97)^2)^0.5","v":3.902797974307127},{"$f":"N99+M102","v":192.19501622652453},{"$f":"((C100-C101)^2+(D100-D101)^2)^0.5*Path!$F$3","v":939.65054479086837},469.82527239543418,-469.82527239543418,-231.64530710910196,585.64792594998517,-585.64792594998517,-105.40838158644408,522.52946318865622,-522.52946318865622,25.343015970693614,457.15376441008738,-457.15376441008738,111.5254427601252,414.06255101537158,-414.06255101537158,{"$f":"IF($D$9=\"Par\",Path!R102,IF($D$9=\"Con\",Path!U102,IF($D$9=\"Exp\",Path!X102,IF($D$9=\"Hyp\",Path!AA102))))","v":25.343015970693614},{"$f":"IF(B101>0,K102,\"\")","v":17.168284067855687}]
[null,null,{"$f":"Panels!C63","v":69.05141530006226},{"$f":"Panels!D63","v":65.4043495042242},null,{"$f":"IF(TH!$H$18=\"x\",C103,0)","v":69.05141530006226},{"$f":"IF(TH!$H$18=\"x\",D103,0)","v":65.4043495042242},{"$f":"SUM(C103:C104)/2","v":79.295707650031119},{"$f":"SUM(D103:D104)/2","v":65.832102912236593},{"$f":"IF(TH!$H$17=\"x\",H103,0)","v":79.295707650031119},{"$f":"IF(TH!$H$17=\"x\",I103,0)","v":65.832102912236593},null,{"$f":"M102","v":3.902797974307127},192.19501622652453,939.65054479086837,469.82527239543418,-469.82527239543418,-231.64530710910196,585.64792594998517,-585.64792594998517,-105.40838158644408,522.52946318865622,-522.52946318865622,25.343015970693614,457.15376441008738,-457.15376441008738,111.5254427601252,414.06255101537158,-414.06255101537158,{"$f":"IF($D$9=\"Par\",Path!R103,IF($D$9=\"Con\",Path!U103,IF($D$9=\"Exp\",Path!X103,IF($D$9=\"Hyp\",Path!AA103))))","v":25.343015970693614},{"$f":"IF(B104>0,K103,\"\")","v":65.832102912236593}]
[null,{"$f":"B101+1","v":27},{"$f":"C101","v":89.539999999999992},{"$f":"D103+(C104-C103)*E23","v":66.259856320248986},null,{"$f":"IF(TH!$H$18=\"x\",C104,0)","v":89.539999999999992},{"$f":"IF(TH!$H$18=\"x\",D104,0)","v":66.259856320248986},null,null,{"$f":"J103","v":79.295707650031119},{"$f":"K103","v":65.832102912236593},null,{"$f":"M103","v":3.902797974307127},192.19501622652453,939.65054479086837,469.82527239543418,-469.82527239543418,-231.64530710910196,585.64792594998517,-585.64792594998517,-105.40838158644408,522.52946318865622,-522.52946318865622,25.343015970693614,457.15376441008738,-457.15376441008738,111.5254427601252,414.06255101537158,-414.06255101537158,{"$f":"IF($D$9=\"Par\",Path!R104,IF($D$9=\"Con\",Path!U104,IF($D$9=\"Exp\",Path!X104,IF($D$9=\"Hyp\",Path!AA104))))","v":25.343015970693614},{"$f":"IF(B104>0,K104,\"\")","v":65.832102912236593}]
[null,null,null,null,null,null,null,null,null,{"$f":"J104","v":79.295707650031119},{"$f":"K104","v":65.832102912236593},null,{"$f":"((H103-H100)^2+(I103-I100)^2)^0.5","v":48.706223158723624},{"$f":"N102+M105","v":240.90123938524815},{"$f":"((C103-C104)^2+(D103-D104)^2)^0.5*Path!$F$3","v":1172.1479897678146},586.07399488390729,-586.07399488390729,-232.12858369116361,702.1382867294891,-702.1382867294891,-126.94016641850772,649.54407809316115,-649.54407809316115,-5.1358445489313453E-5,586.07402056313003,-586.07402056313003,85.53555187049119,543.30621894866169,-543.30621894866169,{"$f":"IF($D$9=\"Par\",Path!R105,IF($D$9=\"Con\",Path!U105,IF($D$9=\"Exp\",Path!X105,IF($D$9=\"Hyp\",Path!AA105))))","v":-5.1358445489313453E-5},{"$f":"IF(B104>0,K105,\"\")","v":65.832102912236593}]
[null,null,{"$f":"C103","v":69.05141530006226},{"$f":"D103","v":65.4043495042242},null,{"$f":"IF(TH!$H$18=\"x\",C106,0)","v":69.05141530006226},{"$f":"IF(TH!$H$18=\"x\",D106,0)","v":65.4043495042242},{"$f":"SUM(C106:C107)/2","v":79.295707650031119},{"$f":"SUM(D106:D107)/2","v":71.652138832174344},{"$f":"IF(TH!$H$17=\"x\",H106,0)","v":79.295707650031119},{"$f":"IF(TH!$H$17=\"x\",I106,0)","v":71.652138832174344},null,{"$f":"M105","v":48.706223158723624},240.90123938524815,1172.1479897678146,586.07399488390729,-586.07399488390729,-232.12858369116361,702.1382867294891,-702.1382867294891,-126.94016641850772,649.54407809316115,-649.54407809316115,-5.1358445489313453E-5,586.07402056313003,-586.07402056313003,85.53555187049119,543.30621894866169,-543.30621894866169,{"$f":"IF($D$9=\"Par\",Path!R106,IF($D$9=\"Con\",Path!U106,IF($D$9=\"Exp\",Path!X106,IF($D$9=\"Hyp\",Path!AA106))))","v":-5.1358445489313453E-5},{"$f":"IF(B107>0,K106,\"\")","v":71.652138832174344}]
[null,{"$f":"B104+1","v":28},{"$f":"C104","v":89.539999999999992},{"$f":"(D104+Panels!D32)/2","v":77.899928160124489},null,{"$f":"IF(TH!$H$18=\"x\",C107,0)","v":89.539999999999992},{"$f":"IF(TH!$H$18=\"x\",D107,0)","v":77.899928160124489},null,null,{"$f":"J106","v":79.295707650031119},{"$f":"K106","v":71.652138832174344},null,{"$f":"M106","v":48.706223158723624},240.90123938524815,1172.1479897678146,586.07399488390729,-586.07399488390729,-232.12858369116361,702.1382867294891,-702.1382867294891,-126.94016641850772,649.54407809316115,-649.54407809316115,-5.1358445489313453E-5,586.07402056313003,-586.07402056313003,85.53555187049119,543.30621894866169,-543.30621894866169,{"$f":"IF($D$9=\"Par\",Path!R107,IF($D$9=\"Con\",Path!U107,IF($D$9=\"Exp\",Path!X107,IF($D$9=\"Hyp\",Path!AA107))))","v":-5.1358445489313453E-5},{"$f":"IF(B107>0,K107,\"\")","v":71.652138832174344}]
[null,null,null,null,null,null,null,null,null,{"$f":"J107","v":79.295707650031119},{"$f":"K107","v":71.652138832174344},null,{"$f":"((H106-H103)^2+(I106-I103)^2)^0.5","v":5.8200359199377516},{"$f":"N105+M108","v":246.72127530518588},{"$f":"((C106-C107)^2+(D106-D107)^2)^0.5*Path!$F$3","v":1371.7466223327228},685.87331116636142,-685.87331116636142,-60.369436107623187,716.05802922017301,-716.05802922017301,40.457141895945142,665.64474021838885,-665.64474021838885,164.28162792542412,603.73249720364936,-603.73249720364936,248.03101079396743,561.85780576937771,-561.85780576937771,{"$f":"IF($D$9=\"Par\",Path!R108,IF($D$9=\"Con\",Path!U108,IF($D$9=\"Exp\",Path!X108,IF($D$9=\"Hyp\",Path!AA108))))","v":164.28162792542412},{"$f":"IF(B107>0,K108,\"\")","v":71.652138832174344}]
[null,null,{"$f":"C106","v":69.05141530006226},{"$f":"D106","v":65.4043495042242},null,{"$f":"IF(TH!$H$18=\"x\",C109,0)","v":69.05141530006226},{"$f":"IF(TH!$H$18=\"x\",D109,0)","v":65.4043495042242},{"$f":"SUM(C109:C110)/2","v":73.92161369765347},{"$f":"SUM(D109:D110)/2","v":77.472174752112096},{"$f":"IF(TH!$H$17=\"x\",H109,0)","v":73.92161369765347},{"$f":"IF(TH!$H$17=\"x\",I109,0)","v":77.472174752112096},null,{"$f":"M108","v":5.8200359199377516},246.72127530518588,1371.7466223327228,685.87331116636142,-685.87331116636142,-60.369436107623187,716.05802922017301,-716.05802922017301,40.457141895945142,665.64474021838885,-665.64474021838885,164.28162792542412,603.73249720364936,-603.73249720364936,248.03101079396743,561.85780576937771,-561.85780576937771,{"$f":"IF($D$9=\"Par\",Path!R109,IF($D$9=\"Con\",Path!U109,IF($D$9=\"Exp\",Path!X109,IF($D$9=\"Hyp\",Path!AA109))))","v":164.28162792542412},{"$f":"IF(B110>0,K109,\"\")","v":77.472174752112096}]
[null,{"$f":"B107+1","v":29},{"$f":"(C113+Panels!C32)/2","v":78.79181209524468},{"$f":"D113","v":89.539999999999992},null,{"$f":"IF(TH!$H$18=\"x\",C110,0)","v":78.79181209524468},{"$f":"IF(TH!$H$18=\"x\",D110,0)","v":89.539999999999992},null,null,{"$f":"J109","v":73.92161369765347},{"$f":"K109","v":77.472174752112096},null,{"$f":"M109","v":5.8200359199377516},246.72127530518588,1371.7466223327228,685.87331116636142,-685.87331116636142,-60.369436107623187,716.05802922017301,-716.05802922017301,40.457141895945142,665.64474021838885,-665.64474021838885,164.28162792542412,603.73249720364936,-603.73249720364936,248.03101079396743,561.85780576937771,-561.85780576937771,{"$f":"IF($D$9=\"Par\",Path!R110,IF($D$9=\"Con\",Path!U110,IF($D$9=\"Exp\",Path!X110,IF($D$9=\"Hyp\",Path!AA110))))","v":164.28162792542412},{"$f":"IF(B110>0,K110,\"\")","v":77.472174752112096}]
[null,null,null,null,null,null,null,null,null,{"$f":"J110","v":73.92161369765347},{"$f":"K110","v":77.472174752112096},null,{"$f":"((H109-H106)^2+(I109-I106)^2)^0.5","v":7.9217235446806455},{"$f":"N108+M111","v":254.64299884986653},{"$f":"((C109-C110)^2+(D109-D110)^2)^0.5*Path!$F$3","v":1487.7035677092449},743.85178385462245,-743.85178385462245,17.694838728294371,735.00436449047527,-735.00436449047527,111.95099244384551,687.8762876326997,-687.8762876326997,230.45217920363666,628.62569425280412,-628.62569425280412,311.04362194460646,588.32997288231923,-588.32997288231923,{"$f":"IF($D$9=\"Par\",Path!R111,IF($D$9=\"Con\",Path!U111,IF($D$9=\"Exp\",Path!X111,IF($D$9=\"Hyp\",Path!AA111))))","v":230.45217920363666},{"$f":"IF(B110>0,K111,\"\")","v":77.472174752112096}]
[null,null,{"$f":"C109","v":69.05141530006226},{"$f":"D109","v":65.4043495042242},null,{"$f":"IF(TH!$H$18=\"x\",C112,0)","v":69.05141530006226},{"$f":"IF(TH!$H$18=\"x\",D112,0)","v":65.4043495042242},{"$f":"SUM(C112:C113)/2","v":68.547519745275821},{"$f":"SUM(D112:D113)/2","v":77.472174752112096},{"$f":"IF(TH!$H$17=\"x\",H112,0)","v":68.547519745275821},{"$f":"IF(TH!$H$17=\"x\",I112,0)","v":77.472174752112096},null,{"$f":"M111","v":7.9217235446806455},254.64299884986653,1487.7035677092449,743.85178385462245,-743.85178385462245,17.694838728294371,735.00436449047527,-735.00436449047527,111.95099244384551,687.8762876326997,-687.8762876326997,230.45217920363666,628.62569425280412,-628.62569425280412,311.04362194460646,588.32997288231923,-588.32997288231923,{"$f":"IF($D$9=\"Par\",Path!R112,IF($D$9=\"Con\",Path!U112,IF($D$9=\"Exp\",Path!X112,IF($D$9=\"Hyp\",Path!AA112))))","v":230.45217920363666},{"$f":"IF(B113>0,K112,\"\")","v":77.472174752112096}]
[null,{"$f":"B110+1","v":30},{"$f":"C112-(D113-D112)*E23","v":68.043624190489368},{"$f":"Panels!D32","v":89.539999999999992},null,{"$f":"IF(TH!$H$18=\"x\",C113,0)","v":68.043624190489368},{"$f":"IF(TH!$H$18=\"x\",D113,0)","v":89.539999999999992},null,null,{"$f":"J112","v":68.547519745275821},{"$f":"K112","v":77.472174752112096},null,{"$f":"M112","v":7.9217235446806455},254.64299884986653,1487.7035677092449,743.85178385462245,-743.85178385462245,17.694838728294371,735.00436449047527,-735.00436449047527,111.95099244384551,687.8762876326997,-687.8762876326997,230.45217920363666,628.62569425280412,-628.62569425280412,311.04362194460646,588.32997288231923,-588.32997288231923,{"$f":"IF($D$9=\"Par\",Path!R113,IF($D$9=\"Con\",Path!U113,IF($D$9=\"Exp\",Path!X113,IF($D$9=\"Hyp\",Path!AA113))))","v":230.45217920363666},{"$f":"IF(B113>0,K113,\"\")","v":77.472174752112096}]
[null,null,null,null,null,null,null,null,null,{"$f":"J113","v":68.547519745275821},{"$f":"K113","v":77.472174752112096},null,{"$f":"((H112-H109)^2+(I112-I109)^2)^0.5","v":5.374093952377649},{"$f":"N111+M114","v":260.01709280224418},{"$f":"((C112-C113)^2+(D112-D113)^2)^0.5*Path!$F$3","v":1380.7959224459332},690.39796122296661,-690.39796122296661,-114.91917844298973,747.85755044446148,-747.85755044446148,-25.536197944312789,703.16606019512301,-703.16606019512301,88.605875854440001,646.09502329574661,-646.09502329574661,166.54525085431646,607.12533579580838,-607.12533579580838,{"$f":"IF($D$9=\"Par\",Path!R114,IF($D$9=\"Con\",Path!U114,IF($D$9=\"Exp\",Path!X114,IF($D$9=\"Hyp\",Path!AA114))))","v":88.605875854440001},{"$f":"IF(B113>0,K114,\"\")","v":77.472174752112096}]
[null,null,{"$f":"Panels!C38","v":33.145189725885267},{"$f":"Panels!D38","v":62.400562594681304},null,{"$f":"IF(TH!$H$18=\"x\",C115,0)","v":33.145189725885267},{"$f":"IF(TH!$H$18=\"x\",D115,0)","v":62.400562594681304},{"$f":"SUM(C115:C116)/2","v":32.578582172865779},{"$f":"SUM(D115:D116)/2","v":75.970281297340648},{"$f":"IF(TH!$H$17=\"x\",H115,0)","v":32.578582172865779},{"$f":"IF(TH!$H$17=\"x\",I115,0)","v":75.970281297340648},null,{"$f":"M114","v":5.374093952377649},260.01709280224418,1380.7959224459332,{"$f":"O115/2","v":690.39796122296661},{"$f":"-P115","v":-690.39796122296661},-114.91917844298973,747.85755044446148,-747.85755044446148,-25.536197944312789,703.16606019512301,-703.16606019512301,88.605875854440001,646.09502329574661,-646.09502329574661,166.54525085431646,607.12533579580838,-607.12533579580838,{"$f":"IF($D$9=\"Par\",Path!R115,IF($D$9=\"Con\",Path!U115,IF($D$9=\"Exp\",Path!X115,IF($D$9=\"Hyp\",Path!AA115))))","v":88.605875854440001},{"$f":"IF(B116>0,K115,\"\")","v":75.970281297340648}]
[null,{"$f":"B113+1","v":31},{"$f":"C115-(D116-D115)*E23","v":32.011974619846299},{"$f":"D113","v":89.539999999999992},null,{"$f":"IF(TH!$H$18=\"x\",C116,0)","v":32.011974619846299},{"$f":"IF(TH!$H$18=\"x\",D116,0)","v":89.539999999999992},null,null,{"$f":"J115","v":32.578582172865779},{"$f":"K115","v":75.970281297340648},null,{"$f":"M115","v":5.374093952377649},260.01709280224418,1380.7959224459332,690.39796122296661,-690.39796122296661,-114.91917844298973,747.85755044446148,-747.85755044446148,-25.536197944312789,703.16606019512301,-703.16606019512301,88.605875854440001,646.09502329574661,-646.09502329574661,166.54525085431646,607.12533579580838,-607.12533579580838,{"$f":"IF($D$9=\"Par\",Path!R116,IF($D$9=\"Con\",Path!U116,IF($D$9=\"Exp\",Path!X116,IF($D$9=\"Hyp\",Path!AA116))))","v":88.605875854440001},{"$f":"IF(B116>0,K116,\"\")","v":75.970281297340648}]
[null,null,null,null,null,null,null,null,null,{"$f":"J116","v":32.578582172865779},{"$f":"K116","v":75.970281297340648},null,{"$f":"((H115-H112)^2+(I115-I112)^2)^0.5","v":36.000279916098094},{"$f":"N114+M117","v":296.01737271834224},{"$f":"((C115-C116)^2+(D115-D116)^2)^0.5*Path!$F$3","v":1552.641993771801},776.32099688590051,-776.32099688590051,-115.27638315119339,833.95918846149721,-833.95918846149721,-67.205741902174168,809.9238678369876,-809.9238678369876,-1.2043416313645139E-4,776.32105710298208,-776.32105710298208,47.557311554576927,752.54234110861205,-752.54234110861205,{"$f":"IF($D$9=\"Par\",Path!R117,IF($D$9=\"Con\",Path!U117,IF($D$9=\"Exp\",Path!X117,IF($D$9=\"Hyp\",Path!AA117))))","v":-1.2043416313645139E-4},{"$f":"IF(B116>0,K117,\"\")","v":75.970281297340648}]
[null,null,{"$f":"C115","v":33.145189725885267},{"$f":"D115","v":62.400562594681304},null,{"$f":"IF(TH!$H$18=\"x\",C118,0)","v":33.145189725885267},{"$f":"IF(TH!$H$18=\"x\",D118,0)","v":62.400562594681304},{"$f":"SUM(C118:C119)/2","v":25.05058851790421},{"$f":"SUM(D118:D119)/2","v":75.970281297340648},{"$f":"IF(TH!$H$17=\"x\",H118,0)","v":25.05058851790421},{"$f":"IF(TH!$H$17=\"x\",I118,0)","v":75.970281297340648},null,{"$f":"M117","v":36.000279916098094},296.01737271834224,1552.641993771801,776.32099688590051,-776.32099688590051,-115.27638315119339,833.95918846149721,-833.95918846149721,-67.205741902174168,809.9238678369876,-809.9238678369876,-1.2043416313645139E-4,776.32105710298208,-776.32105710298208,47.557311554576927,752.54234110861205,-752.54234110861205,{"$f":"IF($D$9=\"Par\",Path!R118,IF($D$9=\"Con\",Path!U118,IF($D$9=\"Exp\",Path!X118,IF($D$9=\"Hyp\",Path!AA118))))","v":-1.2043416313645139E-4},{"$f":"IF(B119>0,K118,\"\")","v":75.970281297340648}]
[null,{"$f":"B116+1","v":32},{"$f":"(C122+C116)/2","v":16.955987309923149},{"$f":"D116","v":89.539999999999992},null,{"$f":"IF(TH!$H$18=\"x\",C119,0)","v":16.955987309923149},{"$f":"IF(TH!$H$18=\"x\",D119,0)","v":89.539999999999992},null,null,{"$f":"J118","v":25.05058851790421},{"$f":"K118","v":75.970281297340648},null,{"$f":"M118","v":36.000279916098094},296.01737271834224,1552.641993771801,776.32099688590051,-776.32099688590051,-115.27638315119339,833.95918846149721,-833.95918846149721,-67.205741902174168,809.9238678369876,-809.9238678369876,-1.2043416313645139E-4,776.32105710298208,-776.32105710298208,47.557311554576927,752.54234110861205,-752.54234110861205,{"$f":"IF($D$9=\"Par\",Path!R119,IF($D$9=\"Con\",Path!U119,IF($D$9=\"Exp\",Path!X119,IF($D$9=\"Hyp\",Path!AA119))))","v":-1.2043416313645139E-4},{"$f":"IF(B119>0,K119,\"\")","v":75.970281297340648}]
[null,null,null,null,null,null,null,null,null,{"$f":"J119","v":25.05058851790421},{"$f":"K119","v":75.970281297340648},null,{"$f":"((H118-H115)^2+(I118-I115)^2)^0.5","v":7.5279936549615698},{"$f":"N117+M120","v":303.54536637330381},{"$f":"((C118-C119)^2+(D118-D119)^2)^0.5*Path!$F$3","v":1806.327753858207},903.16387692910348,-903.16387692910348,102.40006888623793,851.96384248598451,-851.96384248598451,139.92507217171669,833.20134084324513,-833.20134084324513,192.91020066531041,806.70877659644827,-806.70877659644827,230.8472719906249,787.74024093379103,-787.74024093379103,{"$f":"IF($D$9=\"Par\",Path!R120,IF($D$9=\"Con\",Path!U120,IF($D$9=\"Exp\",Path!X120,IF($D$9=\"Hyp\",Path!AA120))))","v":192.91020066531041},{"$f":"IF(B119>0,K120,\"\")","v":75.970281297340648}]
[null,null,{"$f":"C118","v":33.145189725885267},{"$f":"D118","v":62.400562594681304},null,{"$f":"IF(TH!$H$18=\"x\",C121,0)","v":33.145189725885267},{"$f":"IF(TH!$H$18=\"x\",D121,0)","v":62.400562594681304},{"$f":"SUM(C121:C122)/2","v":17.522594862942633},{"$f":"SUM(D121:D122)/2","v":68.859258948786433},{"$f":"IF(TH!$H$17=\"x\",H121,0)","v":17.522594862942633},{"$f":"IF(TH!$H$17=\"x\",I121,0)","v":68.859258948786433},null,{"$f":"M120","v":7.5279936549615698},303.54536637330381,1806.327753858207,903.16387692910348,-903.16387692910348,102.40006888623793,851.96384248598451,-851.96384248598451,139.92507217171669,833.20134084324513,-833.20134084324513,192.91020066531041,806.70877659644827,-806.70877659644827,230.8472719906249,787.74024093379103,-787.74024093379103,{"$f":"IF($D$9=\"Par\",Path!R121,IF($D$9=\"Con\",Path!U121,IF($D$9=\"Exp\",Path!X121,IF($D$9=\"Hyp\",Path!AA121))))","v":192.91020066531041},{"$f":"IF(B122>0,K121,\"\")","v":68.859258948786433}]
[null,{"$f":"B119+1","v":33},{"$f":"Panels!C33","v":1.9},{"$f":"(D119+D125)/2","v":75.317955302891562},null,{"$f":"IF(TH!$H$18=\"x\",C122,0)","v":1.9},{"$f":"IF(TH!$H$18=\"x\",D122,0)","v":75.317955302891562},null,null,{"$f":"J121","v":17.522594862942633},{"$f":"K121","v":68.859258948786433},null,{"$f":"M121","v":7.5279936549615698},303.54536637330381,1806.327753858207,903.16387692910348,-903.16387692910348,102.40006888623793,851.96384248598451,-851.96384248598451,139.92507217171669,833.20134084324513,-833.20134084324513,192.91020066531041,806.70877659644827,-806.70877659644827,230.8472719906249,787.74024093379103,-787.74024093379103,{"$f":"IF($D$9=\"Par\",Path!R122,IF($D$9=\"Con\",Path!U122,IF($D$9=\"Exp\",Path!X122,IF($D$9=\"Hyp\",Path!AA122))))","v":192.91020066531041},{"$f":"IF(B122>0,K122,\"\")","v":68.859258948786433}]
[null,null,null,null,null,null,null,null,null,{"$f":"J122","v":17.522594862942633},{"$f":"K122","v":68.859258948786433},null,{"$f":"((H121-H118)^2+(I121-I118)^2)^0.5","v":10.355545727327907},{"$f":"N120+M123","v":313.90091210063173},{"$f":"((C121-C122)^2+(D121-D122)^2)^0.5*Path!$F$3","v":1932.5836704983585},966.29183524917926,-966.29183524917926,179.12140125308542,876.73113462263655,-876.73113462263655,201.06208984706541,865.76079032564655,-865.76079032564655,231.65711042567614,850.46328003634119,-850.46328003634119,254.1663498615037,839.20866031842741,-839.20866031842741,{"$f":"IF($D$9=\"Par\",Path!R123,IF($D$9=\"Con\",Path!U123,IF($D$9=\"Exp\",Path!X123,IF($D$9=\"Hyp\",Path!AA123))))","v":231.65711042567614},{"$f":"IF(B122>0,K123,\"\")","v":68.859258948786433}]
[null,null,{"$f":"C121","v":33.145189725885267},{"$f":"D121","v":62.400562594681304},null,{"$f":"IF(TH!$H$18=\"x\",C124,0)","v":33.145189725885267},{"$f":"IF(TH!$H$18=\"x\",D124,0)","v":62.400562594681304},{"$f":"SUM(C124:C125)/2","v":17.522594862942633},{"$f":"SUM(D124:D125)/2","v":61.748236600232218},{"$f":"IF(TH!$H$17=\"x\",H124,0)","v":17.522594862942633},{"$f":"IF(TH!$H$17=\"x\",I124,0)","v":61.748236600232218},null,{"$f":"M123","v":10.355545727327907},313.90091210063173,1932.5836704983585,966.29183524917926,-966.29183524917926,179.12140125308542,876.73113462263655,-876.73113462263655,201.06208984706541,865.76079032564655,-865.76079032564655,231.65711042567614,850.46328003634119,-850.46328003634119,254.1663498615037,839.20866031842741,-839.20866031842741,{"$f":"IF($D$9=\"Par\",Path!R124,IF($D$9=\"Con\",Path!U124,IF($D$9=\"Exp\",Path!X124,IF($D$9=\"Hyp\",Path!AA124))))","v":231.65711042567614},{"$f":"IF(B125>0,K124,\"\")","v":61.748236600232218}]
[null,{"$f":"B122+1","v":34},{"$f":"C122","v":1.9},{"$f":"D121-(C121-C122)*E23","v":61.095910605783125},null,{"$f":"IF(TH!$H$18=\"x\",C125,0)","v":1.9},{"$f":"IF(TH!$H$18=\"x\",D125,0)","v":61.095910605783125},null,null,{"$f":"J124","v":17.522594862942633},{"$f":"K124","v":61.748236600232218},null,{"$f":"M124","v":10.355545727327907},313.90091210063173,1932.5836704983585,966.29183524917926,-966.29183524917926,179.12140125308542,876.73113462263655,-876.73113462263655,201.06208984706541,865.76079032564655,-865.76079032564655,231.65711042567614,850.46328003634119,-850.46328003634119,254.1663498615037,839.20866031842741,-839.20866031842741,{"$f":"IF($D$9=\"Par\",Path!R125,IF($D$9=\"Con\",Path!U125,IF($D$9=\"Exp\",Path!X125,IF($D$9=\"Hyp\",Path!AA125))))","v":231.65711042567614},{"$f":"IF(B125>0,K125,\"\")","v":61.748236600232218}]
[null,null,null,null,null,null,null,null,null,{"$f":"J125","v":17.522594862942633},{"$f":"K125","v":61.748236600232218},null,{"$f":"((H124-H121)^2+(I124-I121)^2)^0.5","v":7.111022348554215},{"$f":"N123+M126","v":321.01193444918596},{"$f":"((C124-C125)^2+(D124-D125)^2)^0.5*Path!$F$3","v":1787.53129430271},893.76564715135498,-893.76564715135498,5.4252193824368078E-2,{"$f":"(($D$5-$D$4)*(N126-$E$4)/($E$5-$E$4)+$D$4)/2","v":893.7385210544428},{"$f":"-S126","v":-893.7385210544428},10.570612540020875,888.48034088134455,{"$f":"-V126","v":-888.48034088134455},23.780036156699225,{"$f":"($D$4*EXP($O$3*(N126-$E$4)))/2","v":881.87562907300537},{"$f":"-Y126","v":-881.87562907300537},34.100964051979872,876.71516512536505,{"$f":"-AB126","v":-876.71516512536505},{"$f":"IF($D$9=\"Par\",Path!R126,IF($D$9=\"Con\",Path!U126,IF($D$9=\"Exp\",Path!X126,IF($D$9=\"Hyp\",Path!AA126))))","v":23.780036156699225},{"$f":"IF(B125>0,K126,\"\")","v":61.748236600232218}]
[null,null,{"$f":"IF(Panels!S27>C124,Panels!S27,C124)","v":33.601404400218584},{"$f":"IF(Panels!T27<D124,Panels!T27,D124)","v":56.947130810016368},null,{"$f":"IF(TH!$H$18=\"x\",C127,0)","v":33.601404400218584},{"$f":"IF(TH!$H$18=\"x\",D127,0)","v":56.947130810016368},{"$f":"SUM(C127:C128)/2","v":17.750702200109291},{"$f":"SUM(D127:D128)/2","v":56.285280127327979},{"$f":"IF(TH!$H$17=\"x\",H127,0)","v":17.750702200109291},{"$f":"IF(TH!$H$17=\"x\",I127,0)","v":56.285280127327979},null,{"$f":"M126","v":7.111022348554215},321.01193444918596,1787.53129430271,{"$f":"O127/2","v":893.76564715135498},{"$f":"-P127","v":-893.76564715135498},{"$f":"($P127-S127)*2","v":5.4252193824368078E-2},893.7385210544428,-893.7385210544428,{"$f":"($P127-V127)*2","v":10.570612540020875},888.48034088134455,{"$f":"-V127","v":-888.48034088134455},{"$f":"($P127-Y127)*2","v":23.780036156699225},{"$f":"($D$4*EXP($O$3*(N127-$E$4)))/2","v":881.87562907300537},{"$f":"-Y127","v":-881.87562907300537},{"$f":"($P127-AB127)*2","v":34.100964051979872},876.71516512536505,{"$f":"-AB127","v":-876.71516512536505},{"$f":"IF($D$9=\"Par\",Path!R127,IF($D$9=\"Con\",Path!U127,IF($D$9=\"Exp\",Path!X127,IF($D$9=\"Hyp\",Path!AA127))))","v":23.780036156699225},{"$f":"IF(B128>0,K127,\"\")","v":56.285280127327979},null,null,{"$f":"AH133","v":"Panel A (bottom)"},{"$f":"AI133","v":1.9},{"$f":"AJ133","v":0},{"$f":"Panels!C9","v":1.9},{"$f":"Panels!D9","v":91.44},{"$f":"IF(AK127-AI127<>0,(AL127-AJ127)/(AK127-AI127),\"vertical\")","v":"vertical"},{"$f":"IF(AM127<>\"vertical\",(AL127*AI127-AJ127*AK127)/(AI127-AK127),AJ127)","v":0}]
["S3",{"$f":"B125+1","v":35},{"$f":"AO128","v":1.9},{"$f":"AP128","v":55.623429444639584},null,{"$f":"IF(TH!$H$18=\"x\",C128,0)","v":1.9},{"$f":"IF(TH!$H$18=\"x\",D128,0)","v":55.623429444639584},null,null,{"$f":"J127","v":17.750702200109291},{"$f":"K127","v":56.285280127327979},null,{"$f":"M127","v":7.111022348554215},321.01193444918596,1787.53129430271,893.76564715135498,-893.76564715135498,5.4252193824368078E-2,893.7385210544428,-893.7385210544428,10.570612540020875,888.48034088134455,-888.48034088134455,23.780036156699225,881.87562907300537,-881.87562907300537,34.100964051979872,876.71516512536505,-876.71516512536505,{"$f":"IF($D$9=\"Par\",Path!R128,IF($D$9=\"Con\",Path!U128,IF($D$9=\"Exp\",Path!X128,IF($D$9=\"Hyp\",Path!AA128))))","v":23.780036156699225},{"$f":"IF(B128>0,K128,\"\")","v":56.285280127327979},null,null,{"$f":"AH134","v":"Panel F (baffle)"},{"$f":"C127","v":33.601404400218584},{"$f":"D127","v":56.947130810016368},{"$f":"AI128-10*$E$21","v":23.610110539104475},{"$f":"AJ128-10*$E$22","v":56.529941427524967},{"$f":"(AL128-AJ128)/(AK128-AI128)","v":4.1755290985394045E-2},{"$f":"(AL128*AI128-AJ128*AK128)/(AI128-AK128)","v":55.544094391767338},{"$f":"IF(AM127<>\"vertical\",(AN127-AN128)/(AM128-AM127),AI127)","v":1.9},{"$f":"AO128*AM128+AN128","v":55.623429444639584}]
[null,null,null,null,null,null,null,null,null,{"$f":"J128","v":17.750702200109291},{"$f":"K128","v":56.285280127327979},null,{"$f":"((H127-H124)^2+(I127-I124)^2)^0.5","v":5.4677167430396008},{"$f":"N126+M129","v":326.47965119222556},{"$f":"((C127-C128)^2+(D127-D128)^2)^0.5*Path!$F$3","v":1813.6312480698434},906.81562403492171,-906.81562403492171,0,{"$f":"(($D$7-$D$5)*($N129-$E$5)/($E$7-$E$5)+$D$5)/2","v":906.81562403492171},{"$f":"-S129","v":-906.81562403492171},1.331883403350048,906.14968233324669,-906.14968233324669,6.8212102632969618E-13,906.81562403492137,-906.81562403492137,2.6692014216678217E-6,906.815622700321,-906.815622700321,{"$f":"IF($D$9=\"Par\",Path!R129,IF($D$9=\"Con\",Path!U129,IF($D$9=\"Exp\",Path!X129,IF($D$9=\"Hyp\",Path!AA129))))","v":6.8212102632969618E-13},{"$f":"IF(B128>0,K129,\"\")","v":56.285280127327979}]
[null,null,{"$f":"Panels!S21","v":35.877692123439942},{"$f":"Panels!T21","v":29.737177866265956},null,{"$f":"IF(TH!$H$18=\"x\",C130,0)","v":35.877692123439942},{"$f":"IF(TH!$H$18=\"x\",D130,0)","v":29.737177866265956},{"$f":"SUM(C130:C131)/2","v":18.88884606171997},{"$f":"SUM(D130:D131)/2","v":29.027803655452772},{"$f":"IF(TH!$H$17=\"x\",H130,0)","v":18.88884606171997},{"$f":"IF(TH!$H$17=\"x\",I130,0)","v":29.027803655452772},null,{"$f":"M129","v":5.4677167430396008},326.47965119222556,1813.6312480698434,906.81562403492171,-906.81562403492171,0,906.81562403492171,-906.81562403492171,0,{"$f":"(($D$7-$D$5)*($N130-$E$5)/($E$7-$E$5)+$D$5)/2","v":906.81562403492171},-906.81562403492171,0,{"$f":"(($D$7-$D$5)*($N130-$E$5)/($E$7-$E$5)+$D$5)/2","v":906.81562403492171},-906.81562403492171,0,{"$f":"(($D$7-$D$5)*($N130-$E$5)/($E$7-$E$5)+$D$5)/2","v":906.81562403492171},-906.81562403492171,{"$f":"IF($D$9=\"Par\",Path!R130,IF($D$9=\"Con\",Path!U130,IF($D$9=\"Exp\",Path!X130,IF($D$9=\"Hyp\",Path!AA130))))","v":0},{"$f":"IF(B131>0,K130,\"\")","v":29.027803655452772}]
["S4",{"$f":"B128+1","v":36},{"$f":"Panels!C8","v":1.9},{"$f":"D130-(C130-C131)*$E$23","v":28.318429444639591},null,{"$f":"IF(TH!$H$18=\"x\",C131,0)","v":1.9},{"$f":"IF(TH!$H$18=\"x\",D131,0)","v":28.318429444639591},null,null,{"$f":"J130","v":18.88884606171997},{"$f":"K130","v":29.027803655452772},null,{"$f":"M130","v":5.4677167430396008},326.47965119222556,1813.6312480698434,906.81562403492171,-906.81562403492171,0,906.81562403492171,-906.81562403492171,0,906.81562403492171,-906.81562403492171,0,906.81562403492171,-906.81562403492171,0,906.81562403492171,-906.81562403492171,{"$f":"IF($D$9=\"Par\",Path!R131,IF($D$9=\"Con\",Path!U131,IF($D$9=\"Exp\",Path!X131,IF($D$9=\"Hyp\",Path!AA131))))","v":0},{"$f":"IF(B131>0,K131,\"\")","v":29.027803655452772}]
[null,null,null,null,null,null,null,null,null,{"$f":"J131","v":18.88884606171997},{"$f":"K131","v":29.027803655452772},null,{"$f":"((H130-H127)^2+(I130-I127)^2)^0.5","v":27.281227887772072},{"$f":"N129+M132","v":353.76087907999761},{"$f":"((C130-C131)^2+(D130-D131)^2)^0.5*Path!$F$3","v":1943.8572308784649},971.92861543923243,-971.92861543923243,2.2737367544323206E-13,971.92861543923232,-971.92861543923232,2.2737367544323206E-13,971.92861543923232,-971.92861543923232,2.2737367544323206E-13,971.92861543923232,-971.92861543923232,2.2737367544323206E-13,971.92861543923232,-971.92861543923232,{"$f":"IF($D$9=\"Par\",Path!R132,IF($D$9=\"Con\",Path!U132,IF($D$9=\"Exp\",Path!X132,IF($D$9=\"Hyp\",Path!AA132))))","v":2.2737367544323206E-13},{"$f":"IF(B131>0,K132,\"\")","v":29.027803655452772}]
[null,null,{"$f":"AO134","v":38.238464629784694},{"$f":"AP134","v":1.5173231645791248},null,{"$f":"IF(TH!$H$18=\"x\",C133,0)","v":38.238464629784694},{"$f":"IF(TH!$H$18=\"x\",D133,0)","v":1.5173231645791248},{"$f":"SUM(C133:C134)/2","v":20.069232314892346},{"$f":"SUM(D133:D134)/2","v":0.75866158228956238},{"$f":"IF(TH!$H$17=\"x\",H133,0)","v":20.069232314892346},{"$f":"IF(TH!$H$17=\"x\",I133,0)","v":0.75866158228956238},null,{"$f":"M132","v":27.281227887772072},353.76087907999761,1943.8572308784649,971.92861543923243,-971.92861543923243,2.2737367544323206E-13,971.92861543923232,-971.92861543923232,2.2737367544323206E-13,971.92861543923232,-971.92861543923232,2.2737367544323206E-13,971.92861543923232,-971.92861543923232,2.2737367544323206E-13,971.92861543923232,-971.92861543923232,{"$f":"IF($D$9=\"Par\",Path!R133,IF($D$9=\"Con\",Path!U133,IF($D$9=\"Exp\",Path!X133,IF($D$9=\"Hyp\",Path!AA133))))","v":2.2737367544323206E-13},{"$f":"IF(B134>0,K133,\"\")","v":0.75866158228956238},null,null,{"$f":"Panels!A6","v":"Panel A (bottom)"},{"$f":"Panels!C8","v":1.9},{"$f":"Panels!D8","v":0},{"$f":"AI133+10*$E$21","v":11.891293861114107},{"$f":"AJ133+10*$E$22","v":0.41718938249140031},{"$f":"IF(AK133-AI133<>0,(AL133-AJ133)/(AK133-AI133),\"vertical\")","v":4.1755290985394003E-2},{"$f":"IF(AM133<>\"vertical\",(AL133*AI133-AJ133*AK133)/(AI133-AK133),AJ133)","v":-7.9335052872248596E-2}]
[null,{"$f":"B131+1","v":37},{"$f":"Panels!C8","v":1.9},{"$f":"Panels!D8","v":0},null,{"$f":"IF(TH!$H$18=\"x\",C134,0)","v":1.9},{"$f":"IF(TH!$H$18=\"x\",D134,0)","v":0},null,null,{"$f":"J133","v":20.069232314892346},{"$f":"K133","v":0.75866158228956238},null,{"$f":"M133","v":27.281227887772072},353.76087907999761,1943.8572308784649,971.92861543923243,-971.92861543923243,2.2737367544323206E-13,971.92861543923232,-971.92861543923232,2.2737367544323206E-13,971.92861543923232,-971.92861543923232,2.2737367544323206E-13,971.92861543923232,-971.92861543923232,2.2737367544323206E-13,971.92861543923232,-971.92861543923232,{"$f":"IF($D$9=\"Par\",Path!R134,IF($D$9=\"Con\",Path!U134,IF($D$9=\"Exp\",Path!X134,IF($D$9=\"Hyp\",Path!AA134))))","v":2.2737367544323206E-13},{"$f":"IF(B134>0,K134,\"\")","v":0.75866158228956238},null,null,{"$f":"Panels!A36","v":"Panel F (baffle)"},{"$f":"Panels!C38","v":33.145189725885267},{"$f":"Panels!D38","v":62.400562594681304},{"$f":"Panels!C39","v":38.378649153164929},{"$f":"Panels!D39","v":-0.15839394521591288},{"$f":"(AL134-AJ134)/(AK134-AI134)","v":-11.953652724201053},{"$f":"(AL134*AI134-AJ134*AK134)/(AI134-AK134)","v":458.60665005567051},{"$f":"IF(AM133<>\"vertical\",(AN133-AN134)/(AM134-AM133),AI133)","v":38.238464629784694},{"$f":"AO134*AM134+AN134","v":1.5173231645791248}]
[null,null,null,null,null,null,null,null,null,{"$f":"J134","v":20.069232314892346},{"$f":"K134","v":0.75866158228956238},null,{"$f":"((H133-H130)^2+(I133-I130)^2)^0.5","v":28.293775026662043},{"$f":"N132+M135","v":382.05465410665965},{"$f":"((C133-C134)^2+(D133-D134)^2)^0.5*Path!$F$3","v":2078.9165718791901},1039.458285939595,-1039.458285939595,4.5474735088646412E-13,1039.4582859395948,-1039.4582859395948,4.5474735088646412E-13,1039.4582859395948,-1039.4582859395948,4.5474735088646412E-13,1039.4582859395948,-1039.4582859395948,4.5474735088646412E-13,1039.4582859395948,-1039.4582859395948,{"$f":"IF($D$9=\"Par\",Path!R135,IF($D$9=\"Con\",Path!U135,IF($D$9=\"Exp\",Path!X135,IF($D$9=\"Hyp\",Path!AA135))))","v":4.5474735088646412E-13},{"$f":"IF(B134>0,K135,\"\")","v":0.75866158228956238}]
[null,null,{"$f":"(Panels!C39+C133)/2","v":38.308556891474808},{"$f":"(Panels!D39+D133)/2","v":0.67946460968160594},null,{"$f":"IF(TH!$H$18=\"x\",C136,0)","v":38.308556891474808},{"$f":"IF(TH!$H$18=\"x\",D136,0)","v":0.67946460968160594},{"$f":"SUM(C136:C137)/2","v":20.104278445737403},{"$f":"SUM(D136:D137)/2","v":-8.0660333999295286E-2},{"$f":"IF(TH!$H$17=\"x\",H136,0)","v":20.104278445737403},{"$f":"IF(TH!$H$17=\"x\",I136,0)","v":-8.0660333999295286E-2},null,{"$f":"M135","v":28.293775026662043},382.05465410665965,2078.9165718791901,1039.458285939595,-1039.458285939595,4.5474735088646412E-13,1039.4582859395948,-1039.4582859395948,4.5474735088646412E-13,1039.4582859395948,-1039.4582859395948,4.5474735088646412E-13,1039.4582859395948,-1039.4582859395948,4.5474735088646412E-13,1039.4582859395948,-1039.4582859395948,{"$f":"IF($D$9=\"Par\",Path!R136,IF($D$9=\"Con\",Path!U136,IF($D$9=\"Exp\",Path!X136,IF($D$9=\"Hyp\",Path!AA136))))","v":4.5474735088646412E-13},{"$f":"IF(B137>0,K136,\"\")","v":-8.0660333999295286E-2},null,null,{"$f":"Panels!A6","v":"Panel A (bottom)"},{"$f":"Panels!C8","v":1.9},{"$f":"Panels!D8","v":0},{"$f":"Panels!C9","v":1.9},{"$f":"Panels!D9","v":91.44},{"$f":"IF(AK136-AI136<>0,(AL136-AJ136)/(AK136-AI136),\"vertical\")","v":"vertical"},{"$f":"IF(AM136<>\"vertical\",(AL136*AI136-AJ136*AK136)/(AI136-AK136),AJ136)","v":0}]
["S5",{"$f":"B134+1","v":38},{"$f":"AO137","v":1.9},{"$f":"AP137","v":-0.84078527768019651},null,{"$f":"IF(TH!$H$18=\"x\",C137,0)","v":1.9},{"$f":"IF(TH!$H$18=\"x\",D137,0)","v":-0.84078527768019651},null,null,{"$f":"J136","v":20.104278445737403},{"$f":"K136","v":-8.0660333999295286E-2},null,{"$f":"M136","v":28.293775026662043},382.05465410665965,2078.9165718791901,1039.458285939595,-1039.458285939595,4.5474735088646412E-13,1039.4582859395948,-1039.4582859395948,4.5474735088646412E-13,1039.4582859395948,-1039.4582859395948,4.5474735088646412E-13,1039.4582859395948,-1039.4582859395948,4.5474735088646412E-13,1039.4582859395948,-1039.4582859395948,{"$f":"IF($D$9=\"Par\",Path!R137,IF($D$9=\"Con\",Path!U137,IF($D$9=\"Exp\",Path!X137,IF($D$9=\"Hyp\",Path!AA137))))","v":4.5474735088646412E-13},{"$f":"IF(B137>0,K137,\"\")","v":-8.0660333999295286E-2},null,null,"Sample point 10",{"$f":"C136","v":38.308556891474808},{"$f":"D136","v":0.67946460968160594},{"$f":"AI137-10*$E$21","v":28.317263030360699},{"$f":"AJ137-10*$E$22","v":0.26227522719020563},{"$f":"(AL137-AJ137)/(AK137-AI137)","v":4.1755290985393996E-2},{"$f":"(AL137*AI137-AJ137*AK137)/(AI137-AK137)","v":-0.92012033055244513},{"$f":"IF(AM136<>\"vertical\",(AN136-AN137)/(AM137-AM136),AI136)","v":1.9},{"$f":"AO137*AM137+AN137","v":-0.84078527768019651}]
[null,null,null,null,null,null,null,null,null,{"$f":"J137","v":20.104278445737403},{"$f":"K137","v":-8.0660333999295286E-2},null,{"$f":"((H136-H133)^2+(I136-I133)^2)^0.5","v":0.84005327834013543},{"$f":"N135+M138","v":382.89470738499978},{"$f":"((C136-C137)^2+(D136-D137)^2)^0.5*Path!$F$3","v":2082.9265366884524},1041.4632683442262,-1041.4632683442262,0,1041.4632683442262,-1041.4632683442262,0,1041.4632683442262,-1041.4632683442262,0,1041.4632683442262,-1041.4632683442262,0,1041.4632683442262,-1041.4632683442262,{"$f":"IF($D$9=\"Par\",Path!R138,IF($D$9=\"Con\",Path!U138,IF($D$9=\"Exp\",Path!X138,IF($D$9=\"Hyp\",Path!AA138))))","v":0},{"$f":"IF(B137>0,K138,\"\")","v":-8.0660333999295286E-2}]
[]
[null,{"$f":"B137+1","v":39}]
[]
[]
[null,{"$f":"B140+1","v":40}]
[]
[]
[null,{"$f":"B143+1","v":41}]

{"sheet":"Guides","index":3,"n_rows":31,"n_cols":28,"rows_kept":31,"cut":false,"hidden":false,"merged":[]}
[]
[]
[]
[]
["Guides",null,"x","y",null,"x","y",null,null,null,null,null,null,null,null,null,null,null,null,"Intersection points","x1","y1","x2","y2","a","b","x","y"]
[null,null,{"$f":"AA7","v":40.272035367892116},{"$f":"AB7","v":0},null,{"$f":"IF(TH!$H$20=\"x\",C6,0)","v":0},{"$f":"IF(TH!$H$20=\"x\",D6,0)","v":0},null,null,null,null,null,null,null,null,null,null,null,null,{"$f":"Panels!A36","v":"Panel F (baffle)"},{"$f":"Panels!C36","v":40.272035367892116},{"$f":"Panels!D36","v":0},{"$f":"Panels!C37","v":35.038575940612454},{"$f":"Panels!D37","v":62.558956539897217},{"$f":"(X6-V6)/(W6-U6)","v":-11.953652724201053},{"$f":"(X6*U6-V6*W6)/(U6-W6)","v":481.39792528452472}]
[null,1,{"$f":"AA10","v":32.622490738335244},{"$f":"AB10","v":91.440000000000012},null,{"$f":"IF(TH!$H$20=\"x\",C7,0)","v":0},{"$f":"IF(TH!$H$20=\"x\",D7,0)","v":0},null,null,null,null,null,null,null,null,null,null,null,null,{"$f":"Panels!A18","v":"Panel C (sides)"},{"$f":"Panels!C20","v":0},{"$f":"Panels!D20","v":0},{"$f":"Panels!C21","v":91.44},{"$f":"Panels!D21","v":0},{"$f":"(X7-V7)/(W7-U7)","v":0},{"$f":"(X7*U7-V7*W7)/(U7-W7)","v":0},{"$f":"(Z6-Z7)/(Y7-Y6)","v":40.272035367892116},{"$f":"AA7*Y7+Z7","v":0}]
[]
[null,null,{"$f":"AA13","v":0},{"$f":"AB13","v":59.627754107549983},null,{"$f":"IF(TH!$H$20=\"x\",C9,0)","v":0},{"$f":"IF(TH!$H$20=\"x\",D9,0)","v":0},null,null,null,null,null,null,null,null,null,null,null,null,{"$f":"T6","v":"Panel F (baffle)"},{"$f":"U6","v":40.272035367892116},{"$f":"V6","v":0},{"$f":"W6","v":35.038575940612454},{"$f":"X6","v":62.558956539897217},{"$f":"(X9-V9)/(W9-U9)","v":-11.953652724201053},{"$f":"(X9*U9-V9*W9)/(U9-W9)","v":481.39792528452472}]
[null,2,{"$f":"AA16","v":91.44},{"$f":"AB16","v":67.277298737106833},null,{"$f":"IF(TH!$H$20=\"x\",C10,0)","v":0},{"$f":"IF(TH!$H$20=\"x\",D10,0)","v":0},null,null,null,null,null,null,null,null,null,null,null,null,{"$f":"Panels!A18","v":"Panel C (sides)"},{"$f":"Panels!C19","v":0},{"$f":"Panels!D19","v":91.44},{"$f":"Panels!C18","v":91.44},{"$f":"Panels!D18","v":91.44},{"$f":"(X10-V10)/(W10-U10)","v":0},{"$f":"(X10*U10-V10*W10)/(U10-W10)","v":91.440000000000012},{"$f":"(Z9-Z10)/(Y10-Y9)","v":32.622490738335244},{"$f":"AA10*Y10+Z10","v":91.440000000000012}]
[]
[null,null,{"$f":"Panels!C39","v":38.378649153164929},{"$f":"Panels!D39","v":-0.15839394521591288},null,{"$f":"IF(TH!$H$20=\"x\",C12,0)","v":0},{"$f":"IF(TH!$H$20=\"x\",D12,0)","v":0},null,null,null,null,null,null,null,null,null,null,null,null,{"$f":"Panels!A42","v":"Panel G (2nd inside)"},{"$f":"Panels!C46","v":35.038575940612454},{"$f":"Panels!D46","v":62.558956539897217},{"$f":"Panels!C45","v":67.855592427602986},{"$f":"Panels!D45","v":65.304311223035199},{"$f":"(X12-V12)/(W12-U12)","v":8.3656437331111694E-2},{"$f":"(X12*U12-V12*W12)/(U12-W12)","v":59.627754107549983}]
[null,3,{"$f":"(D13-Panels!D38)*(Panels!C39-Panels!C38)/(Panels!D39-Panels!D38)+Panels!C38","v":38.365398480013347},{"$f":"Panels!D20","v":0},null,{"$f":"IF(TH!$H$20=\"x\",C13,0)","v":0},{"$f":"IF(TH!$H$20=\"x\",D13,0)","v":0},null,null,null,null,null,null,null,null,null,null,null,null,{"$f":"Panels!A18","v":"Panel C (sides)"},{"$f":"Panels!C20","v":0},{"$f":"Panels!D20","v":0},{"$f":"Panels!C19","v":0},{"$f":"Panels!D19","v":91.44},null,null,{"$f":"U13","v":0},{"$f":"Z12+Y12*U13","v":59.627754107549983}]
[]
[null,null,{"$f":"Panels!C54","v":56.134206743353026},{"$f":"D13","v":0},null,{"$f":"IF(TH!$H$20=\"x\",C15,0)","v":0},{"$f":"IF(TH!$H$20=\"x\",D15,0)","v":0},null,null,null,null,null,null,null,null,null,null,null,null,{"$f":"T12","v":"Panel G (2nd inside)"},35.038575940612454,62.558956539897217,67.855592427602986,65.304311223035199,8.3656437331111694E-2,59.627754107549983]
[null,4,{"$f":"C15","v":56.134206743353026},{"$f":"D7","v":91.440000000000012},null,{"$f":"IF(TH!$H$20=\"x\",C16,0)","v":0},{"$f":"IF(TH!$H$20=\"x\",D16,0)","v":0},null,null,null,null,null,null,null,null,null,null,null,null,{"$f":"Panels!A18","v":"Panel C (sides)"},{"$f":"Panels!C21","v":91.44},{"$f":"Panels!D21","v":0},{"$f":"Panels!C22","v":91.44},{"$f":"Panels!D22","v":91.44},null,null,{"$f":"U16","v":91.44},{"$f":"Z15+Y15*U16","v":67.277298737106833}]
[]
[null,null,{"$f":"AA19","v":73.318718446884247},{"$f":"AB19","v":0},null,{"$f":"IF(TH!$H$20=\"x\",C18,0)","v":0},{"$f":"IF(TH!$H$20=\"x\",D18,0)","v":0},null,null,null,null,null,null,null,null,null,null,null,null,{"$f":"Panels!A60","v":"Panel J (5th inside)"},{"$f":"Panels!C60","v":67.855592427602986},{"$f":"Panels!D60","v":65.304311223035199},{"$f":"Panels!C61","v":71.919536260218237},{"$f":"Panels!D61","v":16.725337957293867},{"$f":"(X18-V18)/(W18-U18)","v":-11.953652724201044},{"$f":"(X18*U18-V18*W18)/(U18-W18)","v":876.42649849752718}]
[null,5,{"$f":"AA22","v":65.669173817327362},{"$f":"AB22","v":91.440000000000012},null,{"$f":"IF(TH!$H$20=\"x\",C19,0)","v":0},{"$f":"IF(TH!$H$20=\"x\",D19,0)","v":0},null,null,null,null,null,null,null,null,null,null,null,null,{"$f":"Panels!A18","v":"Panel C (sides)"},{"$f":"Panels!C20","v":0},{"$f":"Panels!D20","v":0},{"$f":"Panels!C21","v":91.44},{"$f":"Panels!D21","v":0},{"$f":"(X19-V19)/(W19-U19)","v":0},{"$f":"(X19*U19-V19*W19)/(U19-W19)","v":0},{"$f":"(Z18-Z19)/(Y19-Y18)","v":73.318718446884247},{"$f":"AA19*Y19+Z19","v":0}]
[]
[null,null,null,null,null,null,null,null,null,null,null,null,null,null,null,null,null,null,null,{"$f":"T18","v":"Panel J (5th inside)"},{"$f":"U18","v":67.855592427602986},{"$f":"V18","v":65.304311223035199},71.919536260218237,16.725337957293867,{"$f":"(X21-V21)/(W21-U21)","v":-11.953652724201044},{"$f":"(X21*U21-V21*W21)/(U21-W21)","v":876.42649849752718}]
[null,6,null,null,null,null,null,null,null,null,null,null,null,null,null,null,null,null,null,{"$f":"T19","v":"Panel C (sides)"},{"$f":"Panels!C18","v":91.44},{"$f":"Panels!D18","v":91.44},{"$f":"Panels!C19","v":0},{"$f":"Panels!D19","v":91.44},{"$f":"(X22-V22)/(W22-U22)","v":0},{"$f":"(X22*U22-V22*W22)/(U22-W22)","v":91.440000000000012},{"$f":"(Z21-Z22)/(Y22-Y21)","v":65.669173817327362},{"$f":"AA22*Y22+Z22","v":91.440000000000012}]
[]
[null,null,{"$f":"(D24-Panels!D51)*(Panels!C50-Panels!C51)/(Panels!D50-Panels!D51)+Panels!C51","v":47.347047943995584},{"$f":"Panels!D20","v":0},null,{"$f":"IF(TH!$H$20=\"x\",C24,0)","v":0},{"$f":"IF(TH!$H$20=\"x\",D24,0)","v":0}]
[null,7,{"$f":"(D25-Panels!D51)*(Panels!C50-Panels!C51)/(Panels!D50-Panels!D51)+Panels!C51","v":39.69750331443872},{"$f":"Panels!D19","v":91.44},null,{"$f":"IF(TH!$H$20=\"x\",C25,0)","v":0},{"$f":"IF(TH!$H$20=\"x\",D25,0)","v":0}]
[]
[]
[null,8]
[]
[]
[null,9]